Felt | Verdi |
AlreadyApplied | True |
Aperture | 1.4 |
ApertureValue | 1.4 |
ApproximateFocusDistance | 1.26 |
AutoLateralCA | 0 |
AutoWhiteVersion | 134348800 |
BitsPerSample | 8 |
Blacks2012 | -69 |
BlueHue | 0 |
BlueSaturation | 0 |
CameraProfile | Adobe Standard |
CFAPattern | [Red,Green][Green,Blue] |
CircleOfConfusion | 0.030 mm |
Clarity2012 | +51 |
ColorComponents | 1 |
ColorNoiseReduction | 25 |
ColorNoiseReductionDetail | 50 |
ColorNoiseReductionSmoothness | 50 |
ColorTemperature | 10749 |
Contrast | Normal |
Contrast2012 | +25 |
ConvertToGrayscale | True |
CreateDate (1) | 2014:04:21 13:02:00.20 |
CreateDate | 2014:04:21 13:02:00 |
CreatorTool | Adobe Photoshop Lightroom 5.4 (Macintosh) |
CropAngle | 0 |
CropBottom | 1 |
CropConstrainToWarp | 0 |
CropLeft | 0.1916 |
CropRight | 0.781232 |
CropTop | 0.147355 |
CustomRendered | Normal |
DateCreated (1) | 2014:04:21 |
DateCreated | 2014:04:21 13:02:00.20 |
DateTimeOriginal | 2014:04:21 13:02:00 |
DigitalZoomRatio | 1 |
DOF | 0.017 m (1.251 - 1.269 m) |
Exposure2012 | -0.35 |
ExposureCompensation | 0 |
ExposureMode | Manual |
ExposureProgram | Manual |
ExposureTime | 1/160 |
Flash | Off, Did not fire |
FNumber | 1.4 |
FocalLength | 85.0 mm |
FocalLength35efl | 85.0 mm (35 mm equivalent: 85.0 mm) |
FocalLengthIn35mmFormat | 85 mm |
Format | image/jpeg |
FOV | 23.9 deg |
GainControl | None |
GrainAmount | 0 |
GrayMixerAqua | -20 |
GrayMixerBlue | +2 |
GrayMixerGreen | -21 |
GrayMixerMagenta | +6 |
GrayMixerOrange | -8 |
GrayMixerPurple | +11 |
GrayMixerRed | +2 |
GrayMixerYellow | -14 |
GreenHue | 0 |
GreenSaturation | 0 |
HasCrop | True |
HasSettings | True |
Highlights2012 | 0 |
HyperfocalDistance | 171.76 m |
ImageHeight | 3424 |
ImageNumber | 10743 |
ImageSize | 3547x3424 |
ImageWidth | 3547 |
ISO | 100 |
Lens | 85.0 mm f/1.4 |
LensID (1) | 174 |
LensID | AF-S Nikkor 85mm f/1.4G |
LensInfo | 85mm f/1.4 |
LensManualDistortionAmount | 0 |
LensModel | 85.0 mm f/1.4 |
LensProfileChromaticAberrationScale | 100 |
LensProfileDistortionScale | 100 |
LensProfileEnable | 0 |
LensProfileFilename | NIKON D3X (Nikon AF-S NIKKOR 85mm f1.4G) - RAW.lcp |
LensProfileName | Adobe (Nikon AF-S NIKKOR 85mm f/1.4G) |
LensProfileSetup | LensDefaults |
LensProfileVignettingScale | 100 |
LightSource | Cloudy |
LightValue | 8.3 |
LuminanceSmoothing | 0 |
Make | NIKON CORPORATION |
MaxApertureValue | 1.4 |
Megapixels | 12.1 |
MeteringMode | Spot |
Model | NIKON D600 |
ModifyDate (1) | 2014:05:12 20:14:22+02:00 |
ModifyDate | 2014:05:12 20:14:22 |
ParametricDarks | -7 |
ParametricHighlights | +24 |
ParametricHighlightSplit | 75 |
ParametricLights | 0 |
ParametricMidtoneSplit | 50 |
ParametricShadows | 0 |
ParametricShadowSplit | 25 |
PerspectiveAspect | 0 |
PerspectiveHorizontal | 0 |
PerspectiveRotate | 0.0 |
PerspectiveScale | 100 |
PerspectiveUpright | 0 |
PerspectiveVertical | 0 |
PostCropVignetteAmount | 0 |
ProcessVersion | 6.7 |
ProfileDescription | sRGB IEC61966-2.1 |
RedHue | 0 |
RedSaturation | 0 |
Saturation | Normal |
ScaleFactor35efl | 1.0 |
SceneCaptureType | Landscape |
SceneType | Directly photographed |
SensingMethod | One-chip color area |
SensitivityType | Recommended Exposure Index |
SerialNumber | 6060343 |
Shadows2012 | +79 |
ShadowTint | 0 |
SharpenDetail | 100 |
SharpenEdgeMasking | 47 |
SharpenRadius | +3.0 |
Sharpness (1) | 110 |
Sharpness | Normal |
ShutterSpeed | 1/160 |
ShutterSpeedValue | 1/160 |
Software | Adobe Photoshop Lightroom 5.4 (Macintosh) |
SplitToningBalance | 0 |
SplitToningHighlightHue | 0 |
SplitToningHighlightSaturation | 0 |
SplitToningShadowHue | 0 |
SplitToningShadowSaturation | 0 |
SubjectDistanceRange | Unknown |
Tint | 0 |
ToneCurve | 0, 0, 255, 255 |
ToneCurveBlue | 0, 0, 255, 255 |
ToneCurveGreen | 0, 0, 255, 255 |
ToneCurveName | Linear |
ToneCurveName2012 | Linear |
ToneCurvePV2012 | 0, 0, 255, 255 |
ToneCurvePV2012Blue | 0, 0, 255, 255 |
ToneCurvePV2012Green | 0, 0, 255, 255 |
ToneCurvePV2012Red | 0, 0, 255, 255 |
ToneCurveRed | 0, 0, 255, 255 |
Version | 8.4 |
VignetteAmount | 0 |
WhiteBalance (1) | Custom |
WhiteBalance | Manual |
Whites2012 | -70 |