Felt | Verdi |
AEBBracketValue | 0 |
AFAreaHeights | 172 172 172 117 224 117 172 172 172 0 0 0 0 0 0 0 0 0 0 0 0 0 0 0 0 0 0 0 0 0 0 |
AFAreaMode | Auto |
AFAreaWidths | 129 129 129 181 222 181 129 129 129 0 0 0 0 0 0 0 0 0 0 0 0 0 0 0 0 0 0 0 0 0 0 |
AFAreaXPositions | -1368 -819 -819 0 0 0 819 819 1368 0 0 0 0 0 0 0 0 0 0 0 0 0 0 0 0 0 0 0 0 0 0 |
AFAreaYPositions | 0 387 -387 763 0 -763 387 -387 0 0 0 0 0 0 0 0 0 0 0 0 0 0 0 0 0 0 0 0 0 0 0 |
AFAssistBeam | Emits |
AFImageHeight | 3456 |
AFImageWidth | 5184 |
AFMicroAdjMode | Disable |
AFMicroAdjValue | 0 |
AFPointsInFocus | 0,1,2,4,5,6,7,8 |
AFPointsSelected | 0,1,2,3,4,5,6,7,8 |
AlreadyApplied | False |
AmbienceSelection | Standard |
Aperture | 5.6 |
ApertureValue | 5.7 |
AspectRatio | 3:2 |
AutoExposureBracketing | Off |
AutoISO | 100 |
AutoLateralCA | 0 |
AutoLightingOptimizer | Off |
AverageBlackLevel | 2048 2048 2048 2048 |
BaseISO | 400 |
BitsPerSample | 8 |
BlackMaskBottomBorder | 0 |
BlackMaskLeftBorder | 0 |
BlackMaskRightBorder | 0 |
BlackMaskTopBorder | 0 |
Blacks2012 | +14 |
BlueBalance | 1.667969 |
BlueHue | 0 |
BlueSaturation | 0 |
BracketMode | Off |
BracketShotNumber | 0 |
BracketValue | 0 |
BulbDuration | 0 |
CameraOrientation | Rotate 90 CW |
CameraProfile | Embedded |
CameraTemperature | 24 C |
CameraType | EOS High-end |
CanonExposureMode | Manual |
CanonFirmwareVersion | Firmware Version 1.1.1 |
CanonFlashMode | Off |
CanonImageHeight | 3456 |
CanonImageSize | Large |
CanonImageType | Canon EOS 700D |
CanonImageWidth | 5184 |
CanonModelID | EOS Rebel T5i / 700D / Kiss X7i |
ChromaticAberrationCorr | Off |
ChromaticAberrationSetting | Off |
CircleOfConfusion | 0.019 mm |
Clarity2012 | +20 |
ColorComponents | 3 |
ColorDataVersion | 10 (1DX/5DmkIII/6D/70D/100D/650D/700D/M) |
ColorNoiseReduction | 0 |
ColorSpace | sRGB |
ColorTempAsShot | 4674 |
ColorTempAuto | 4674 |
ColorTempCloudy | 6000 |
ColorTempDaylight | 5200 |
ColorTemperature | 5200 |
ColorTempFlash | 6250 |
ColorTempFluorescent | 3720 |
ColorTempKelvin | 5189 |
ColorTempMeasured | 4674 |
ColorTempShade | 7000 |
ColorTempTungsten | 3200 |
ColorTone | Normal |
ColorToneAuto | 0 |
ColorToneFaithful | 0 |
ColorToneLandscape | 0 |
ColorToneNeutral | 0 |
ColorTonePortrait | 0 |
ColorToneStandard | 0 |
ColorToneUserDef1 | 0 |
ColorToneUserDef2 | 0 |
ColorToneUserDef3 | 0 |
ContinuousDrive | Continuous |
Contrast | Normal |
Contrast2012 | +19 |
ContrastAuto | 0 |
ContrastFaithful | 0 |
ContrastLandscape | 0 |
ContrastMonochrome | 0 |
ContrastNeutral | 0 |
ContrastPortrait | 0 |
ContrastStandard | 0 |
ContrastUserDef1 | 0 |
ContrastUserDef2 | 0 |
ContrastUserDef3 | 0 |
ControlMode | Camera Local Control |
ConvertToGrayscale | False |
CreateDate (1) | 2014:05:17 09:46:07.06 |
CreateDate | 2014:05:17 09:46:07 |
CropBottomMargin | 0 |
CropLeftMargin | 0 |
CroppedImageHeight | 3456 |
CroppedImageLeft | 0 |
CroppedImageTop | 0 |
CroppedImageWidth | 5184 |
CropRightMargin | 0 |
CropTopMargin | 0 |
CustomPictureStyleFileName | |
CustomRendered | Normal |
DateCreated (1) | 2014:05:17 |
DateCreated | 2014:05:17 09:46:07.06 |
DateTimeOriginal | 2014:05:17 09:46:07 |
DaylightSavings | Off |
DefringeGreenAmount | 0 |
DefringeGreenHueHi | 60 |
DefringeGreenHueLo | 40 |
DefringePurpleAmount | 0 |
DefringePurpleHueHi | 70 |
DefringePurpleHueLo | 30 |
DigitalGain | 0 |
DigitalZoom | None |
DistortionCorrection | Off |
DistortionCorrectionValue | 0 |
DOF | inf (0.00 m - inf) |
DriveMode | Continuous Shooting |
EasyMode | Manual |
ExifImageHeight | 3456 |
ExifImageWidth | 5184 |
Exposure2012 | -0.30 |
ExposureCompensation | 0 |
ExposureLevelIncrements | 1/3 Stop |
ExposureMode | Manual |
ExposureProgram | Manual |
ExposureTime (1) | 1/203 |
ExposureTime (2) | 1/197 |
ExposureTime | 1/200 |
FileIndex | 8644 |
FileNumber | 100-8644 |
FilterEffectAuto | n/a |
FilterEffectMonochrome | None |
FilterEffectUserDef1 | None |
FilterEffectUserDef2 | None |
FilterEffectUserDef3 | None |
Firmware | 1.1.1 |
FirmwareVersion | 1.1.1 |
FisheyeFilter | Off |
Flash | Off, Did not fire |
FlashActivity | 0 |
FlashBits | (none) |
FlashCompensation | 0 |
FlashExposureComp | 0 |
FlashExposureLock | Off |
FlashGuideNumber | 0 |
FNumber (2) | 5.7 |
FNumber | 5.6 |
FocalLength (2) | 300 mm |
FocalLength | 300.0 mm |
FocalLength35efl | 300.0 mm (35 mm equivalent: 475.4 mm) |
FocalUnits | 1/mm |
FocusDistanceLower | 0 m |
FocusDistanceUpper | 0 m |
FocusMode | One-shot AF |
FocusRange | Not Known |
Format | image/jpeg |
FOV | 4.3 deg |
GPSVersionID | 2.3.0.0 |
GrainAmount | 0 |
GrainyBWFilter | Off |
GreenHue | 0 |
GreenSaturation | 0 |
HasCrop | False |
HasSettings | True |
HDR | Off |
HDREffect | Natural |
HighISONoiseReduction | Standard |
Highlights2012 | -27 |
HighlightTonePriority (1) | Disable |
HighlightTonePriority | Off |
HueAdjustmentAqua | 0 |
HueAdjustmentBlue | 0 |
HueAdjustmentGreen | 0 |
HueAdjustmentMagenta | 0 |
HueAdjustmentOrange | 0 |
HueAdjustmentPurple | 0 |
HueAdjustmentRed | 0 |
HueAdjustmentYellow | 0 |
HyperfocalDistance | 847.56 m |
ImageHeight | 3456 |
ImageNumber | 0 |
ImageSize | 5184x3456 |
ImageWidth | 5184 |
IncrementalTemperature | 0 |
IncrementalTint | 0 |
InternalSerialNumber | DA2820693 |
ISO | 400 |
ISOExpansion | Off |
LCDDisplayAtPowerOn | Display |
Lens (1) | EF75-300mm f/4-5.6 USM |
Lens | 75.0 - 300.0 mm |
Lens35efl | 75.0 - 300.0 mm (35 mm equivalent: 118.8 - 475.4 mm) |
LensID (1) | 200 |
LensID | Canon EF 75-300mm f/4-5.6 USM |
LensInfo (1) | 75-300mm f/? |
LensInfo | 75-300mm f/0 |
LensManualDistortionAmount | 0 |
LensModel | EF75-300mm f/4-5.6 USM |
LensProfileEnable | 0 |
LensProfileSetup | LensDefaults |
LensSerialNumber | 0000000000 |
LensType | Canon EF 75-300mm f/4-5.6 USM |
LightValue | 10.6 |
LinearityUpperMargin | 10000 |
LiveViewShooting | Off |
LongExposureNoiseReduction | Off |
LuminanceAdjustmentAqua | 0 |
LuminanceAdjustmentBlue | 0 |
LuminanceAdjustmentGreen | 0 |
LuminanceAdjustmentMagenta | 0 |
LuminanceAdjustmentOrange | 0 |
LuminanceAdjustmentPurple | 0 |
LuminanceAdjustmentRed | 0 |
LuminanceAdjustmentYellow | 0 |
LuminanceSmoothing | 0 |
MacroMode | Normal |
Make | Canon |
ManualFlashOutput | n/a |
MaxAperture | 5.7 |
MaxApertureValue | 5.7 |
MaxFocalLength | 300 mm |
MeasuredEV | 11.62 |
MeasuredEV2 | 11.875 |
MeasuredRGGB | 653 1024 1024 505 |
Megapixels | 17.9 |
MeteringMode (1) | Multi-segment |
MeteringMode | Evaluative |
MinAperture | 43 |
MinFocalLength | 75 mm |
MiniatureFilter | Off |
MiniatureFilterOrientation | Horizontal |
MiniatureFilterParameter | 0 |
MiniatureFilterPosition | 0 |
MirrorLockup | Disable |
Model | Canon EOS 700D |
ModifyDate (1) | 2014:05:17 09:46:07.06 |
ModifyDate | 2014:05:17 09:46:07 |
NDFilter | n/a |
NormalWhiteLevel | 14580 |
NumAFPoints | 31 |
OpticalZoomCode | n/a |
Orientation | Rotate 90 CW |
OriginalImageHeight | 3456 |
OriginalImageWidth | 5184 |
OwnerName | |
PaintingFilter | Off |
ParametricDarks | 0 |
ParametricHighlights | 0 |
ParametricHighlightSplit | 75 |
ParametricLights | 0 |
ParametricMidtoneSplit | 50 |
ParametricShadows | 0 |
ParametricShadowSplit | 25 |
PerChannelBlackLevel | 2047 2047 2048 2048 |
PeripheralIlluminationCorr | Off |
PeripheralLighting | Off |
PeripheralLightingSetting | Off |
PeripheralLightingValue | 0 |
PerspectiveHorizontal | 0 |
PerspectiveRotate | 0.0 |
PerspectiveScale | 100 |
PerspectiveVertical | 0 |
PictureStyle | Auto |
PictureStylePC | None; None; None |
PictureStyleUserDef | Auto; Auto; Auto |
PostCropVignetteAmount | 0 |
ProcessVersion | 6.7 |
Quality | Fine |
Rating | 0 |
RawFileName | IMG_8644.JPG |
RawJpgSize | Large |
RawMeasuredRGGB | 605100 903605 911355 458291 |
RecommendedExposureIndex | 400 |
RecordMode | JPEG |
RedBalance | 1.943359 |
RedHue | 0 |
RedSaturation | 0 |
Saturation (1) | +14 |
Saturation | Normal |
SaturationAdjustmentAqua | 0 |
SaturationAdjustmentBlue | 0 |
SaturationAdjustmentGreen | 0 |
SaturationAdjustmentMagenta | 0 |
SaturationAdjustmentOrange | 0 |
SaturationAdjustmentPurple | 0 |
SaturationAdjustmentRed | 0 |
SaturationAdjustmentYellow | 0 |
SaturationAuto | 0 |
SaturationFaithful | 0 |
SaturationLandscape | 0 |
SaturationNeutral | 0 |
SaturationPortrait | 0 |
SaturationStandard | 0 |
SaturationUserDef1 | 0 |
SaturationUserDef2 | 0 |
SaturationUserDef3 | 0 |
ScaleFactor35efl | 1.6 |
SceneCaptureType | Standard |
SelfTimer | Off |
SensitivityType | Recommended Exposure Index |
SensorBlueLevel | 0 |
SensorBottomBorder | 3519 |
SensorHeight | 3528 |
SensorLeftBorder | 84 |
SensorRedLevel | 0 |
SensorRightBorder | 5267 |
SensorTopBorder | 64 |
SensorWidth | 5280 |
SequenceNumber | 0 |
SerialNumber | 093031006327 |
SetButtonWhenShooting | Normal (disabled) |
Shadows2012 | -28 |
ShadowTint | 0 |
SharpenDetail | 25 |
SharpenEdgeMasking | 0 |
SharpenRadius | +1.0 |
Sharpness (1) | 0 |
Sharpness | 3 |
SharpnessAuto | 3 |
SharpnessFaithful | 0 |
SharpnessFrequency | n/a |
SharpnessLandscape | 4 |
SharpnessMonochrome | 3 |
SharpnessNeutral | 0 |
SharpnessPortrait | 2 |
SharpnessStandard | 3 |
SharpnessUserDef1 | 3 |
SharpnessUserDef2 | 3 |
SharpnessUserDef3 | 3 |
ShootingMode | Manual |
ShutterButtonAFOnButton | Metering + AF start |
ShutterSpeed | 1/200 |
ShutterSpeedValue | 1/197 |
SlowShutter | None |
SoftFocusFilter | Off |
SpecularWhiteLevel | 15092 |
SplitToningBalance | 0 |
SplitToningHighlightHue | 0 |
SplitToningHighlightSaturation | 0 |
SplitToningShadowHue | 0 |
SplitToningShadowSaturation | 0 |
TargetAperture | 5.7 |
TargetExposureTime | 1/203 |
TimeZone | +00:00 |
TimeZoneCity | London |
ToneCurve | Standard |
ToneCurveName2012 | Linear |
ToneCurvePV2012 | 0, 0, 255, 255 |
ToneCurvePV2012Blue | 0, 0, 255, 255 |
ToneCurvePV2012Green | 0, 0, 255, 255 |
ToneCurvePV2012Red | 0, 0, 255, 255 |
ToningEffectAuto | n/a |
ToningEffectMonochrome | None |
ToningEffectUserDef1 | None |
ToningEffectUserDef2 | None |
ToningEffectUserDef3 | None |
ToyCameraFilter | Off |
UserDef1PictureStyle | Auto |
UserDef2PictureStyle | Auto |
UserDef3PictureStyle | Auto |
ValidAFPoints | 9 |
Version | 7.4 |
Vibrance | +22 |
VignetteAmount | 0 |
VignettingCorrVersion | 0 |
VRDOffset | 0 |
WatercolorFilter | Off |
WB_RGGBLevels | 1990 1024 1024 1708 |
WB_RGGBLevelsAsShot | 1990 1024 1024 1708 |
WB_RGGBLevelsAuto | 1990 1024 1024 1708 |
WB_RGGBLevelsCloudy | 2226 1024 1024 1425 |
WB_RGGBLevelsDaylight | 2072 1024 1024 1551 |
WB_RGGBLevelsFlash | 2310 1024 1024 1411 |
WB_RGGBLevelsFluorescent | 1805 1024 1024 2222 |
WB_RGGBLevelsKelvin | 2072 1024 1024 1551 |
WB_RGGBLevelsMeasured | 1990 1024 1024 1708 |
WB_RGGBLevelsShade | 2394 1024 1024 1317 |
WB_RGGBLevelsTungsten | 1483 1024 1024 2356 |
WBBracketMode | Off |
WBBracketValueAB | 0 |
WBBracketValueGM | 0 |
WBShiftAB | 0 |
WBShiftGM | 0 |
WhiteBalance (3) | As Shot |
WhiteBalance | Auto |
WhiteBalanceBlue | 0 |
WhiteBalanceRed | 0 |
Whites2012 | +24 |
ZoomSourceWidth | 0 |
ZoomTargetWidth | 0 |