Felt | Verdi |
AlreadyApplied | True |
Aperture | 4.0 |
ApertureValue | 4.0 |
ApproximateFocusDistance | 2 |
AutoLateralCA | 0 |
AutoWhiteVersion | 134348800 |
BitsPerSample (1) | 8 8 8 8 |
BitsPerSample | 8 |
BlueHue | 0 |
BlueSaturation | 0 |
Brightness | +32 |
CameraProfile | Kodak TRI-X 400 |
CFAPattern | [Red,Green][Green,Blue] |
CircleOfConfusion | 0.030 mm |
Clarity | 0 |
ColorComponents | 1 |
ColorMode | Grayscale |
ColorNoiseReduction | 25 |
ColorNoiseReductionDetail | 50 |
ColorNoiseReductionSmoothness | 50 |
ColorSpace | Uncalibrated |
ColorTemperature | 4850 |
ColorTransform | Unknown (RGB or CMYK) |
Contrast (1) | +49 |
Contrast | Normal |
ConvertToGrayscale | True |
CreateDate | 2014:04:06 12:24:56 |
CreatorTool | Adobe Photoshop CS6 (Macintosh) |
CropAngle | 0 |
CropBottom | 1 |
CropConstrainToWarp | 0 |
CropLeft | 0 |
CropRight | 0.927269 |
CropTop | 0.072731 |
CustomRendered | Normal |
DateCreated (1) | 2014:04:06 |
DateCreated | 2014:04:06 12:24:56.014 |
DateTimeOriginal | 2014:04:06 12:24:56 |
DigitalZoomRatio | 1 |
DOF | 0.19 m (1.91 - 2.10 m) |
ExifImageHeight | 630 |
ExifImageWidth | 947 |
Exposure | 0.00 |
ExposureCompensation | 0 |
ExposureMode | Manual |
ExposureProgram | Manual |
ExposureTime | 1/100 |
FillLight | 0 |
Flash | No Flash |
FNumber | 4.0 |
FocalLength | 70.0 mm |
FocalLength35efl | 70.0 mm (35 mm equivalent: 70.0 mm) |
FocalLengthIn35mmFormat | 70 mm |
Format | image/jpeg |
FOV | 28.8 deg |
GainControl | High gain up |
GrainAmount | 60 |
GrainFrequency | 45 |
GrainSize | 22 |
GrayMixerAqua | -18 |
GrayMixerBlue | +10 |
GrayMixerGreen | -20 |
GrayMixerMagenta | +15 |
GrayMixerOrange | -6 |
GrayMixerPurple | +20 |
GrayMixerRed | -10 |
GrayMixerYellow | -15 |
GreenHue | 0 |
GreenSaturation | 0 |
HasCrop | True |
HasSettings | True |
HighlightRecovery | 34 |
HyperfocalDistance | 40.77 m |
ICCProfileName | Gray Gamma 2.2 |
ImageHeight (1) | 2626 |
ImageHeight | 630 |
ImageNumber | 49256 |
ImageSize | 947x630 |
ImageWidth (1) | 3946 |
ImageWidth | 947 |
ISO | 2500 |
Lens | 24.0-70.0 mm f/2.8 |
LensID (1) | 147 |
LensID | AF-S Zoom-Nikkor 24-70mm f/2.8G ED |
LensInfo | 24-70mm f/2.8 |
LensManualDistortionAmount | 0 |
LensModel | 24.0-70.0 mm f/2.8 |
LensProfileEnable | 0 |
LensProfileSetup | LensDefaults |
LightSource | Fine Weather |
LightValue | 6.0 |
LuminanceSmoothing | 0 |
Make | NIKON CORPORATION |
MaxApertureValue | 2.8 |
Megapixels | 0.597 |
MeteringMode | Spot |
Model | NIKON D700 |
ModifyDate (1) | 2014:05:21 17:54:30+02:00 |
ModifyDate | 2014:05:21 17:54:30 |
Orientation | Horizontal (normal) |
PaintCorrectionActive | true |
PaintCorrectionAmount | 1.000000 |
PaintCorrectionBrightness | -0.059007 |
PaintCorrectionClarity | 0.000000 |
PaintCorrectionContrast | 0.000000 |
PaintCorrectionExposure (1) | 0.440625 |
PaintCorrectionExposure (2) | -0.292555 |
PaintCorrectionExposure (3) | -0.184375 |
PaintCorrectionExposure (4) | -0.169118 |
PaintCorrectionExposure (5) | -0.116085 |
PaintCorrectionExposure (6) | 0.068290 |
PaintCorrectionExposure | -0.114522 |
PaintCorrectionHue | 0.000000 |
PaintCorrectionMaskCenterWeight (7) | 0.151026 |
PaintCorrectionMaskCenterWeight | 0.000000 |
PaintCorrectionMaskFlow (12) | 0.284526 |
PaintCorrectionMaskFlow | 1.000000 |
PaintCorrectionMaskRadius (14) | 0.020585 |
PaintCorrectionMaskRadius (22) | 0.074539 |
PaintCorrectionMaskRadius (24) | 0.005987 |
PaintCorrectionMaskRadius (25) | 0.035446 |
PaintCorrectionMaskRadius (6) | 0.050247 |
PaintCorrectionMaskRadius (9) | 0.070664 |
PaintCorrectionMaskRadius | 0.015827 |
PaintCorrectionMaskValue (14) | 1.000000 |
PaintCorrectionMaskValue | 0.000000 |
PaintCorrectionMaskWhat | Mask/Paint |
PaintCorrectionSaturation | 0.000000 |
PaintCorrectionSharpness | 0.000000 |
PaintCorrectionWhat | Correction |
ParametricDarks | -40 |
ParametricHighlights | 0 |
ParametricHighlightSplit | 75 |
ParametricLights | +5 |
ParametricMidtoneSplit | 50 |
ParametricShadows | -25 |
ParametricShadowSplit | 25 |
PerspectiveAspect | 0 |
PerspectiveHorizontal | 0 |
PerspectiveRotate | 0.0 |
PerspectiveScale | 100 |
PerspectiveUpright | 0 |
PerspectiveVertical | 0 |
PhotographicSensitivity | 2500 |
PhotometricInterpretation | BlackIsZero |
PostCropVignetteAmount | 0 |
ProcessVersion | 5.7 |
ProfileDescription | Gray Gamma 2.2 |
Rating | 5 |
RawFileName | _DSC8384.NEF |
RedHue | 0 |
RedSaturation | 0 |
SamplesPerPixel | 4 |
Saturation | Normal |
ScaleFactor35efl | 1.0 |
SceneCaptureType | Standard |
SceneType | Directly photographed |
SensingMethod | One-chip color area |
SerialNumber | 2327952 |
Shadows | 32 |
ShadowTint | 0 |
SharpenDetail | 25 |
SharpenEdgeMasking | 0 |
SharpenRadius | +1.5 |
Sharpness (1) | 20 |
Sharpness | Normal |
ShutterSpeed | 1/100 |
ShutterSpeedValue | 1/100 |
Software | Adobe Photoshop CS6 (Macintosh) |
SplitToningBalance | 0 |
SplitToningHighlightHue | 200 |
SplitToningHighlightSaturation | 0 |
SplitToningShadowHue | 25 |
SplitToningShadowSaturation | 0 |
SubjectDistance | 2 m |
SubjectDistanceRange | Unknown |
Tint | -5 |
ToneCurve | 0, 0, 255, 240 |
ToneCurveBlue | 0, 0, 255, 255 |
ToneCurveGreen | 0, 0, 255, 255 |
ToneCurveName | Custom |
ToneCurveRed | 0, 0, 255, 255 |
URL_List | |
Version | 8.3 |
VignetteAmount | 0 |
WhiteBalance (1) | As Shot |
WhiteBalance | Manual |