Felt | Verdi |
AlreadyApplied | True |
Aperture | 8.0 |
ApertureValue | 8.0 |
ApproximateFocusDistance | 2.1 |
Artist | Eric Fagerheim |
AuthorsPosition | photographer |
AutoLateralCA | 0 |
AutoWhiteVersion | 134348800 |
BitsPerSample | 8 |
Blacks2012 | 0 |
BlueHue | +11 |
BlueSaturation | -21 |
By-line | Eric Fagerheim |
By-lineTitle | photographer |
CameraProfile | Embedded |
CircleOfConfusion | 0.007 mm |
Clarity2012 | 0 |
ColorComponents | 3 |
ColorNoiseReduction | 0 |
ColorTransform | YCbCr |
Contrast2012 | +59 |
ConvertToGrayscale | True |
Copyright | www.fotofashion.no |
CopyrightFlag | True |
CopyrightNotice | www.fotofashion.no |
CreateDate | 2014:06:10 15:48:19 |
Creator | Eric Fagerheim |
CreatorAddress | Pir II 3 |
CreatorCity | Trondheim |
CreatorCountry | Norway |
CreatorPostalCode | 7010 |
CreatorTool | Adobe Photoshop Lightroom 5.5 (Windows) |
CreatorWorkEmail | mail@fotofashion.no |
CreatorWorkURL | www.fotofashion.no |
CropAngle | -1.95878 |
CropBottom | 0.963828 |
CropConstrainToWarp | 0 |
CropLeft | 0 |
CropRight | 1 |
CropTop | 0.036172 |
CustomRendered | Normal |
DateCreated (1) | 2013:06:02 |
DateCreated | 2013:06:02 17:56:45 |
DateTimeOriginal | 2014:06:10 15:48:19 |
DOF | 0.07 m (2.07 - 2.14 m) |
Exposure2012 | -0.01 |
ExposureCompensation | 0 |
ExposureMode | Manual |
ExposureProgram | Manual |
ExposureTime | 1/160 |
Firmware | 1.1.3 |
Flash | Off, Did not fire |
FlashCompensation | 0 |
FNumber | 8.0 |
FocalLength | 80.0 mm |
FocalLength35efl | 80.0 mm (35 mm equivalent: 367.7 mm) |
Format | image/jpeg |
FOV | 5.6 deg |
GrainAmount | 38 |
GrainFrequency | 50 |
GrainSize | 25 |
GrayMixerAqua | -10 |
GrayMixerBlue | +19 |
GrayMixerGreen | -9 |
GrayMixerMagenta | +30 |
GrayMixerOrange | -5 |
GrayMixerPurple | +25 |
GrayMixerRed | 0 |
GrayMixerYellow | 0 |
GreenHue | +16 |
GreenSaturation | +51 |
HasCrop | True |
HasSettings | True |
Headline | Din fotograf i Trondheim - Fotofashion.no |
Highlights2012 | -3 |
HyperfocalDistance | 122.37 m |
ImageHeight | 1280 |
ImageNumber | 0 |
ImageSize | 794x1280 |
ImageWidth | 794 |
IncrementalTemperature | 0 |
IncrementalTint | 0 |
ISO | 100 |
Keywords | beauty, din fotograf, fashion, fashion shoot, fotofashion, fotograf trondheim, shoot, studio |
Label | Fotofashion |
Lens | EF70-200mm f/2.8L IS USM |
LensID (1) | 224 |
LensID | Canon EF 70-200mm f/2.8L IS USM |
LensInfo | 70-200mm f/? |
LensManualDistortionAmount | 0 |
LensModel | EF70-200mm f/2.8L IS USM |
LensProfileEnable | 0 |
LensProfileSetup | LensDefaults |
LensSerialNumber | 0000000000 |
LightValue | 13.3 |
LuminanceSmoothing | 0 |
Make | Canon |
Marked | True |
MaxApertureValue | 2.8 |
Megapixels | 1.0 |
MeteringMode | Multi-segment |
Model | Canon EOS 5D Mark III |
ModifyDate (1) | 2014:07:07 23:16:15+02:00 |
ModifyDate | 2014:07:07 23:16:15 |
ObjectName | www.fotofashion.no |
ParametricDarks | -3 |
ParametricHighlights | 0 |
ParametricHighlightSplit | 75 |
ParametricLights | 0 |
ParametricMidtoneSplit | 50 |
ParametricShadows | -10 |
ParametricShadowSplit | 25 |
PerspectiveAspect | 0 |
PerspectiveHorizontal | 0 |
PerspectiveRotate | 0.0 |
PerspectiveScale | 100 |
PerspectiveUpright | 0 |
PerspectiveVertical | 0 |
PostCropVignetteAmount | 0 |
ProcessVersion | 6.7 |
ProfileDescription | sRGB IEC61966-2.1 |
Rating | 1 |
RecommendedExposureIndex | 100 |
RedHue | +23 |
RedSaturation | +10 |
Rights | www.fotofashion.no |
ScaleFactor35efl | 4.6 |
SceneCaptureType | Standard |
SensitivityType | Recommended Exposure Index |
SerialNumber | 023021000616 |
Shadows2012 | +3 |
ShadowTint | +4 |
SharpenDetail | 25 |
SharpenEdgeMasking | 0 |
SharpenRadius | +1.0 |
Sharpness | 0 |
ShutterSpeed | 1/160 |
ShutterSpeedValue | 1/160 |
Software | Adobe Photoshop Lightroom 5.5 (Windows) |
SplitToningBalance | 0 |
SplitToningHighlightHue | 11 |
SplitToningHighlightSaturation | 1 |
SplitToningShadowHue | 353 |
SplitToningShadowSaturation | 2 |
Subject | beauty, din fotograf, fashion, fashion shoot, fotofashion, fotograf trondheim, shoot, studio |
Title | www.fotofashion.no |
ToneCurve | 0, 0, 255, 255 |
ToneCurveBlue | 0, 0, 255, 255 |
ToneCurveGreen | 0, 0, 255, 255 |
ToneCurveName | Linear |
ToneCurveName2012 | Linear |
ToneCurvePV2012 | 0, 0, 255, 255 |
ToneCurvePV2012Blue | 0, 0, 255, 255 |
ToneCurvePV2012Green | 0, 0, 255, 255 |
ToneCurvePV2012Red | 0, 0, 255, 255 |
ToneCurveRed | 0, 0, 255, 255 |
URL | www.fotofashion.no |
Version | 8.5 |
VignetteAmount | 0 |
WebStatement | www.fotofashion.no |
WhiteBalance (1) | As Shot |
WhiteBalance | Auto |
Whites2012 | 0 |