Felt | Verdi |
AlreadyApplied | True |
Aperture | 22.0 |
ApertureValue | 22.0 |
Artist | LasseKristiansen |
AutoLateralCA | 0 |
AutoWhiteVersion | 134348800 |
BitsPerSample | 8 |
Blacks2012 | -96 |
BlueHue | 0 |
BlueSaturation | 0 |
By-line | LasseKristiansen |
CameraProfile | Embedded |
CircleOfConfusion | 0.020 mm |
Clarity2012 | +30 |
ColorComponents | 3 |
ColorNoiseReduction | 0 |
ColorTransform | YCbCr |
Contrast | Normal |
Contrast2012 | +50 |
ConvertToGrayscale | False |
Copyright | LasseKristiansen |
CopyrightNotice | LasseKristiansen |
CreateDate | 2014:08:24 13:57:42 |
Creator | LasseKristiansen |
CreatorTool | Adobe Photoshop Lightroom 5.3 (Macintosh) |
CropAngle | -0.08176 |
CropBottom | 0.94551 |
CropConstrainToWarp | 0 |
CropLeft | 0.000046 |
CropRight | 0.99996 |
CropTop | 0.059866 |
CustomRendered | Normal |
DateCreated (1) | 2014:08:24 |
DateCreated | 2014:08:24 13:57:42 |
DateTimeOriginal | 2014:08:24 13:57:42 |
DefringeGreenAmount | 0 |
DefringeGreenHueHi | 60 |
DefringeGreenHueLo | 40 |
DefringePurpleAmount | 0 |
DefringePurpleHueHi | 70 |
DefringePurpleHueLo | 30 |
Exposure2012 | +1.80 |
ExposureCompensation | 0 |
ExposureMode | Manual |
ExposureProgram | Manual |
ExposureTime | 0.3 |
Flash | Off, Did not fire |
FNumber | 22.0 |
FocalLength | 77.0 mm |
FocalLength35efl | 77.0 mm (35 mm equivalent: 115.0 mm) |
FocalLengthIn35mmFormat | 115 mm |
Format | image/jpeg |
FOV | 17.8 deg |
GrainAmount | 0 |
GreenHue | 0 |
GreenSaturation | 0 |
HasCrop | True |
HasSettings | True |
Highlights2012 | -58 |
HueAdjustmentAqua | 0 |
HueAdjustmentBlue | 0 |
HueAdjustmentGreen | 0 |
HueAdjustmentMagenta | 0 |
HueAdjustmentOrange | 0 |
HueAdjustmentPurple | 0 |
HueAdjustmentRed | 0 |
HueAdjustmentYellow | 0 |
HyperfocalDistance | 13.40 m |
ImageHeight | 6011 |
ImageSize | 3006x6011 |
ImageWidth | 3006 |
IncrementalTemperature | 0 |
IncrementalTint | 0 |
Instructions | 8qLQyAE+Q1eFn6eCVLIHyA |
ISO | 100 |
Lens | smc PENTAX-FA 77mm F1.8 Limited |
LensID (1) | 1048 |
LensID | smc PENTAX-FA 77mm F1.8 Limited |
LensManualDistortionAmount | 0 |
LensModel | smc PENTAX-FA 77mm F1.8 Limited |
LensProfileEnable | 0 |
LensProfileSetup | LensDefaults |
LightValue | 10.5 |
LuminanceAdjustmentAqua | 0 |
LuminanceAdjustmentBlue | +49 |
LuminanceAdjustmentGreen | 0 |
LuminanceAdjustmentMagenta | 0 |
LuminanceAdjustmentOrange | 0 |
LuminanceAdjustmentPurple | 0 |
LuminanceAdjustmentRed | 0 |
LuminanceAdjustmentYellow | 0 |
LuminanceNoiseReductionContrast | 15 |
LuminanceNoiseReductionDetail | 50 |
LuminanceSmoothing | 55 |
Make | RICOH IMAGING COMPANY, LTD. |
MaxApertureValue | 6.8 |
Megapixels | 18.1 |
MeteringMode | Multi-segment |
Model | PENTAX K-3 |
ModifyDate (1) | 2014:09:16 16:29:41+02:00 |
ModifyDate | 2014:09:16 16:29:41 |
PaintCorrectionActive | true |
PaintCorrectionAmount | 1.000000 |
PaintCorrectionBrightness | 0.000000 |
PaintCorrectionClarity2012 (1) | 1.000000 |
PaintCorrectionClarity2012 (2) | 0.387577 |
PaintCorrectionClarity2012 (3) | 0.894926 |
PaintCorrectionClarity2012 (4) | 0.147911 |
PaintCorrectionClarity2012 (5) | 0.495818 |
PaintCorrectionClarity2012 (6) | -0.123157 |
PaintCorrectionClarity2012 | 0.206373 |
PaintCorrectionContrast2012 (1) | -0.095221 |
PaintCorrectionContrast2012 (2) | 0.368333 |
PaintCorrectionContrast2012 (3) | -0.288711 |
PaintCorrectionContrast2012 (5) | 0.471200 |
PaintCorrectionContrast2012 (7) | 0.000000 |
PaintCorrectionContrast2012 | -0.130881 |
PaintCorrectionDefringe | 0.000000 |
PaintCorrectionExposure2012 (1) | 0.526838 |
PaintCorrectionExposure2012 (2) | -0.283672 |
PaintCorrectionExposure2012 (3) | 0.174860 |
PaintCorrectionExposure2012 (4) | -0.142029 |
PaintCorrectionExposure2012 (5) | -0.218399 |
PaintCorrectionExposure2012 (6) | 0.073713 |
PaintCorrectionExposure2012 | -0.567240 |
PaintCorrectionHighlights2012 (1) | 1.000000 |
PaintCorrectionHighlights2012 (3) | 0.367714 |
PaintCorrectionHighlights2012 | 0.000000 |
PaintCorrectionHue (1) | 82.882797 |
PaintCorrectionHue | 0.000000 |
PaintCorrectionLuminanceNoise | 0.000000 |
PaintCorrectionMaskCenterWeight (23) | 0.104995 |
PaintCorrectionMaskCenterWeight (56) | 0.087707 |
PaintCorrectionMaskCenterWeight (8) | 0.012732 |
PaintCorrectionMaskCenterWeight | 0.000000 |
PaintCorrectionMaskFlow (31) | 0.631937 |
PaintCorrectionMaskFlow (42) | 0.873488 |
PaintCorrectionMaskFlow (61) | 0.591353 |
PaintCorrectionMaskFlow | 1.000000 |
PaintCorrectionMaskRadius (1) | 0.072151 |
PaintCorrectionMaskRadius (15) | 0.020279 |
PaintCorrectionMaskRadius (17) | 0.032918 |
PaintCorrectionMaskRadius (18) | 0.034883 |
PaintCorrectionMaskRadius (20) | 0.014091 |
PaintCorrectionMaskRadius (28) | 0.002470 |
PaintCorrectionMaskRadius (39) | 0.000882 |
PaintCorrectionMaskRadius (44) | 0.005458 |
PaintCorrectionMaskRadius (46) | 0.065774 |
PaintCorrectionMaskRadius (5) | 0.067035 |
PaintCorrectionMaskRadius (57) | 0.045999 |
PaintCorrectionMaskRadius (64) | 0.046141 |
PaintCorrectionMaskRadius (9) | 0.025867 |
PaintCorrectionMaskRadius | 0.198425 |
PaintCorrectionMaskValue (32) | 0.490661 |
PaintCorrectionMaskValue (4) | 0.307564 |
PaintCorrectionMaskValue | 0.000000 |
PaintCorrectionMaskWhat | Mask/Paint |
PaintCorrectionMoire | 0.000000 |
PaintCorrectionSaturation (13) | -0.918276 |
PaintCorrectionSaturation (2) | 0.111541 |
PaintCorrectionSaturation (3) | 0.085677 |
PaintCorrectionSaturation (5) | -1.000000 |
PaintCorrectionSaturation (9) | -0.222612 |
PaintCorrectionSaturation | 0.000000 |
PaintCorrectionShadows2012 (1) | -1.000000 |
PaintCorrectionShadows2012 (2) | -0.550807 |
PaintCorrectionShadows2012 (3) | 0.159849 |
PaintCorrectionShadows2012 (5) | -0.704635 |
PaintCorrectionShadows2012 | -0.783093 |
PaintCorrectionSharpness | 0.000000 |
PaintCorrectionTemperature | 0.000000 |
PaintCorrectionTint | 0.000000 |
PaintCorrectionWhat | Correction |
ParametricDarks | 0 |
ParametricHighlights | 0 |
ParametricHighlightSplit | 75 |
ParametricLights | 0 |
ParametricMidtoneSplit | 50 |
ParametricShadows | 0 |
ParametricShadowSplit | 25 |
PerspectiveAspect | 0 |
PerspectiveHorizontal | 0 |
PerspectiveRotate | 0.0 |
PerspectiveScale | 100 |
PerspectiveUpright | 0 |
PerspectiveVertical | 0 |
PostCropVignetteAmount | -35 |
PostCropVignetteFeather | 86 |
PostCropVignetteHighlightContrast | 40 |
PostCropVignetteMidpoint | 50 |
PostCropVignetteRoundness | 0 |
PostCropVignetteStyle | 2 |
ProcessVersion | 6.7 |
ProfileDescription | sRGB IEC61966-2.1 |
RedHue | 0 |
RedSaturation | 0 |
Rights | LasseKristiansen |
Saturation (1) | 0 |
Saturation | Normal |
SaturationAdjustmentAqua | 0 |
SaturationAdjustmentBlue | 0 |
SaturationAdjustmentGreen | 0 |
SaturationAdjustmentMagenta | 0 |
SaturationAdjustmentOrange | 0 |
SaturationAdjustmentPurple | 0 |
SaturationAdjustmentRed | 0 |
SaturationAdjustmentYellow | 0 |
ScaleFactor35efl | 1.5 |
SceneCaptureType | Standard |
SensingMethod | One-chip color area |
SerialNumber | 7026717 |
Shadows2012 | -4 |
ShadowTint | 0 |
SharpenDetail | 25 |
SharpenEdgeMasking | 0 |
SharpenRadius | +1.0 |
Sharpness (1) | 0 |
Sharpness | Normal |
ShutterSpeed | 0.3 |
ShutterSpeedValue | 0.3 |
Software | Adobe Photoshop Lightroom 5.3 (Macintosh) |
SpecialInstructions | 8qLQyAE+Q1eFn6eCVLIHyA |
SplitToningBalance | 0 |
SplitToningHighlightHue | 0 |
SplitToningHighlightSaturation | 0 |
SplitToningShadowHue | 0 |
SplitToningShadowSaturation | 0 |
SubjectDistanceRange | Distant |
ToneCurveName2012 | Linear |
ToneCurvePV2012 | 0, 0, 255, 255 |
ToneCurvePV2012Blue | 0, 0, 255, 255 |
ToneCurvePV2012Green | 0, 0, 255, 255 |
ToneCurvePV2012Red | 0, 0, 255, 255 |
Version | 8.3 |
Vibrance | +25 |
VignetteAmount | 0 |
WhiteBalance (1) | As Shot |
WhiteBalance | Auto |
Whites2012 | +60 |