Felt | Verdi |
AlreadyApplied | True |
Aperture | 2.8 |
ApertureValue | 2.8 |
ApproximateFocusDistance | 2.25 |
Artist | Aleksander Fremstad Askim |
AutoLateralCA | 0 |
BitsPerSample | 8 |
Blacks2012 | +3 |
BlueHue | 0 |
BlueSaturation | 0 |
Brightness | +50 |
By-line | Aleksander Fremstad Askim |
CameraProfile | Adobe Standard |
CircleOfConfusion | 0.031 mm |
Clarity | 0 |
Clarity2012 | +100 |
ColorComponents | 3 |
ColorMode | RGB |
ColorNoiseReduction | 25 |
ColorNoiseReductionDetail | 50 |
ColorSpace | Uncalibrated |
ColorTemperature | 4850 |
ColorTransform | YCbCr |
Contrast | +25 |
Contrast2012 | -76 |
ConvertToGrayscale | False |
Copyright | Copyright: Aleksander Fremstad Askim |
CopyrightNotice | Copyright: Aleksander Fremstad Askim |
CreateDate | 2014:07:24 10:14:07 |
Creator | Aleksander Fremstad Askim |
CropAngle | 0 |
CropBottom | 0.96395 |
CropConstrainToWarp | 1 |
CropLeft | 0.117032 |
CropRight | 0.895507 |
CropTop | 0.194357 |
CustomRendered | Normal |
DateCreated (1) | 2014:07:24 |
DateCreated | 2014:07:24 10:14:07.004 |
DateTimeOriginal | 2014:07:24 10:14:07 |
Defringe | 0 |
DOF | 0.49 m (2.03 - 2.52 m) |
ExifImageHeight | 2881 |
ExifImageWidth | 4372 |
Exposure | 0.00 |
Exposure2012 | 0.00 |
ExposureCompensation | 0 |
ExposureMode | Manual |
ExposureProgram | Manual |
ExposureTime | 1/640 |
FillLight | 0 |
Firmware | 2.1.2 |
Flash | Off, Did not fire |
FlashCompensation | 0 |
FNumber | 2.8 |
FocalLength | 42.0 mm |
FocalLength35efl | 42.0 mm (35 mm equivalent: 41.0 mm) |
Format | image/jpeg |
FOV | 47.4 deg |
GradientBasedCorrActive | true |
GradientBasedCorrAmount | 1.000000 |
GradientBasedCorrBrightness | 0.000000 |
GradientBasedCorrClarity | 0.000000 |
GradientBasedCorrClarity2012 | -0.040000 |
GradientBasedCorrContrast | 0.000000 |
GradientBasedCorrContrast2012 | 0.280000 |
GradientBasedCorrExposure | 0.000000 |
GradientBasedCorrExposure2012 | 0.225000 |
GradientBasedCorrHighlights2012 | -0.480000 |
GradientBasedCorrHue | 0.000000 |
GradientBasedCorrLuminanceNoise | 0.000000 |
GradientBasedCorrMaskFullX | 0.538140 |
GradientBasedCorrMaskFullY | 0.000000 |
GradientBasedCorrMaskValue | 1.000000 |
GradientBasedCorrMaskWhat | Mask/Gradient |
GradientBasedCorrMaskZeroX | 0.528736 |
GradientBasedCorrMaskZeroY | 0.310345 |
GradientBasedCorrMoire | 0.000000 |
GradientBasedCorrSaturation (1) | 0.060000 |
GradientBasedCorrSaturation | 0.000000 |
GradientBasedCorrShadows2012 | -0.250000 |
GradientBasedCorrSharpness | -0.750000 |
GradientBasedCorrTemperature | 0.280000 |
GradientBasedCorrTint | 0.320000 |
GradientBasedCorrWhat | Correction |
GrainAmount | 0 |
GreenHue | 0 |
GreenSaturation | 0 |
HasCrop | True |
HasSettings | True |
HighlightRecovery | 0 |
Highlights2012 | -29 |
HueAdjustmentAqua | 0 |
HueAdjustmentBlue | 0 |
HueAdjustmentGreen | 0 |
HueAdjustmentMagenta | 0 |
HueAdjustmentOrange | 0 |
HueAdjustmentPurple | 0 |
HueAdjustmentRed | 0 |
HueAdjustmentYellow | 0 |
HyperfocalDistance | 20.46 m |
ICCProfileName | Adobe RGB (1998) |
ImageHeight | 2881 |
ImageNumber | 0 |
ImageSize | 4372x2881 |
ImageWidth | 4372 |
ISO | 50 |
Lens | EF24-70mm f/2.8L USM |
LensID (1) | 230 |
LensID | Canon EF 24-70mm f/2.8L USM |
LensInfo | 24-70mm f/? |
LensManualDistortionAmount | 0 |
LensModel | EF24-70mm f/2.8L USM |
LensProfileEnable | 0 |
LensProfileSetup | LensDefaults |
LightValue | 13.3 |
LuminanceAdjustmentAqua | 0 |
LuminanceAdjustmentBlue | 0 |
LuminanceAdjustmentGreen | 0 |
LuminanceAdjustmentMagenta | 0 |
LuminanceAdjustmentOrange | 0 |
LuminanceAdjustmentPurple | 0 |
LuminanceAdjustmentRed | 0 |
LuminanceAdjustmentYellow | 0 |
LuminanceSmoothing | 0 |
Make | Canon |
MaxApertureValue | 2.8 |
Megapixels | 12.6 |
MeteringMode | Multi-segment |
Model | Canon EOS 5D Mark II |
ModifyDate (1) | 2014:07:31 16:51:18+09:00 |
ModifyDate | 2014:07:31 16:51:18 |
Orientation | Horizontal (normal) |
OwnerName | Aleksander Fremstad Askim |
PaintCorrectionActive | true |
PaintCorrectionAmount | 1.000000 |
PaintCorrectionBrightness | 0.000000 |
PaintCorrectionClarity | 0.000000 |
PaintCorrectionClarity2012 (1) | -0.040000 |
PaintCorrectionClarity2012 | 0.480000 |
PaintCorrectionContrast | 0.000000 |
PaintCorrectionContrast2012 | 0.280000 |
PaintCorrectionExposure | 0.000000 |
PaintCorrectionExposure2012 (1) | 0.225000 |
PaintCorrectionExposure2012 | 0.350000 |
PaintCorrectionHighlights2012 (1) | -0.480000 |
PaintCorrectionHighlights2012 | 0.010000 |
PaintCorrectionHue | 0.000000 |
PaintCorrectionLuminanceNoise | 0.000000 |
PaintCorrectionMaskCenterWeight | 0.016719 |
PaintCorrectionMaskFlow | 0.975037 |
PaintCorrectionMaskRadius (1) | 0.200791 |
PaintCorrectionMaskRadius (3) | 0.032091 |
PaintCorrectionMaskRadius (4) | 0.008023 |
PaintCorrectionMaskRadius (6) | 0.110638 |
PaintCorrectionMaskRadius (7) | 0.212972 |
PaintCorrectionMaskRadius (9) | 0.073759 |
PaintCorrectionMaskRadius | 0.024924 |
PaintCorrectionMaskValue | 0.660000 |
PaintCorrectionMaskWhat | Mask/Paint |
PaintCorrectionMoire | 0.000000 |
PaintCorrectionSaturation (3) | 0.060000 |
PaintCorrectionSaturation | 0.000000 |
PaintCorrectionShadows2012 (1) | -0.250000 |
PaintCorrectionShadows2012 | -0.070000 |
PaintCorrectionSharpness | -0.750000 |
PaintCorrectionTemperature (1) | 0.280000 |
PaintCorrectionTemperature | 0.330000 |
PaintCorrectionTint (1) | 0.320000 |
PaintCorrectionTint | 0.200000 |
PaintCorrectionWhat | Correction |
ParametricDarks | 0 |
ParametricHighlights | 0 |
ParametricHighlightSplit | 75 |
ParametricLights | 0 |
ParametricMidtoneSplit | 50 |
ParametricShadows | 0 |
ParametricShadowSplit | 25 |
PerspectiveHorizontal | 0 |
PerspectiveRotate | 0.0 |
PerspectiveScale | 100 |
PerspectiveVertical | 0 |
PostCropVignetteAmount | 0 |
ProcessVersion | 6.7 |
ProfileDescription | Adobe RGB (1998) |
Rating | 0 |
RawFileName | _MG_0181.CR2 |
RedHue | 0 |
RedSaturation | 0 |
Rights | Copyright: Aleksander Fremstad Askim |
Saturation | +13 |
SaturationAdjustmentAqua | 0 |
SaturationAdjustmentBlue | 0 |
SaturationAdjustmentGreen | 0 |
SaturationAdjustmentMagenta | 0 |
SaturationAdjustmentOrange | 0 |
SaturationAdjustmentPurple | 0 |
SaturationAdjustmentRed | 0 |
SaturationAdjustmentYellow | 0 |
ScaleFactor35efl | 1.0 |
SceneCaptureType | Standard |
SerialNumber | 132102906 |
Shadows | 5 |
Shadows2012 | +23 |
ShadowTint | 0 |
SharpenDetail | 25 |
SharpenEdgeMasking | 0 |
SharpenRadius | +1.0 |
Sharpness | 100 |
ShutterSpeed | 1/640 |
ShutterSpeedValue | 1/640 |
Software | Adobe Photoshop CS6 (Macintosh) |
SplitToningBalance | 0 |
SplitToningHighlightHue | 0 |
SplitToningHighlightSaturation | 0 |
SplitToningShadowHue | 0 |
SplitToningShadowSaturation | 0 |
Tint | +2 |
ToneCurve | 0, 0, 32, 22, 64, 56, 128, 128, 192, 196, 255, 255 |
ToneCurveBlue | 0, 0, 255, 255 |
ToneCurveGreen | 0, 0, 255, 255 |
ToneCurveName | Medium Contrast |
ToneCurveName2012 | Linear |
ToneCurvePV2012 | 0, 0, 255, 255 |
ToneCurvePV2012Blue | 0, 0, 255, 255 |
ToneCurvePV2012Green | 0, 0, 255, 255 |
ToneCurvePV2012Red | 0, 0, 255, 255 |
ToneCurveRed | 0, 0, 255, 255 |
URL_List | |
Version | 7.0 |
Vibrance | +100 |
VignetteAmount | 0 |
WhiteBalance (1) | Custom |
WhiteBalance | Manual |
Whites2012 | 0 |