Felt | Verdi |
AlreadyApplied | True |
Aperture | 13.0 |
ApertureValue | 13.0 |
ApproximateFocusDistance | 4 |
Artist | LasseKristiansen |
AutoLateralCA | 0 |
AutoWhiteVersion | 134348800 |
BitsPerSample | 8 |
Blacks2012 | -100 |
BlueHue | 0 |
BlueSaturation | 0 |
By-line | LasseKristiansen |
CameraProfile | Adobe Standard |
CircleOfConfusion | 0.020 mm |
Clarity2012 | +100 |
ColorComponents | 3 |
ColorNoiseReduction | 25 |
ColorNoiseReductionDetail | 50 |
ColorNoiseReductionSmoothness | 50 |
ColorTemperature | 12500 |
ColorTransform | YCbCr |
Contrast | High |
Contrast2012 | +69 |
ConvertToGrayscale | False |
Copyright | LasseKristiansen |
CopyrightNotice | LasseKristiansen |
CreateDate | 2014:09:26 16:16:39 |
Creator | LasseKristiansen |
CreatorTool | Adobe Photoshop Lightroom 5.3 (Macintosh) |
CropAngle | 0 |
CropBottom | 1 |
CropConstrainToWarp | 0 |
CropLeft | 0 |
CropRight | 0.984481 |
CropTop | 0.083698 |
CustomRendered | Normal |
DateCreated (1) | 2014:09:26 |
DateCreated | 2014:09:26 16:16:39 |
DateTimeOriginal | 2014:09:26 16:16:39 |
DefringeGreenAmount | 0 |
DefringeGreenHueHi | 60 |
DefringeGreenHueLo | 40 |
DefringePurpleAmount | 0 |
DefringePurpleHueHi | 70 |
DefringePurpleHueLo | 30 |
DOF | 1.43 m (3.41 - 4.84 m) |
Exposure2012 | -2.10 |
ExposureCompensation | 0 |
ExposureMode | Auto |
ExposureProgram | Program AE |
ExposureTime | 1/250 |
Flash | Off, Did not fire |
FNumber | 13.0 |
FocalLength | 77.0 mm |
FocalLength35efl | 77.0 mm (35 mm equivalent: 115.0 mm) |
FocalLengthIn35mmFormat | 115 mm |
Format | image/jpeg |
FOV | 17.8 deg |
GrainAmount | 0 |
GreenHue | 0 |
GreenSaturation | 0 |
HasCrop | True |
HasExtendedXMP | BDABB1D84C9EE7F8F6250E9987DC87E4 |
HasSettings | True |
Highlights2012 | -83 |
HueAdjustmentAqua | 0 |
HueAdjustmentBlue | 0 |
HueAdjustmentGreen | 0 |
HueAdjustmentMagenta | 0 |
HueAdjustmentOrange | 0 |
HueAdjustmentPurple | 0 |
HueAdjustmentRed | 0 |
HueAdjustmentYellow | 0 |
HyperfocalDistance | 22.67 m |
ImageHeight | 5922 |
ImageSize | 3665x5922 |
ImageWidth | 3665 |
ISO | 100 |
Lens | smc PENTAX-FA 77mm F1.8 Limited |
LensID (1) | 4 24 |
LensID | smc PENTAX-FA 77mm F1.8 Limited |
LensInfo | 77mm f/1.8 |
LensManualDistortionAmount | 0 |
LensModel | smc PENTAX-FA 77mm F1.8 Limited |
LensProfileEnable | 0 |
LensProfileSetup | LensDefaults |
LightValue | 15.4 |
LuminanceAdjustmentAqua | 0 |
LuminanceAdjustmentBlue | 0 |
LuminanceAdjustmentGreen | 0 |
LuminanceAdjustmentMagenta | 0 |
LuminanceAdjustmentOrange | 0 |
LuminanceAdjustmentPurple | 0 |
LuminanceAdjustmentRed | 0 |
LuminanceAdjustmentYellow | 0 |
LuminanceNoiseReductionContrast | 12 |
LuminanceNoiseReductionDetail | 50 |
LuminanceSmoothing | 26 |
Make | RICOH IMAGING COMPANY, LTD. |
Megapixels | 21.7 |
MeteringMode | Multi-segment |
Model | PENTAX K-3 |
ModifyDate (1) | 2014:10:02 21:05:32+02:00 |
ModifyDate | 2014:10:02 21:05:32 |
PaintCorrectionActive | true |
PaintCorrectionAmount | 1.000000 |
PaintCorrectionBrightness | 0.000000 |
PaintCorrectionClarity2012 | 0.938419 |
PaintCorrectionContrast2012 (3) | -0.174173 |
PaintCorrectionContrast2012 (4) | 0.324173 |
PaintCorrectionContrast2012 (6) | 0.463235 |
PaintCorrectionContrast2012 (7) | 0.446415 |
PaintCorrectionContrast2012 | 0.000000 |
PaintCorrectionDefringe | 0.000000 |
PaintCorrectionExposure2012 (1) | 0.473490 |
PaintCorrectionExposure2012 (3) | -0.206893 |
PaintCorrectionExposure2012 (5) | -0.393171 |
PaintCorrectionExposure2012 (6) | -0.083272 |
PaintCorrectionExposure2012 (7) | -0.151654 |
PaintCorrectionExposure2012 | 0.324357 |
PaintCorrectionHighlights2012 | 0.000000 |
PaintCorrectionHue | 0.000000 |
PaintCorrectionLuminanceNoise | 0.000000 |
PaintCorrectionMaskCenterWeight | 0.000000 |
PaintCorrectionMaskFlow (1) | 0.873488 |
PaintCorrectionMaskFlow (108) | 0.511247 |
PaintCorrectionMaskFlow (174) | 0.181534 |
PaintCorrectionMaskFlow (184) | 0.839703 |
PaintCorrectionMaskFlow (247) | 0.764368 |
PaintCorrectionMaskFlow (30) | 0.872510 |
PaintCorrectionMaskFlow (318) | 0.450817 |
PaintCorrectionMaskFlow (333) | 0.300884 |
PaintCorrectionMaskFlow (7) | 0.311258 |
PaintCorrectionMaskFlow (84) | 1.000000 |
PaintCorrectionMaskFlow (99) | 0.905020 |
PaintCorrectionMaskFlow | 0.286526 |
PaintCorrectionMaskRadius (1) | 0.017643 |
PaintCorrectionMaskRadius (109) | 0.072589 |
PaintCorrectionMaskRadius (115) | 0.045234 |
PaintCorrectionMaskRadius (122) | 0.269271 |
PaintCorrectionMaskRadius (136) | 0.097817 |
PaintCorrectionMaskRadius (167) | 0.140950 |
PaintCorrectionMaskRadius (214) | 0.162344 |
PaintCorrectionMaskRadius (254) | 0.127269 |
PaintCorrectionMaskRadius (282) | 0.010198 |
PaintCorrectionMaskRadius (288) | 0.005629 |
PaintCorrectionMaskRadius (294) | 0.131170 |
PaintCorrectionMaskRadius (4) | 0.191709 |
PaintCorrectionMaskRadius (68) | 0.066089 |
PaintCorrectionMaskRadius (7) | 0.136460 |
PaintCorrectionMaskRadius (89) | 0.115523 |
PaintCorrectionMaskRadius (93) | 0.044992 |
PaintCorrectionMaskRadius | 0.059168 |
PaintCorrectionMaskValue (331) | 0.000000 |
PaintCorrectionMaskValue | 0.490661 |
PaintCorrectionMaskWhat | Mask/Paint |
PaintCorrectionMoire | 0.000000 |
PaintCorrectionSaturation (11) | -0.764430 |
PaintCorrectionSaturation (13) | -0.208364 |
PaintCorrectionSaturation (15) | -0.918276 |
PaintCorrectionSaturation (5) | -0.405460 |
PaintCorrectionSaturation (7) | -0.440309 |
PaintCorrectionSaturation (9) | -0.417923 |
PaintCorrectionSaturation | 0.000000 |
PaintCorrectionShadows2012 (1) | 0.681355 |
PaintCorrectionShadows2012 (4) | -0.490074 |
PaintCorrectionShadows2012 (7) | 0.170221 |
PaintCorrectionShadows2012 | -0.081197 |
PaintCorrectionSharpness | 0.000000 |
PaintCorrectionTemperature | 0.000000 |
PaintCorrectionTint | 0.000000 |
PaintCorrectionWhat | Correction |
ParametricDarks | -43 |
ParametricHighlights | -34 |
ParametricHighlightSplit | 75 |
ParametricLights | +26 |
ParametricMidtoneSplit | 50 |
ParametricShadows | +100 |
ParametricShadowSplit | 25 |
PerspectiveAspect | 0 |
PerspectiveHorizontal | 0 |
PerspectiveRotate | 0.0 |
PerspectiveScale | 100 |
PerspectiveUpright | 0 |
PerspectiveVertical | 0 |
PostCropVignetteAmount | -7 |
PostCropVignetteFeather | 50 |
PostCropVignetteHighlightContrast | 0 |
PostCropVignetteMidpoint | 50 |
PostCropVignetteRoundness | 0 |
PostCropVignetteStyle | 1 |
ProcessVersion | 6.7 |
ProfileDescription | sRGB IEC61966-2.1 |
RedHue | 0 |
RedSaturation | 0 |
Rights | LasseKristiansen |
Saturation (1) | -67 |
Saturation | Normal |
SaturationAdjustmentAqua | 0 |
SaturationAdjustmentBlue | 0 |
SaturationAdjustmentGreen | 0 |
SaturationAdjustmentMagenta | 0 |
SaturationAdjustmentOrange | 0 |
SaturationAdjustmentPurple | 0 |
SaturationAdjustmentRed | 0 |
SaturationAdjustmentYellow | 0 |
ScaleFactor35efl | 1.5 |
SceneCaptureType | Standard |
SensingMethod | One-chip color area |
SensitivityType | Standard Output Sensitivity |
Shadows2012 | +59 |
ShadowTint | +8 |
SharpenDetail | 25 |
SharpenEdgeMasking | 72 |
SharpenRadius | +1.0 |
Sharpness (1) | 38 |
Sharpness | Hard |
ShutterSpeed | 1/250 |
ShutterSpeedValue | 1/250 |
Software | Adobe Photoshop Lightroom 5.3 (Macintosh) |
SplitToningBalance | 0 |
SplitToningHighlightHue | 0 |
SplitToningHighlightSaturation | 0 |
SplitToningShadowHue | 0 |
SplitToningShadowSaturation | 0 |
StandardOutputSensitivity | 100 |
SubjectDistanceRange | Distant |
Tint | +35 |
ToneCurveName2012 | Linear |
ToneCurvePV2012 | 0, 0, 255, 255 |
ToneCurvePV2012Blue | 0, 0, 255, 255 |
ToneCurvePV2012Green | 0, 0, 255, 255 |
ToneCurvePV2012Red | 0, 0, 255, 255 |
Version | 8.3 |
Vibrance | +69 |
VignetteAmount | 0 |
WhiteBalance (1) | Custom |
WhiteBalance | Auto |
Whites2012 | +82 |