Felt | Verdi |
AlreadyApplied | True |
Aperture | 5.0 |
ApertureValue | 5.0 |
ApproximateFocusDistance | 4 |
Artist | LasseKristiansen |
AutoLateralCA | 0 |
AutoWhiteVersion | 134348800 |
BitsPerSample | 8 |
Blacks2012 | -26 |
BlueHue | -23 |
BlueSaturation | +3 |
By-line | LasseKristiansen |
CameraProfile | Adobe Standard |
CircleOfConfusion | 0.020 mm |
Clarity2012 | +59 |
ColorComponents | 3 |
ColorNoiseReduction | 25 |
ColorNoiseReductionDetail | 50 |
ColorNoiseReductionSmoothness | 50 |
ColorTemperature | 3650 |
ColorTransform | YCbCr |
Contrast | Normal |
Contrast2012 | +36 |
ConvertToGrayscale | False |
Copyright | LasseKristiansen |
CopyrightNotice | LasseKristiansen |
CreateDate | 2015:03:19 05:21:30 |
Creator | LasseKristiansen |
CreatorTool | Adobe Photoshop Lightroom 5.3 (Macintosh) |
CropAngle | 2.64778 |
CropBottom | 0.982092 |
CropConstrainToWarp | 0 |
CropLeft | 0.056883 |
CropRight | 0.88439 |
CropTop | 0.067907 |
CustomRendered | Normal |
DateCreated (1) | 2015:03:19 |
DateCreated | 2015:03:19 05:21:30 |
DateTimeOriginal | 2015:03:19 05:21:30 |
DefringeGreenAmount | 0 |
DefringeGreenHueHi | 60 |
DefringeGreenHueLo | 40 |
DefringePurpleAmount | 0 |
DefringePurpleHueHi | 70 |
DefringePurpleHueLo | 30 |
DOF | 0.53 m (3.75 - 4.29 m) |
Exposure2012 | -0.05 |
ExposureCompensation | 0 |
ExposureMode | Manual |
ExposureProgram | Manual |
ExposureTime | 1 |
Flash | Off, Did not fire |
FNumber | 5.0 |
FocalLength | 77.0 mm |
FocalLength35efl | 77.0 mm (35 mm equivalent: 115.0 mm) |
FocalLengthIn35mmFormat | 115 mm |
Format | image/jpeg |
FOV | 17.8 deg |
GrainAmount | 0 |
GreenHue | +100 |
GreenSaturation | +100 |
HasCrop | True |
HasExtendedXMP | DF14B09ADC40BE400CA9B3FBF40BE009 |
HasSettings | True |
Highlights2012 | 0 |
HueAdjustmentAqua | 0 |
HueAdjustmentBlue | 0 |
HueAdjustmentGreen | 0 |
HueAdjustmentMagenta | 0 |
HueAdjustmentOrange | 0 |
HueAdjustmentPurple | 0 |
HueAdjustmentRed | 0 |
HueAdjustmentYellow | 0 |
HyperfocalDistance | 58.94 m |
ImageHeight | 5142 |
ImageSize | 3423x5142 |
ImageWidth | 3423 |
ISO | 200 |
Lens | smc PENTAX-FA 77mm F1.8 Limited |
LensID (1) | 4 24 |
LensID | smc PENTAX-FA 77mm F1.8 Limited |
LensInfo | 77mm f/1.8 |
LensManualDistortionAmount | 0 |
LensModel | smc PENTAX-FA 77mm F1.8 Limited |
LensProfileEnable | 0 |
LensProfileSetup | LensDefaults |
LightValue | 3.6 |
LuminanceAdjustmentAqua | 0 |
LuminanceAdjustmentBlue | 0 |
LuminanceAdjustmentGreen | 0 |
LuminanceAdjustmentMagenta | 0 |
LuminanceAdjustmentOrange | 0 |
LuminanceAdjustmentPurple | 0 |
LuminanceAdjustmentRed | 0 |
LuminanceAdjustmentYellow | 0 |
LuminanceNoiseReductionContrast | 0 |
LuminanceNoiseReductionDetail | 50 |
LuminanceSmoothing | 62 |
Make | RICOH IMAGING COMPANY, LTD. |
Megapixels | 17.6 |
MeteringMode | Spot |
Model | PENTAX K-3 |
ModifyDate (1) | 2015:03:20 16:00:58+01:00 |
ModifyDate | 2015:03:20 16:00:58 |
PaintCorrectionActive | true |
PaintCorrectionAmount | 1.000000 |
PaintCorrectionBrightness | 0.000000 |
PaintCorrectionClarity2012 (1) | 0.143522 |
PaintCorrectionClarity2012 (4) | 1.000000 |
PaintCorrectionClarity2012 | 0.805565 |
PaintCorrectionContrast2012 (4) | 0.545032 |
PaintCorrectionContrast2012 | -0.396783 |
PaintCorrectionDefringe | 0.000000 |
PaintCorrectionExposure2012 (1) | 0.224280 |
PaintCorrectionExposure2012 (2) | 0.092697 |
PaintCorrectionExposure2012 (3) | -0.136060 |
PaintCorrectionExposure2012 (4) | -0.066801 |
PaintCorrectionExposure2012 | -0.546787 |
PaintCorrectionHighlights2012 (2) | -0.600246 |
PaintCorrectionHighlights2012 (4) | 0.629916 |
PaintCorrectionHighlights2012 | -0.951369 |
PaintCorrectionHue | 0.000000 |
PaintCorrectionLuminanceNoise (4) | -0.112096 |
PaintCorrectionLuminanceNoise | -1.000000 |
PaintCorrectionMaskCenterWeight (137) | 0.000000 |
PaintCorrectionMaskCenterWeight | 0.046372 |
PaintCorrectionMaskFlow (145) | 0.888786 |
PaintCorrectionMaskFlow | 0.964440 |
PaintCorrectionMaskRadius (105) | 0.055872 |
PaintCorrectionMaskRadius (127) | 0.084224 |
PaintCorrectionMaskRadius (143) | 0.046750 |
PaintCorrectionMaskRadius (16) | 0.074609 |
PaintCorrectionMaskRadius (207) | 0.066090 |
PaintCorrectionMaskRadius (21) | 0.037792 |
PaintCorrectionMaskRadius (224) | 0.065158 |
PaintCorrectionMaskRadius (236) | 0.129353 |
PaintCorrectionMaskRadius (242) | 0.103948 |
PaintCorrectionMaskRadius (248) | 0.033629 |
PaintCorrectionMaskRadius (25) | 0.094004 |
PaintCorrectionMaskRadius (250) | 0.101491 |
PaintCorrectionMaskRadius (274) | 0.033477 |
PaintCorrectionMaskRadius (279) | 0.025688 |
PaintCorrectionMaskRadius (281) | 0.010546 |
PaintCorrectionMaskRadius (285) | 0.004428 |
PaintCorrectionMaskRadius (301) | 0.011905 |
PaintCorrectionMaskRadius (307) | 0.057981 |
PaintCorrectionMaskRadius (311) | 0.022858 |
PaintCorrectionMaskRadius (312) | 0.049717 |
PaintCorrectionMaskRadius (321) | 0.018443 |
PaintCorrectionMaskRadius (324) | 0.023258 |
PaintCorrectionMaskRadius (50) | 0.083271 |
PaintCorrectionMaskRadius (66) | 0.028999 |
PaintCorrectionMaskRadius (70) | 0.041412 |
PaintCorrectionMaskRadius (9) | 0.114056 |
PaintCorrectionMaskRadius (92) | 0.101033 |
PaintCorrectionMaskRadius | 0.016338 |
PaintCorrectionMaskValue (106) | 1.000000 |
PaintCorrectionMaskValue | 0.000000 |
PaintCorrectionMaskWhat | Mask/Paint |
PaintCorrectionMoire | 0.000000 |
PaintCorrectionSaturation (7) | -0.140801 |
PaintCorrectionSaturation (9) | -0.385754 |
PaintCorrectionSaturation | 0.000000 |
PaintCorrectionShadows2012 (4) | -1.000000 |
PaintCorrectionShadows2012 | 0.698736 |
PaintCorrectionSharpness (1) | -1.000000 |
PaintCorrectionSharpness | 0.342258 |
PaintCorrectionTemperature | 0.000000 |
PaintCorrectionTint | 0.000000 |
PaintCorrectionWhat | Correction |
ParametricDarks | +40 |
ParametricHighlights | +46 |
ParametricHighlightSplit | 75 |
ParametricLights | +48 |
ParametricMidtoneSplit | 50 |
ParametricShadows | +3 |
ParametricShadowSplit | 25 |
PerspectiveAspect | 0 |
PerspectiveHorizontal | 0 |
PerspectiveRotate | 0.0 |
PerspectiveScale | 100 |
PerspectiveUpright | 0 |
PerspectiveVertical | 0 |
PostCropVignetteAmount | 0 |
ProcessVersion | 6.7 |
ProfileDescription | sRGB IEC61966-2.1 |
RedHue | +97 |
RedSaturation | -100 |
Rights | LasseKristiansen |
Saturation (1) | -75 |
Saturation | Normal |
SaturationAdjustmentAqua | 0 |
SaturationAdjustmentBlue | -7 |
SaturationAdjustmentGreen | 0 |
SaturationAdjustmentMagenta | 0 |
SaturationAdjustmentOrange | 0 |
SaturationAdjustmentPurple | +22 |
SaturationAdjustmentRed | 0 |
SaturationAdjustmentYellow | 0 |
ScaleFactor35efl | 1.5 |
SceneCaptureType | Standard |
SensingMethod | One-chip color area |
SensitivityType | Standard Output Sensitivity |
Shadows2012 | +56 |
ShadowTint | -4 |
SharpenDetail | 25 |
SharpenEdgeMasking | 0 |
SharpenRadius | +1.0 |
Sharpness (1) | 25 |
Sharpness | Normal |
ShutterSpeed | 1 |
ShutterSpeedValue | 1 |
Software | Adobe Photoshop Lightroom 5.3 (Macintosh) |
SplitToningBalance | 0 |
SplitToningHighlightHue | 0 |
SplitToningHighlightSaturation | 0 |
SplitToningShadowHue | 0 |
SplitToningShadowSaturation | 0 |
StandardOutputSensitivity | 200 |
SubjectDistanceRange | Distant |
Tint | -47 |
ToneCurveName2012 | Linear |
ToneCurvePV2012 | 0, 0, 255, 255 |
ToneCurvePV2012Blue | 0, 0, 255, 255 |
ToneCurvePV2012Green | 0, 0, 255, 255 |
ToneCurvePV2012Red | 0, 0, 255, 255 |
Version | 8.3 |
Vibrance | +38 |
VignetteAmount | 0 |
WhiteBalance (1) | Custom |
WhiteBalance | Auto |
Whites2012 | +61 |