Felt | Verdi |
AlreadyApplied | True |
Aperture | 8.0 |
ApertureValue | 8.0 |
ApproximateFocusDistance | 2.37 |
Artist | Fredrik R. Hansen |
AutoLateralCA | 0 |
AutoWhiteVersion | 134348800 |
BitsPerSample | 8 |
Blacks2012 | +64 |
BlueHue | 0 |
BlueSaturation | 0 |
By-line | Fredrik R. Hansen |
CameraProfile | Adobe Standard |
CFAPattern | [Red,Green][Green,Blue] |
CircleOfConfusion | 0.020 mm |
Clarity2012 | 0 |
ColorComponents | 3 |
ColorNoiseReduction | 25 |
ColorNoiseReductionDetail | 50 |
ColorNoiseReductionSmoothness | 50 |
ColorTemperature | 6050 |
ColorTransform | YCbCr |
Contrast | Normal |
Contrast2012 | 0 |
ConvertToGrayscale | False |
Copyright | © 2014 Fredrik R. Hansen |
CopyrightFlag | True |
CopyrightNotice | © 2014 Fredrik R. Hansen |
CreateDate (1) | 2015:04:04 22:54:35.45 |
CreateDate | 2015:04:04 22:54:35 |
Creator | Fredrik R. Hansen |
CreatorCity | Bergen |
CreatorCountry | Norway |
CreatorTool | Adobe Photoshop Lightroom 5.7.1 (Windows) |
CropAngle | 0.328026 |
CropBottom | 1 |
CropConstrainToWarp | 0 |
CropLeft | 0.009629 |
CropRight | 0.99622 |
CropTop | 0.001125 |
CustomRendered | Normal |
DateCreated (1) | 2015:04:04 |
DateCreated | 2015:04:04 22:54:35.45 |
DateTimeOriginal | 2015:04:04 22:54:35 |
DefringeGreenAmount | 0 |
DefringeGreenHueHi | 60 |
DefringeGreenHueLo | 40 |
DefringePurpleAmount | 0 |
DefringePurpleHueHi | 70 |
DefringePurpleHueLo | 30 |
DigitalZoomRatio | 1 |
DOF | 0.21 m (2.27 - 2.48 m) |
Exposure2012 | +0.20 |
ExposureCompensation | 0 |
ExposureMode | Manual |
ExposureProgram | Manual |
ExposureTime | 1/800 |
Flash | Off, Did not fire |
FNumber | 8.0 |
FocalLength | 90.0 mm |
FocalLength35efl | 90.0 mm (35 mm equivalent: 135.0 mm) |
FocalLengthIn35mmFormat | 135 mm |
Format | image/jpeg |
FOV | 15.2 deg |
GainControl | Low gain up |
GrainAmount | 0 |
GreenHue | 0 |
GreenSaturation | 0 |
HasCrop | True |
HasSettings | True |
Highlights2012 | -19 |
HueAdjustmentAqua | +35 |
HueAdjustmentBlue | 0 |
HueAdjustmentGreen | +15 |
HueAdjustmentMagenta | +30 |
HueAdjustmentOrange | +38 |
HueAdjustmentPurple | -10 |
HueAdjustmentRed | -5 |
HueAdjustmentYellow | -20 |
HyperfocalDistance | 50.55 m |
ImageHeight | 853 |
ImageNumber | 3389 |
ImageSize | 1280x853 |
ImageWidth | 1280 |
ISO | 800 |
Keywords | Airbus, Airplane, Airplane Cabin, Airplane view, Country, FB, FBMisc, FlickrHerindur, Geographic location, Japan, Jet Plane, People, Portrait, SAS |
Lens | 90.0 mm f/2.8 |
LensID (1) | 254 |
LensID | Tamron SP 90mm f/2.8 Di VC USD Macro 1:1 (F004) |
LensInfo | 90mm f/2.8 |
LensManualDistortionAmount | 0 |
LensModel | 90.0 mm f/2.8 |
LensProfileEnable | 0 |
LensProfileSetup | LensDefaults |
LightSource | Unknown |
LightValue | 12.6 |
LuminanceAdjustmentAqua | -15 |
LuminanceAdjustmentBlue | -20 |
LuminanceAdjustmentGreen | -10 |
LuminanceAdjustmentMagenta | +5 |
LuminanceAdjustmentOrange | -3 |
LuminanceAdjustmentPurple | +10 |
LuminanceAdjustmentRed | -12 |
LuminanceAdjustmentYellow | +2 |
LuminanceSmoothing | 0 |
Make | NIKON CORPORATION |
Marked | True |
MaxApertureValue | 2.9 |
Megapixels | 1.1 |
MeteringMode | Multi-segment |
Model | NIKON D5500 |
ModifyDate (1) | 2015:04:11 22:24:19+02:00 |
ModifyDate | 2015:04:11 22:24:19 |
ObjectName | Hjemreise. |
PaintCorrectionActive | true |
PaintCorrectionAmount | 1.000000 |
PaintCorrectionBrightness | 0.000000 |
PaintCorrectionClarity2012 (1) | -0.010000 |
PaintCorrectionClarity2012 (2) | 0.309520 |
PaintCorrectionClarity2012 | 0.000000 |
PaintCorrectionContrast2012 (1) | -0.166670 |
PaintCorrectionContrast2012 (2) | 0.000000 |
PaintCorrectionContrast2012 (3) | -0.090000 |
PaintCorrectionContrast2012 | -0.010000 |
PaintCorrectionDefringe | 0.000000 |
PaintCorrectionExposure2012 (2) | 0.000000 |
PaintCorrectionExposure2012 | -0.025000 |
PaintCorrectionHighlights2012 (1) | 0.214290 |
PaintCorrectionHighlights2012 (2) | 0.357140 |
PaintCorrectionHighlights2012 (3) | 0.000000 |
PaintCorrectionHighlights2012 | -0.170000 |
PaintCorrectionHue | 0.000000 |
PaintCorrectionLuminanceNoise | 0.000000 |
PaintCorrectionMaskCenterWeight (5) | 0.317924 |
PaintCorrectionMaskCenterWeight (8) | 0.214349 |
PaintCorrectionMaskCenterWeight | 0.162140 |
PaintCorrectionMaskFlow (6) | 0.229000 |
PaintCorrectionMaskFlow | 1.000000 |
PaintCorrectionMaskRadius (1) | 0.018664 |
PaintCorrectionMaskRadius (10) | 0.085776 |
PaintCorrectionMaskRadius (6) | 0.006311 |
PaintCorrectionMaskRadius (7) | 0.029968 |
PaintCorrectionMaskRadius (8) | 0.001978 |
PaintCorrectionMaskRadius | 0.018063 |
PaintCorrectionMaskValue (5) | 0.000000 |
PaintCorrectionMaskValue | 1.000000 |
PaintCorrectionMaskWhat | Mask/Paint |
PaintCorrectionMoire | 0.000000 |
PaintCorrectionSaturation | 0.000000 |
PaintCorrectionShadows2012 (1) | 0.523810 |
PaintCorrectionShadows2012 (2) | 0.000000 |
PaintCorrectionShadows2012 (3) | 0.500000 |
PaintCorrectionShadows2012 | -0.380950 |
PaintCorrectionSharpness | 0.000000 |
PaintCorrectionTemperature | 0.000000 |
PaintCorrectionTint | 0.000000 |
PaintCorrectionWhat | Correction |
ParametricDarks | 0 |
ParametricHighlights | 0 |
ParametricHighlightSplit | 75 |
ParametricLights | 0 |
ParametricMidtoneSplit | 50 |
ParametricShadows | 0 |
ParametricShadowSplit | 25 |
PerspectiveAspect | 0 |
PerspectiveHorizontal | 0 |
PerspectiveRotate | 0.0 |
PerspectiveScale | 100 |
PerspectiveUpright | 3 |
PerspectiveVertical | 0 |
PostCropVignetteAmount | 0 |
ProcessVersion | 6.7 |
ProfileDescription | sRGB IEC61966-2.1 |
RedHue | 0 |
RedSaturation | 0 |
Rights | © 2014 Fredrik R. Hansen |
Saturation (1) | -10 |
Saturation | Normal |
SaturationAdjustmentAqua | -30 |
SaturationAdjustmentBlue | -15 |
SaturationAdjustmentGreen | -30 |
SaturationAdjustmentMagenta | -25 |
SaturationAdjustmentOrange | -8 |
SaturationAdjustmentPurple | -15 |
SaturationAdjustmentRed | -15 |
SaturationAdjustmentYellow | 0 |
ScaleFactor35efl | 1.5 |
SceneCaptureType | Standard |
SceneType | Directly photographed |
SensingMethod | One-chip color area |
SensitivityType | Recommended Exposure Index |
SerialNumber | 2005605 |
Shadows2012 | +33 |
ShadowTint | 0 |
SharpenDetail | 35 |
SharpenEdgeMasking | 40 |
SharpenRadius | +1.8 |
Sharpness (1) | 30 |
Sharpness | Normal |
ShutterSpeed | 1/800 |
ShutterSpeedValue | 1/800 |
Software | Adobe Photoshop Lightroom 5.7.1 (Windows) |
SplitToningBalance | 0 |
SplitToningHighlightHue | 0 |
SplitToningHighlightSaturation | 0 |
SplitToningShadowHue | 0 |
SplitToningShadowSaturation | 0 |
Subject | Airbus, Airplane, Airplane Cabin, Airplane view, Country, FB, FBMisc, FlickrHerindur, Geographic location, Japan, Jet Plane, People, Portrait, SAS |
SubjectDistanceRange | Unknown |
Tint | +3 |
Title | Hjemreise. |
ToneCurve | 0, 0, 255, 255 |
ToneCurveBlue | 0, 0, 255, 255 |
ToneCurveGreen | 0, 0, 255, 255 |
ToneCurveName | Linear |
ToneCurveName2012 | Custom |
ToneCurvePV2012 | 0, 14, 255, 249 |
ToneCurvePV2012Blue | 0, 0, 40, 36, 127, 126, 187, 190, 255, 255 |
ToneCurvePV2012Green | 0, 0, 41, 38, 130, 130, 187, 191, 255, 255 |
ToneCurvePV2012Red | 0, 0, 38, 32, 122, 124, 184, 191, 255, 255 |
ToneCurveRed | 0, 0, 255, 255 |
UsageTerms | All Rights Reserved |
Version | 8.7.1 |
Vibrance | 0 |
VignetteAmount | 0 |
WhiteBalance (1) | Custom |
WhiteBalance | Auto |
Whites2012 | -26 |