Felt | Verdi |
AlreadyApplied | True |
Aperture | 4.0 |
ApertureValue | 4.0 |
ApproximateFocusDistance | 4294967295 |
Artist | Ann Birgitte Tveiten |
AutoLateralCA | 0 |
AutoWhiteVersion | 134348800 |
BitsPerSample | 8 |
Blacks2012 | 0 |
BlueHue | 0 |
BlueSaturation | 0 |
By-line | Ann Birgitte Tveiten |
CameraProfile | Adobe Standard |
CircleOfConfusion | 0.019 mm |
Clarity2012 | +100 |
ColorComponents | 3 |
ColorNoiseReduction | 25 |
ColorNoiseReductionDetail | 50 |
ColorNoiseReductionSmoothness | 50 |
ColorSpace | sRGB |
ColorTemperature | 5900 |
ColorTransform | YCbCr |
Contrast2012 | +27 |
ConvertToGrayscale | False |
Copyright | Ann Birgitte Tveien |
CopyrightFlag | True |
CopyrightNotice | Ann Birgitte Tveien |
CreateDate (1) | 2012:07:12 13:07:07.00 |
CreateDate | 2012:07:12 13:07:07 |
Creator | Ann Birgitte Tveiten |
CreatorAddress | Østerøya 83 |
CreatorCity | Flekkerøy |
CreatorCountry | Norway |
CreatorPostalCode | 4625 |
CreatorTool | Adobe Photoshop Lightroom 6.1 (Macintosh) |
CreatorWorkEmail | annbirgitte.tveiten@me.com |
CreatorWorkTelephone | +47 91916969 |
CreatorWorkURL | www.abbefoto.com |
CropAngle | -0.764476 |
CropBottom | 0.971967 |
CropConstrainToWarp | 0 |
CropLeft | 0.01411 |
CropRight | 0.98589 |
CropTop | 0.028033 |
CustomRendered | Normal |
DateCreated (1) | 2012:07:12 13:07:07.00 |
DateCreated | 2012:07:12 |
DateTimeOriginal | 2012:07:12 13:07:07 |
DefringeGreenAmount | 0 |
DefringeGreenHueHi | 60 |
DefringeGreenHueLo | 40 |
DefringePurpleAmount | 0 |
DefringePurpleHueHi | 70 |
DefringePurpleHueLo | 30 |
Dehaze | 0 |
DOF | inf (6.91 m - inf) |
Exposure2012 | -0.55 |
ExposureCompensation | 0 |
ExposureMode | Auto |
ExposureProgram | Aperture-priority AE |
ExposureTime | 1/3200 |
Firmware | 1.2.5 |
Flash | Off, Did not fire |
FlashCompensation | 0 |
FNumber | 4.0 |
FocalLength | 23.0 mm |
FocalLength35efl | 23.0 mm (35 mm equivalent: 36.1 mm) |
Format | image/jpeg |
FOV | 53.0 deg |
GradientBasedCorrActive | true |
GradientBasedCorrAmount | 1.000000 |
GradientBasedCorrBrightness | 0.000000 |
GradientBasedCorrClarity2012 | 0.000000 |
GradientBasedCorrContrast2012 (1) | 0.955126 |
GradientBasedCorrContrast2012 | 0.000000 |
GradientBasedCorrDefringe | 0.000000 |
GradientBasedCorrExposure2012 (1) | -0.364996 |
GradientBasedCorrExposure2012 | 0.106803 |
GradientBasedCorrHighlights2012 | -1.000000 |
GradientBasedCorrHue | 0.000000 |
GradientBasedCorrLocalBlacks2012 (1) | 0.000000 |
GradientBasedCorrLocalBlacks2012 | -0.272580 |
GradientBasedCorrLocalWhites2012 | 0.000000 |
GradientBasedCorrLuminanceNoise | 0.000000 |
GradientBasedCorrMaskFullX (1) | 0.490009 |
GradientBasedCorrMaskFullX | 0.504883 |
GradientBasedCorrMaskFullY (1) | 0.276785 |
GradientBasedCorrMaskFullY | 0.967618 |
GradientBasedCorrMaskValue | 1.000000 |
GradientBasedCorrMaskWhat | Mask/Gradient |
GradientBasedCorrMaskZeroX (1) | 0.498417 |
GradientBasedCorrMaskZeroX | 0.502138 |
GradientBasedCorrMaskZeroY (1) | 0.771729 |
GradientBasedCorrMaskZeroY | 0.843273 |
GradientBasedCorrMoire | 0.000000 |
GradientBasedCorrSaturation (3) | 0.618617 |
GradientBasedCorrSaturation | 0.000000 |
GradientBasedCorrShadows2012 (1) | 0.000000 |
GradientBasedCorrShadows2012 | 0.002001 |
GradientBasedCorrSharpness (1) | 0.586033 |
GradientBasedCorrSharpness | 0.000000 |
GradientBasedCorrTemperature | 0.000000 |
GradientBasedCorrTint | 0.000000 |
GradientBasedCorrWhat | Correction |
GrainAmount | 0 |
GreenHue | 0 |
GreenSaturation | 0 |
HasCrop | True |
HasExtendedXMP | 3EFB908521633C84413D1798D96E945F |
HasSettings | True |
Highlights2012 | -100 |
HueAdjustmentAqua | 0 |
HueAdjustmentBlue | 0 |
HueAdjustmentGreen | 0 |
HueAdjustmentMagenta | 0 |
HueAdjustmentOrange | 0 |
HueAdjustmentPurple | 0 |
HueAdjustmentRed | 0 |
HueAdjustmentYellow | 0 |
HyperfocalDistance | 6.91 m |
ImageHeight | 1080 |
ImageNumber | 0 |
ImageSize | 1620x1080 |
ImageWidth | 1620 |
ISO | 200 |
Keywords | Lofoten, fjelltur, landskap |
Lens | EF17-40mm f/4L USM |
LensID (1) | 231 |
LensID | Canon EF 17-40mm f/4L USM |
LensInfo | 17-40mm f/? |
LensManualDistortionAmount | 0 |
LensModel | EF17-40mm f/4L USM |
LensProfileEnable | 0 |
LensProfileSetup | LensDefaults |
LightValue | 14.6 |
LuminanceAdjustmentAqua | 0 |
LuminanceAdjustmentBlue | +100 |
LuminanceAdjustmentGreen | 0 |
LuminanceAdjustmentMagenta | 0 |
LuminanceAdjustmentOrange | 0 |
LuminanceAdjustmentPurple | 0 |
LuminanceAdjustmentRed | +10 |
LuminanceAdjustmentYellow | 0 |
LuminanceSmoothing | 0 |
Make | Canon |
Marked | True |
MaxApertureValue | 4.0 |
Megapixels | 1.7 |
MeteringMode | Multi-segment |
Model | Canon EOS 7D |
ModifyDate (1) | 2015:06:30 09:09:29+02:00 |
ModifyDate | 2015:06:30 09:09:29 |
Orientation | Horizontal (normal) |
PaintCorrectionActive | true |
PaintCorrectionAmount | 1.000000 |
PaintCorrectionBrightness | 0.000000 |
PaintCorrectionClarity2012 (2) | -0.534013 |
PaintCorrectionClarity2012 | 0.000000 |
PaintCorrectionContrast2012 (1) | 0.347561 |
PaintCorrectionContrast2012 | 0.000000 |
PaintCorrectionDefringe | 0.000000 |
PaintCorrectionExposure2012 (1) | 0.369665 |
PaintCorrectionExposure2012 (2) | -0.319550 |
PaintCorrectionExposure2012 | -0.514768 |
PaintCorrectionHighlights2012 (1) | 0.000000 |
PaintCorrectionHighlights2012 | -1.000000 |
PaintCorrectionHue | 0.000000 |
PaintCorrectionLocalBlacks2012 (2) | 0.035156 |
PaintCorrectionLocalBlacks2012 | 0.000000 |
PaintCorrectionLocalWhites2012 (1) | -0.220941 |
PaintCorrectionLocalWhites2012 | 0.000000 |
PaintCorrectionLuminanceNoise (1) | 0.318121 |
PaintCorrectionLuminanceNoise | 0.000000 |
PaintCorrectionMaskCenterWeight (12) | 0.256759 |
PaintCorrectionMaskCenterWeight | 1.000000 |
PaintCorrectionMaskFlow (19) | 1.000000 |
PaintCorrectionMaskFlow | 0.611059 |
PaintCorrectionMaskRadius (1) | 0.002823 |
PaintCorrectionMaskRadius (10) | 0.001207 |
PaintCorrectionMaskRadius (12) | 0.000826 |
PaintCorrectionMaskRadius (18) | 0.000604 |
PaintCorrectionMaskRadius (21) | 0.000413 |
PaintCorrectionMaskRadius (30) | 0.000220 |
PaintCorrectionMaskRadius (40) | 0.000090 |
PaintCorrectionMaskRadius (51) | 0.000150 |
PaintCorrectionMaskRadius (64) | 0.000078 |
PaintCorrectionMaskRadius (7) | 0.001827 |
PaintCorrectionMaskRadius | 0.000073 |
PaintCorrectionMaskValue (14) | 0.000000 |
PaintCorrectionMaskValue | 1.000000 |
PaintCorrectionMaskWhat | Mask/Paint |
PaintCorrectionMoire (1) | -0.108327 |
PaintCorrectionMoire | 0.000000 |
PaintCorrectionSaturation | 0.000000 |
PaintCorrectionShadows2012 (1) | 0.618617 |
PaintCorrectionShadows2012 (2) | 1.000000 |
PaintCorrectionShadows2012 | 0.000000 |
PaintCorrectionSharpness | 0.000000 |
PaintCorrectionTemperature (1) | 0.000000 |
PaintCorrectionTemperature (2) | 0.442073 |
PaintCorrectionTemperature | -0.413777 |
PaintCorrectionTint | 0.000000 |
PaintCorrectionWhat | Correction |
ParametricDarks | -25 |
ParametricHighlights | +57 |
ParametricHighlightSplit | 75 |
ParametricLights | +26 |
ParametricMidtoneSplit | 50 |
ParametricShadows | -55 |
ParametricShadowSplit | 25 |
PerspectiveAspect | 0 |
PerspectiveHorizontal | 0 |
PerspectiveRotate | 0.0 |
PerspectiveScale | 100 |
PerspectiveUpright | 0 |
PerspectiveVertical | 0 |
PostCropVignetteAmount | 0 |
ProcessVersion | 6.7 |
ProfileDescription | sRGB IEC61966-2.1 |
RawFileName | IMG_7779.jpg |
RedHue | 0 |
RedSaturation | 0 |
Rights | Ann Birgitte Tveien |
Saturation | -71 |
SaturationAdjustmentAqua | -7 |
SaturationAdjustmentBlue | 0 |
SaturationAdjustmentGreen | 0 |
SaturationAdjustmentMagenta | 0 |
SaturationAdjustmentOrange | 0 |
SaturationAdjustmentPurple | +57 |
SaturationAdjustmentRed | +5 |
SaturationAdjustmentYellow | 0 |
ScaleFactor35efl | 1.6 |
SceneCaptureType | Standard |
SerialNumber | 2381207106 |
Shadows2012 | 0 |
ShadowTint | 0 |
SharpenDetail | 25 |
SharpenEdgeMasking | 0 |
SharpenRadius | +1.0 |
Sharpness | 25 |
ShutterSpeed | 1/3200 |
ShutterSpeedValue | 1/3200 |
Software | Adobe Photoshop Lightroom 6.1 (Macintosh) |
SplitToningBalance | -35 |
SplitToningHighlightHue | 55 |
SplitToningHighlightSaturation | 45 |
SplitToningShadowHue | 249 |
SplitToningShadowSaturation | 0 |
Subject | Lofoten, fjelltur, landskap |
Tint | +12 |
ToneCurve | 0, 0, 255, 255 |
ToneCurveBlue | 0, 0, 255, 255 |
ToneCurveGreen | 0, 0, 255, 255 |
ToneCurveName | Linear |
ToneCurveName2012 | Linear |
ToneCurvePV2012 | 0, 0, 255, 255 |
ToneCurvePV2012Blue | 0, 0, 255, 255 |
ToneCurvePV2012Green | 0, 0, 255, 255 |
ToneCurvePV2012Red | 0, 0, 255, 255 |
ToneCurveRed | 0, 0, 255, 255 |
ToneMapStrength | 0 |
Version | 9.1 |
Vibrance | 0 |
VignetteAmount | 0 |
WhiteBalance (1) | As Shot |
WhiteBalance | Auto |
Whites2012 | 0 |