Felt | Verdi |
2015-10-03T22:50:41+02:00 Filen 20151003_Hytta_3749m_tonemapped.tif er lagret
2015-10-03T22:52:07+02:00 Fil 20151003_Hytta_3749m_tonemapped.tif åpnet
2015-10-03T22:54:05+02:00 Filen 20151003_Hytta_3749m_tonemapped.jpg er lagret
AlreadyApplied | True |
Aperture | 16.0 |
ApertureValue | 16.0 |
ApproximateFocusDistance | 0.44 |
AutoLateralCA | 0 |
AutoWhiteVersion | 134348800 |
BitsPerSample (1) | 8 8 8 |
BitsPerSample | 8 |
BlackClip | 5.893014 |
Blacks2012 | +11 |
BlueHue | 0 |
BlueSaturation | 0 |
CameraProfile | Embedded |
Clarity2012 | 0 |
ColorComponents | 3 |
ColorMode | RGB |
ColorNoiseReduction | 0 |
ColorSaturation | 100.0 |
ColorSpace | Uncalibrated |
ColorTemperature | 5.5 |
ColorTransform | YCbCr |
Contrast2012 | 0 |
ConvertToGrayscale | False |
Copyright | Hasselblad H4D |
CopyrightNotice | Hasselblad H4D |
CreateDate | 2015:10:03 18:30:08 |
CreatorTool | Adobe Photoshop CC 2015 (Macintosh) |
CropAngle | 7.386043 |
CropBottom | 1 |
CropConstrainToWarp | 1 |
CropLeft | 0.115115 |
CropRight | 0.884885 |
CropTop | 0 |
DateCreated (1) | 2015:10:03 |
DateCreated | 2015:10:03 18:30:08 |
DateTimeOriginal | 2015:10:03 18:30:08 |
DefringeGreenAmount | 0 |
DefringeGreenHueHi | 60 |
DefringeGreenHueLo | 40 |
DefringePurpleAmount | 0 |
DefringePurpleHueHi | 70 |
DefringePurpleHueLo | 30 |
Dehaze | 0 |
ExifImageHeight | 811 |
ExifImageWidth | 1366 |
Exposure2012 | 0.00 |
ExposureProgram | Aperture-priority AE |
ExposureTime | 2 |
FNumber | 16.0 |
FocalLength | 24.0 mm |
FocalLength35efl | 24.0 mm |
Format | image/jpeg |
Gamma | 0.97 |
GrainAmount | 0 |
GreenHue | 0 |
GreenSaturation | 0 |
HasCrop | True |
HasSettings | True |
Highlights2012 | -41 |
HighlightsSmoothing | 0.0 |
HueAdjustmentAqua | 0 |
HueAdjustmentBlue | 0 |
HueAdjustmentGreen | 0 |
HueAdjustmentMagenta | 0 |
HueAdjustmentOrange | 0 |
HueAdjustmentPurple | 0 |
HueAdjustmentRed | 0 |
HueAdjustmentYellow | 0 |
ICCProfileName | Adobe RGB (1998) |
ImageHeight (1) | 3740 |
ImageHeight | 811 |
ImageSize | 1366x811 |
ImageWidth (1) | 6301 |
ImageWidth | 1366 |
IncrementalTemperature | +1 |
IncrementalTint | +11 |
ISO | 100 |
IsPano360 | No |
Lens | HCD 24 |
LensManualDistortionAmount | 0 |
LensModel | HCD 24 |
LensProfileEnable | 0 |
LensProfileSetup | LensDefaults |
LightValue | 7.0 |
LuminanceAdjustmentAqua | 0 |
LuminanceAdjustmentBlue | 0 |
LuminanceAdjustmentGreen | 0 |
LuminanceAdjustmentMagenta | 0 |
LuminanceAdjustmentOrange | 0 |
LuminanceAdjustmentPurple | 0 |
LuminanceAdjustmentRed | 0 |
LuminanceAdjustmentYellow | 0 |
LuminanceSmoothing | 0 |
Luminosity | 10.0 |
Make | Hasselblad |
Megapixels | 1.1 |
MeteringMode | Center-weighted average |
Method | Details Enhancer |
Microcontrast | 10.0 |
Microsmoothing | 0.0 |
Model | Hasselblad H4D |
ModifyDate (1) | 2015:10:03 22:54:05+02:00 |
ModifyDate | 2015:10:03 22:54:05 |
Orientation | Horizontal (normal) |
ParametricDarks | 0 |
ParametricHighlights | 0 |
ParametricHighlightSplit | 75 |
ParametricLights | 0 |
ParametricMidtoneSplit | 50 |
ParametricShadows | 0 |
ParametricShadowSplit | 25 |
PerspectiveAspect | 0 |
PerspectiveHorizontal | 0 |
PerspectiveRotate | 0.0 |
PerspectiveScale | 100 |
PerspectiveUpright | 0 |
PerspectiveVertical | 0 |
PhotographicSensitivity | 100 |
PhotometricInterpretation | RGB |
PlanarConfiguration | Chunky |
PostCropVignetteAmount | 0 |
ProcessVersion | 6.7 |
ProfileDescription | Adobe RGB (1998) |
Rating | 0 |
RawFileName | 20151003_Hytta_3749_tonemapped.tif |
RedHue | 0 |
RedSaturation | 0 |
Rights | Hasselblad H4D |
SamplesPerPixel | 3 |
Saturation | 0 |
SaturationAdjustmentAqua | 0 |
SaturationAdjustmentBlue | 0 |
SaturationAdjustmentGreen | 0 |
SaturationAdjustmentMagenta | 0 |
SaturationAdjustmentOrange | 0 |
SaturationAdjustmentPurple | 0 |
SaturationAdjustmentRed | 0 |
SaturationAdjustmentYellow | 0 |
SaturationHighlights | 10.0 |
SaturationShadows | 10.0 |
Shadows2012 | +53 |
ShadowsClipping | 0.0 |
ShadowsSmoothing | 0.0 |
ShadowTint | 0 |
SharpenDetail | 25 |
SharpenEdgeMasking | 0 |
SharpenRadius | +1.0 |
Sharpness | 0 |
ShutterSpeed | 2 |
ShutterSpeedValue | 2 |
Smoothing | -0.2 |
SmoothingMode | Slider |
Software | Adobe Photoshop CC 2015 (Macintosh) |
SplitToningBalance | 0 |
SplitToningHighlightHue | 0 |
SplitToningHighlightSaturation | 0 |
SplitToningShadowHue | 0 |
SplitToningShadowSaturation | 0 |
Strength | 26.3 |
ToneCurve | 0, 0, 255, 255 |
ToneCurveBlue | 0, 0, 255, 255 |
ToneCurveGreen | 0, 0, 255, 255 |
ToneCurveName | Linear |
ToneCurveName2012 | Linear |
ToneCurvePV2012 | 0, 0, 255, 255 |
ToneCurvePV2012Blue | 0, 0, 255, 255 |
ToneCurvePV2012Green | 0, 0, 255, 255 |
ToneCurvePV2012Red | 0, 0, 255, 255 |
ToneCurveRed | 0, 0, 255, 255 |
ToneMapStrength | 0 |
URL_List | |
Version (1) | 5.1 |
Version | 9.1.1 |
Vibrance | +20 |
VignetteAmount | 0 |
WhiteBalance | Custom |
WhiteClip | 0.563251 |
Whites2012 | -38 |