Felt | Verdi |
AlreadyApplied | True |
Aperture | 22.0 |
ApertureValue | 22.0 |
ApproximateFocusDistance | 4294967295 |
AutoLateralCA | 1 |
AutoWhiteVersion | 134348800 |
BitsPerSample | 8 |
Blacks2012 | -51 |
BlueHue | 0 |
BlueSaturation | 0 |
CameraProfile | Adobe Standard |
CFAPattern | [Red,Green][Green,Blue] |
CircleOfConfusion | 0.030 mm |
Clarity2012 | +13 |
ColorComponents | 3 |
ColorMode | RGB |
ColorNoiseReduction | 25 |
ColorNoiseReductionDetail | 50 |
ColorNoiseReductionSmoothness | 50 |
ColorSpace | Uncalibrated |
ColorTemperature | 5750 |
ColorTransform | YCbCr |
Contrast | Normal |
Contrast2012 | +11 |
ConvertToGrayscale | False |
CreateDate | 2015:11:21 14:13:43 |
CreatorTool | Ver.1.01 |
CropAngle | 0.475831 |
CropBottom | 0.997287 |
CropConstrainToWarp | 0 |
CropLeft | 0.041919 |
CropRight | 0.988214 |
CropTop | 0.122119 |
CustomRendered | Normal |
DateCreated (1) | 2015:11:21 |
DateCreated | 2015:11:21 14:13:43.009 |
DateTimeOriginal | 2015:11:21 14:13:43 |
DefringeGreenAmount | 0 |
DefringeGreenHueHi | 60 |
DefringeGreenHueLo | 40 |
DefringePurpleAmount | 0 |
DefringePurpleHueHi | 70 |
DefringePurpleHueLo | 30 |
Dehaze | +18 |
DigitalZoomRatio | 1 |
DistortionCorrectionAlreadyApplied | True |
DOF | inf (0.39 m - inf) |
ExifImageHeight | 4241 |
ExifImageWidth | 7000 |
Exposure2012 | 0.00 |
ExposureCompensation | 0 |
ExposureMode | Manual |
ExposureProgram | Manual |
ExposureTime | 1 |
Flash | Off, Did not fire |
FNumber | 22.0 |
FocalLength | 16.0 mm |
FocalLength35efl | 16.0 mm (35 mm equivalent: 16.0 mm) |
FocalLengthIn35mmFormat | 16 mm |
Format | image/jpeg |
FOV | 96.7 deg |
GainControl | None |
GradientBasedCorrActive | true |
GradientBasedCorrAmount | 1.000000 |
GradientBasedCorrBrightness | 0.000000 |
GradientBasedCorrClarity | 0.000000 |
GradientBasedCorrClarity2012 | 0.506764 |
GradientBasedCorrContrast | 0.000000 |
GradientBasedCorrContrast2012 | 0.139672 |
GradientBasedCorrDefringe | 0.000000 |
GradientBasedCorrExposure | 0.000000 |
GradientBasedCorrExposure2012 | 0.000000 |
GradientBasedCorrHighlights2012 | 0.433213 |
GradientBasedCorrHue | 240.000000 |
GradientBasedCorrLocalBlacks2012 | -0.138243 |
GradientBasedCorrLocalWhites2012 | 0.078697 |
GradientBasedCorrLuminanceNoise | 0.000000 |
GradientBasedCorrMaskFullX | 0.494020 |
GradientBasedCorrMaskFullY | 0.132575 |
GradientBasedCorrMaskValue | 1.000000 |
GradientBasedCorrMaskWhat | Mask/Gradient |
GradientBasedCorrMaskZeroX | 0.492991 |
GradientBasedCorrMaskZeroY | 0.559972 |
GradientBasedCorrMoire | 0.000000 |
GradientBasedCorrSaturation (1) | -0.399009 |
GradientBasedCorrSaturation | 0.000000 |
GradientBasedCorrShadows2012 | -0.343941 |
GradientBasedCorrSharpness | 0.000000 |
GradientBasedCorrTemperature | 0.000000 |
GradientBasedCorrTint | 0.000000 |
GradientBasedCorrWhat | Correction |
GrainAmount | 0 |
GreenHue | 0 |
GreenSaturation | 0 |
HasCrop | True |
HasSettings | True |
Highlights2012 | -100 |
HueAdjustmentAqua | +6 |
HueAdjustmentBlue | +6 |
HueAdjustmentGreen | -7 |
HueAdjustmentMagenta | 0 |
HueAdjustmentOrange | -5 |
HueAdjustmentPurple | 0 |
HueAdjustmentRed | 0 |
HueAdjustmentYellow | -2 |
HyperfocalDistance | 0.39 m |
ICCProfileName | Adobe RGB (1998) |
ImageHeight | 4241 |
ImageNumber | 6287 |
ImageSize | 7000x4241 |
ImageWidth | 7000 |
ISO | 100 |
Label | |
LateralChromaticAberrationCorrectionAlreadyApplied | True |
Lens | 14.0-24.0 mm f/2.8 |
LensID (1) | 146 |
LensID | AF-S Zoom-Nikkor 14-24mm f/2.8G ED |
LensInfo | 14-24mm f/2.8 |
LensManualDistortionAmount | 0 |
LensModel | 14.0-24.0 mm f/2.8 |
LensProfileChromaticAberrationScale | 100 |
LensProfileDistortionScale | 100 |
LensProfileEnable | 1 |
LensProfileFilename | NIKON D3X (Nikon FX 14-24mm f2.8 G ED) - RAW.lcp |
LensProfileName | Adobe (Nikon AF-S NIKKOR 14-24mm f/2.8G ED) |
LensProfileSetup | LensDefaults |
LensProfileVignettingScale | 100 |
LightSource | Cloudy |
LightValue | 8.9 |
LuminanceAdjustmentAqua | -8 |
LuminanceAdjustmentBlue | -7 |
LuminanceAdjustmentGreen | -6 |
LuminanceAdjustmentMagenta | 0 |
LuminanceAdjustmentOrange | -7 |
LuminanceAdjustmentPurple | 0 |
LuminanceAdjustmentRed | 0 |
LuminanceAdjustmentYellow | -3 |
LuminanceSmoothing | 0 |
Make | NIKON CORPORATION |
MaxApertureValue | 2.8 |
Megapixels | 29.7 |
MeteringMode | Spot |
Model | NIKON D800 |
ModifyDate (1) | 2015:11:23 16:37:52+01:00 |
ModifyDate | 2015:11:23 16:37:52 |
Orientation | Horizontal (normal) |
ParametricDarks | -10 |
ParametricHighlights | +9 |
ParametricHighlightSplit | 75 |
ParametricLights | +41 |
ParametricMidtoneSplit | 50 |
ParametricShadows | 0 |
ParametricShadowSplit | 25 |
PerspectiveAspect | 0 |
PerspectiveHorizontal | 0 |
PerspectiveRotate | 0.0 |
PerspectiveScale | 100 |
PerspectiveUpright | 0 |
PerspectiveVertical | 0 |
PostCropVignetteAmount | 0 |
ProcessVersion | 6.7 |
ProfileDescription | Adobe RGB (1998) |
Rating | 0 |
RawFileName | _DSC4567.NEF |
RedHue | 0 |
RedSaturation | 0 |
Saturation (1) | +80 |
Saturation | Normal |
SaturationAdjustmentAqua | +9 |
SaturationAdjustmentBlue | +7 |
SaturationAdjustmentGreen | +2 |
SaturationAdjustmentMagenta | 0 |
SaturationAdjustmentOrange | +5 |
SaturationAdjustmentPurple | 0 |
SaturationAdjustmentRed | 0 |
SaturationAdjustmentYellow | +3 |
ScaleFactor35efl | 1.0 |
SceneCaptureType | Landscape |
SceneType | Directly photographed |
SensingMethod | One-chip color area |
SensitivityType | Recommended Exposure Index |
SerialNumber | 6044631 |
Shadows2012 | +100 |
ShadowTint | 0 |
SharpenDetail | 25 |
SharpenEdgeMasking | 59 |
SharpenRadius | +3.0 |
Sharpness (1) | 54 |
Sharpness | Normal |
ShutterSpeed | 1 |
ShutterSpeedValue | 1 |
Software | Adobe Photoshop CC 2015 (Macintosh) |
SplitToningBalance | 0 |
SplitToningHighlightHue | 226 |
SplitToningHighlightSaturation | 23 |
SplitToningShadowHue | 234 |
SplitToningShadowSaturation | 13 |
SubjectDistanceRange | Unknown |
Tint | +5 |
ToneCurve | 0, 0, 32, 22, 64, 56, 128, 128, 192, 196, 255, 255 |
ToneCurveBlue | 0, 0, 255, 255 |
ToneCurveGreen | 0, 0, 255, 255 |
ToneCurveName | Medium Contrast |
ToneCurveName2012 | Linear |
ToneCurvePV2012 | 0, 0, 255, 255 |
ToneCurvePV2012Blue | 0, 0, 255, 255 |
ToneCurvePV2012Green | 0, 0, 255, 255 |
ToneCurvePV2012Red | 0, 0, 255, 255 |
ToneCurveRed | 0, 0, 255, 255 |
ToneMapStrength | 0 |
URL_List | |
Version | 9.1 |
Vibrance | -83 |
VignetteAmount | 0 |
VignetteCorrectionAlreadyApplied | True |
WhiteBalance (1) | As Shot |
WhiteBalance | Manual |
Whites2012 | +33 |