Felt | Verdi |
AlreadyApplied | True |
Aperture | 5.6 |
ApertureValue | 5.6 |
ApproximateFocusDistance | 7.5 |
Artist | Øyvind Andersen |
AutoLateralCA | 1 |
AutoWhiteVersion | 134348800 |
BitsPerSample | 8 |
Blacks2012 | -19 |
BlueHue | 0 |
BlueSaturation | 0 |
By-line | Øyvind Andersen |
CameraProfile | Camera Standard |
CFAPattern | [Red,Green][Green,Blue] |
CircleOfConfusion | 0.020 mm |
Clarity2012 | +10 |
ColorComponents | 3 |
ColorNoiseReduction | 25 |
ColorNoiseReductionDetail | 50 |
ColorNoiseReductionSmoothness | 50 |
ColorTemperature | 5950 |
ColorTransform | YCbCr |
Contrast | Normal |
Contrast2012 | +5 |
ConvertToGrayscale | False |
Copyright | Øyvind Andersen |
CopyrightFlag | True |
CopyrightNotice | Øyvind Andersen |
CreateDate (1) | 2015:03:29 15:47:29.50 |
CreateDate | 2015:03:29 15:47:29 |
Creator | Øyvind Andersen |
CreatorTool | Adobe Photoshop Lightroom 5.7 (Windows) |
CropAngle | 0 |
CropBottom | 0.920732 |
CropConstrainToWarp | 1 |
CropLeft | 0.207316 |
CropRight | 0.97561 |
CropTop | 0.152439 |
CustomRendered | Normal |
DateCreated (1) | 2015:03:29 |
DateCreated | 2015:03:29 15:47:29.50 |
DateTimeOriginal | 2015:03:29 15:47:29 |
DefringeGreenAmount | 0 |
DefringeGreenHueHi | 60 |
DefringeGreenHueLo | 40 |
DefringePurpleAmount | 0 |
DefringePurpleHueHi | 70 |
DefringePurpleHueLo | 30 |
DigitalZoomRatio | 1 |
DOF | 0.13 m (7.43 - 7.57 m) |
Exposure2012 | +0.35 |
ExposureCompensation | 0 |
ExposureMode | Auto |
ExposureProgram | Aperture-priority AE |
ExposureTime | 1/800 |
Flash | Off, Did not fire |
FNumber | 5.6 |
FocalLength | 300.0 mm |
FocalLength35efl | 300.0 mm (35 mm equivalent: 450.0 mm) |
FocalLengthIn35mmFormat | 450 mm |
Format | image/jpeg |
FOV | 4.6 deg |
GainControl | Low gain up |
GrainAmount | 0 |
GreenHue | 0 |
GreenSaturation | 0 |
HasCrop | True |
HasSettings | True |
Highlights2012 | -100 |
HueAdjustmentAqua | 0 |
HueAdjustmentBlue | 0 |
HueAdjustmentGreen | 0 |
HueAdjustmentMagenta | 0 |
HueAdjustmentOrange | 0 |
HueAdjustmentPurple | 0 |
HueAdjustmentRed | 0 |
HueAdjustmentYellow | 0 |
HyperfocalDistance | 802.33 m |
ImageHeight | 1365 |
ImageNumber | 5640 |
ImageSize | 2048x1365 |
ImageWidth | 2048 |
ISO | 800 |
Keywords | Bird, Bird photo, D7100, Dyr, Fjær, Fjærdrakt, Fugel, Fuglefoto, Fugler, Kaie, Nebb, Nikon, Nikon D7100, Sigma, Sigma 150-500mm, Spurvfugler, Sykkel, Vinger, Øyvind Andersen, Øyvind*Kråkefugler |
Label | Yellow |
Lens | 70.0-300.0 mm f/4.5-5.6 |
LensID (1) | 141 |
LensID | AF-S VR Zoom-Nikkor 70-300mm f/4.5-5.6G IF-ED |
LensInfo | 70-300mm f/4.5-5.6 |
LensManualDistortionAmount | 0 |
LensModel | 70.0-300.0 mm f/4.5-5.6 |
LensProfileChromaticAberrationScale | 100 |
LensProfileDistortionScale | 100 |
LensProfileEnable | 1 |
LensProfileFilename | NIKON D700 (Nikon FX 70-300mm f4.5-5.6 G IF-ED VR) - RAW.lcp |
LensProfileName | Adobe (Nikon AF-S VR Zoom-Nikkor 70-300mm f/4.5-5.6G IF-ED) |
LensProfileSetup | LensDefaults |
LensProfileVignettingScale | 100 |
LightSource | Fine Weather |
LightValue | 11.6 |
LuminanceAdjustmentAqua | 0 |
LuminanceAdjustmentBlue | 0 |
LuminanceAdjustmentGreen | 0 |
LuminanceAdjustmentMagenta | 0 |
LuminanceAdjustmentOrange | 0 |
LuminanceAdjustmentPurple | 0 |
LuminanceAdjustmentRed | 0 |
LuminanceAdjustmentYellow | 0 |
LuminanceNoiseReductionContrast | 0 |
LuminanceNoiseReductionDetail | 50 |
LuminanceSmoothing | 10 |
Make | NIKON CORPORATION |
Marked | True |
MaxApertureValue | 5.7 |
Megapixels | 2.8 |
MeteringMode | Multi-segment |
Model | NIKON D7100 |
ModifyDate (1) | 2016:01:28 07:53:09+01:00 |
ModifyDate | 2016:01:28 07:53:09 |
ParametricDarks | 0 |
ParametricHighlights | 0 |
ParametricHighlightSplit | 75 |
ParametricLights | 0 |
ParametricMidtoneSplit | 50 |
ParametricShadows | 0 |
ParametricShadowSplit | 25 |
PerspectiveAspect | 0 |
PerspectiveHorizontal | 0 |
PerspectiveRotate | 0.0 |
PerspectiveScale | 100 |
PerspectiveUpright | 0 |
PerspectiveVertical | 0 |
PostCropVignetteAmount | -20 |
PostCropVignetteFeather | 50 |
PostCropVignetteHighlightContrast | 0 |
PostCropVignetteMidpoint | 50 |
PostCropVignetteRoundness | 0 |
PostCropVignetteStyle | 1 |
ProcessVersion | 6.7 |
ProfileDescription | sRGB IEC61966-2.1 |
Rating | 1 |
RedHue | 0 |
RedSaturation | 0 |
Rights | Øyvind Andersen |
Saturation (1) | 0 |
Saturation | Normal |
SaturationAdjustmentAqua | 0 |
SaturationAdjustmentBlue | 0 |
SaturationAdjustmentGreen | 0 |
SaturationAdjustmentMagenta | 0 |
SaturationAdjustmentOrange | 0 |
SaturationAdjustmentPurple | 0 |
SaturationAdjustmentRed | 0 |
SaturationAdjustmentYellow | 0 |
ScaleFactor35efl | 1.5 |
SceneCaptureType | Standard |
SceneType | Directly photographed |
SensingMethod | One-chip color area |
SensitivityType | Recommended Exposure Index |
SerialNumber | 4532903 |
Shadows2012 | 0 |
ShadowTint | 0 |
SharpenDetail | 20 |
SharpenEdgeMasking | 64 |
SharpenRadius | +1.0 |
Sharpness (1) | 90 |
Sharpness | Normal |
ShutterSpeed | 1/800 |
ShutterSpeedValue | 1/800 |
Software | Adobe Photoshop Lightroom 5.7 (Windows) |
SplitToningBalance | 0 |
SplitToningHighlightHue | 0 |
SplitToningHighlightSaturation | 0 |
SplitToningShadowHue | 0 |
SplitToningShadowSaturation | 0 |
Subject | Bird, Bird photo, D7100, Dyr, Fjær, Fjærdrakt, Fugel, Fuglefoto, Fugler, Kaie, Nebb, Nikon, Nikon D7100, Sigma, Sigma 150-500mm, Spurvfugler, Sykkel, Vinger, Øyvind Andersen, Øyvind*Kråkefugler |
SubjectDistanceRange | Unknown |
Tint | +1 |
ToneCurve | 0, 0, 255, 255 |
ToneCurveBlue | 0, 0, 255, 255 |
ToneCurveGreen | 0, 0, 255, 255 |
ToneCurveName | Linear |
ToneCurveName2012 | Linear |
ToneCurvePV2012 | 0, 0, 255, 255 |
ToneCurvePV2012Blue | 0, 0, 255, 255 |
ToneCurvePV2012Green | 0, 0, 255, 255 |
ToneCurvePV2012Red | 0, 0, 255, 255 |
ToneCurveRed | 0, 0, 255, 255 |
Version | 8.7 |
Vibrance | 0 |
VignetteAmount | 0 |
WhiteBalance (1) | As Shot |
WhiteBalance | Manual |
Whites2012 | +57 |