Felt | Verdi |
AlreadyApplied | True |
Aperture | 11.0 |
ApertureValue | 11.0 |
ApproximateFocusDistance | 21.1 |
AutoLateralCA | 1 |
AutoWhiteVersion | 134348800 |
BitsPerSample | 8 |
Blacks2012 | +17 |
BlueHue | 0 |
BlueSaturation | 0 |
CameraProfile | Adobe Standard |
CFAPattern | [Red,Green][Green,Blue] |
CircleOfConfusion | 0.030 mm |
Clarity2012 | +45 |
ColorComponents | 3 |
ColorNoiseReduction | 25 |
ColorNoiseReductionDetail | 50 |
ColorNoiseReductionSmoothness | 50 |
ColorSpace | Uncalibrated |
ColorTemperature | 6100 |
ColorTransform | YCbCr |
Contrast | Normal |
Contrast2012 | +38 |
ConvertToGrayscale | False |
CreateDate (1) | 2016:05:10 19:12:32.46 |
CreateDate | 2016:05:10 19:12:32 |
CreatorTool | Adobe Photoshop Lightroom 6.5.1 (Windows) |
CropAngle | 0 |
CropBottom | 0.972043 |
CropConstrainToWarp | 0 |
CropLeft | 0.058618 |
CropRight | 0.815124 |
CropTop | 0.162577 |
CustomRendered | Normal |
DateCreated (1) | 2016:05:10 |
DateCreated | 2016:05:10 19:12:32.46 |
DateTimeOriginal | 2016:05:10 19:12:32 |
DefringeGreenAmount | 0 |
DefringeGreenHueHi | 60 |
DefringeGreenHueLo | 40 |
DefringePurpleAmount | 0 |
DefringePurpleHueHi | 70 |
DefringePurpleHueLo | 30 |
Dehaze | 0 |
DigitalZoomRatio | 1 |
DOF | inf (5.25 m - inf) |
Exposure2012 | 0.00 |
ExposureCompensation | -1/3 |
ExposureMode | Manual |
ExposureProgram | Manual |
ExposureTime | 30 |
Flash | Off, Did not fire |
FNumber | 11.0 |
FocalLength | 48.0 mm |
FocalLength35efl | 48.0 mm (35 mm equivalent: 48.0 mm) |
FocalLengthIn35mmFormat | 48 mm |
Format | image/jpeg |
FOV | 41.1 deg |
GainControl | None |
GradientBasedCorrActive | true |
GradientBasedCorrAmount | 1.000000 |
GradientBasedCorrBrightness | 0.000000 |
GradientBasedCorrClarity2012 | 0.379310 |
GradientBasedCorrContrast2012 | 0.287360 |
GradientBasedCorrDefringe | 0.000000 |
GradientBasedCorrExposure2012 | 0.172500 |
GradientBasedCorrHighlights2012 | 0.000000 |
GradientBasedCorrHue | 240.000000 |
GradientBasedCorrLocalBlacks2012 | 0.000000 |
GradientBasedCorrLocalDehaze | 0.000000 |
GradientBasedCorrLocalWhites2012 | 0.000000 |
GradientBasedCorrLuminanceNoise | 0.000000 |
GradientBasedCorrMaskFullX | 0.506945 |
GradientBasedCorrMaskFullY | 0.571474 |
GradientBasedCorrMaskValue | 1.000000 |
GradientBasedCorrMaskWhat | Mask/Gradient |
GradientBasedCorrMaskZeroX | 0.555298 |
GradientBasedCorrMaskZeroY | 0.543876 |
GradientBasedCorrMoire | 0.000000 |
GradientBasedCorrSaturation | 0.000000 |
GradientBasedCorrShadows2012 | 0.218390 |
GradientBasedCorrSharpness | 0.000000 |
GradientBasedCorrTemperature | 0.000000 |
GradientBasedCorrTint | 0.000000 |
GradientBasedCorrWhat | Correction |
GrainAmount | 0 |
GreenHue | 0 |
GreenSaturation | 0 |
HasCrop | True |
HasSettings | True |
Highlights2012 | -60 |
HueAdjustmentAqua | 0 |
HueAdjustmentBlue | 0 |
HueAdjustmentGreen | 0 |
HueAdjustmentMagenta | 0 |
HueAdjustmentOrange | 0 |
HueAdjustmentPurple | 0 |
HueAdjustmentRed | 0 |
HueAdjustmentYellow | 0 |
HyperfocalDistance | 6.97 m |
ImageHeight | 4551 |
ImageNumber | 7161 |
ImageSize | 3251x4551 |
ImageWidth | 3251 |
ISO | 100 |
Lens | 28.0-75.0 mm f/2.8 |
LensID (1) | 250 |
LensID | Tamron SP AF 28-75mm f/2.8 XR Di LD Aspherical (IF) Macro (A09NII) |
LensInfo | 28-75mm f/2.8 |
LensManualDistortionAmount | 0 |
LensModel | 28.0-75.0 mm f/2.8 |
LensProfileChromaticAberrationScale | 100 |
LensProfileDistortionScale | 100 |
LensProfileEnable | 1 |
LensProfileFilename | NIKON CORPORATION (TAMRON SP 28-75mm F2.8 Di A09N) - RAW.lcp |
LensProfileName | Adobe (TAMRON SP 28-75mm F/2.8 Di A09N, NIKON CORPORATION) |
LensProfileSetup | Custom |
LensProfileVignettingScale | 100 |
LightSource | Unknown |
LightValue | 2.0 |
LuminanceAdjustmentAqua | 0 |
LuminanceAdjustmentBlue | -67 |
LuminanceAdjustmentGreen | -18 |
LuminanceAdjustmentMagenta | 0 |
LuminanceAdjustmentOrange | -40 |
LuminanceAdjustmentPurple | 0 |
LuminanceAdjustmentRed | 0 |
LuminanceAdjustmentYellow | -44 |
LuminanceSmoothing | 0 |
Make | NIKON CORPORATION |
MaxApertureValue | 2.8 |
Megapixels | 14.8 |
MeteringMode | Multi-segment |
Model | NIKON D750 |
ModifyDate (1) | 2016:05:12 17:47:56+02:00 |
ModifyDate | 2016:05:12 17:47:56 |
ParametricDarks | 0 |
ParametricHighlights | 0 |
ParametricHighlightSplit | 75 |
ParametricLights | 0 |
ParametricMidtoneSplit | 50 |
ParametricShadows | 0 |
ParametricShadowSplit | 25 |
PerspectiveAspect | 0 |
PerspectiveHorizontal | 0 |
PerspectiveRotate | 0.0 |
PerspectiveScale | 100 |
PerspectiveUpright | 0 |
PerspectiveVertical | 0 |
PostCropVignetteAmount | 0 |
ProcessVersion | 6.7 |
ProfileDescription | ProPhoto RGB |
Rating | 1 |
RedHue | 0 |
RedSaturation | 0 |
Saturation (1) | -12 |
Saturation | Normal |
SaturationAdjustmentAqua | 0 |
SaturationAdjustmentBlue | +27 |
SaturationAdjustmentGreen | +40 |
SaturationAdjustmentMagenta | 0 |
SaturationAdjustmentOrange | +33 |
SaturationAdjustmentPurple | 0 |
SaturationAdjustmentRed | 0 |
SaturationAdjustmentYellow | +38 |
ScaleFactor35efl | 1.0 |
SceneCaptureType | Standard |
SceneType | Directly photographed |
SensingMethod | One-chip color area |
SensitivityType | Recommended Exposure Index |
SerialNumber | 6074507 |
Shadows2012 | +93 |
ShadowTint | 0 |
SharpenDetail | 43 |
SharpenEdgeMasking | 62 |
SharpenRadius | +1.0 |
Sharpness (1) | 63 |
Sharpness | Normal |
ShutterSpeed | 30 |
ShutterSpeedValue | 30 |
Software | Adobe Photoshop Lightroom 6.5.1 (Windows) |
SplitToningBalance | 0 |
SplitToningHighlightHue | 0 |
SplitToningHighlightSaturation | 0 |
SplitToningShadowHue | 0 |
SplitToningShadowSaturation | 0 |
SubjectDistanceRange | Unknown |
Tint | +22 |
ToneCurve | 0, 0, 255, 255 |
ToneCurveBlue | 0, 0, 255, 255 |
ToneCurveGreen | 0, 0, 255, 255 |
ToneCurveName | Linear |
ToneCurveName2012 | Linear |
ToneCurvePV2012 | 0, 0, 255, 255 |
ToneCurvePV2012Blue | 0, 0, 255, 255 |
ToneCurvePV2012Green | 0, 0, 255, 255 |
ToneCurvePV2012Red | 0, 0, 255, 255 |
ToneCurveRed | 0, 0, 255, 255 |
ToneMapStrength | 0 |
Version | 9.5.1 |
Vibrance | +10 |
VignetteAmount | 0 |
WhiteBalance (1) | As Shot |
WhiteBalance | Auto |
Whites2012 | +62 |