Felt | Verdi |
AlreadyApplied | True |
Aperture | 7.1 |
ApertureValue | 7.1 |
ApproximateFocusDistance | 4294967295 |
Artist | Haavard Jangaard Strand |
AutoLateralCA | 1 |
AutoWhiteVersion | 134348800 |
BitsPerSample | 8 |
Blacks2012 | -61 |
BlueHue | 0 |
BlueSaturation | 0 |
By-line | Haavard Jangaard Strand |
CameraProfile | Adobe Standard |
CircleOfConfusion | 0.005 mm |
Clarity2012 | +64 |
ColorComponents | 3 |
ColorNoiseReduction | 25 |
ColorNoiseReductionDetail | 50 |
ColorNoiseReductionSmoothness | 50 |
ColorSpace | sRGB |
ColorTemperature | 5700 |
ColorTransform | YCbCr |
Contrast2012 | +27 |
ConvertToGrayscale | True |
CreateDate (1) | 2016:07:30 18:17:05.00 |
CreateDate | 2016:07:30 18:17:05 |
Creator | Haavard Jangaard Strand |
CreatorTool | Adobe Photoshop Lightroom 6.5 (Windows) |
CropAngle | 0 |
CropBottom | 0.986111 |
CropConstrainToWarp | 0 |
CropLeft | 0 |
CropRight | 0.984954 |
CropTop | 0.144097 |
CustomRendered | Normal |
DateCreated (1) | 2016:07:30 |
DateCreated | 2016:07:30 18:17:05.00 |
DateTimeOriginal | 2016:07:30 18:17:05 |
Dehaze | 0 |
DOF | inf (832.18 m - inf) |
Exposure2012 | +0.81 |
ExposureCompensation | 0 |
ExposureMode | Auto |
ExposureProgram | Aperture-priority AE |
ExposureTime | 1/400 |
Firmware | 1.0.5 |
Flash | Off, Did not fire |
FlashCompensation | 0 |
FNumber | 7.1 |
FocalLength | 176.0 mm |
FocalLength35efl | 176.0 mm (35 mm equivalent: 1008.7 mm) |
Format | image/jpeg |
FOV | 2.0 deg |
GradientBasedCorrActive | true |
GradientBasedCorrAmount | 1.000000 |
GradientBasedCorrBrightness | 0.000000 |
GradientBasedCorrClarity2012 | 0.000000 |
GradientBasedCorrContrast2012 | 0.000000 |
GradientBasedCorrDefringe | 0.000000 |
GradientBasedCorrExposure2012 | -0.162750 |
GradientBasedCorrHighlights2012 | 0.000000 |
GradientBasedCorrHue | 0.000000 |
GradientBasedCorrLocalBlacks2012 | 0.000000 |
GradientBasedCorrLocalDehaze | 0.000000 |
GradientBasedCorrLocalWhites2012 | 0.000000 |
GradientBasedCorrLuminanceNoise | 0.000000 |
GradientBasedCorrMaskFullX | 0.491825 |
GradientBasedCorrMaskFullY | 0.168540 |
GradientBasedCorrMaskValue | 1.000000 |
GradientBasedCorrMaskWhat | Mask/Gradient |
GradientBasedCorrMaskZeroX | 0.491835 |
GradientBasedCorrMaskZeroY | 0.393124 |
GradientBasedCorrMoire | 0.000000 |
GradientBasedCorrSaturation | 0.000000 |
GradientBasedCorrShadows2012 | 0.000000 |
GradientBasedCorrSharpness | 0.000000 |
GradientBasedCorrTemperature | 0.000000 |
GradientBasedCorrTint | 0.000000 |
GradientBasedCorrWhat | Correction |
GrainAmount | 0 |
GrayMixerAqua | -19 |
GrayMixerBlue | +8 |
GrayMixerGreen | -26 |
GrayMixerMagenta | +4 |
GrayMixerOrange | -18 |
GrayMixerPurple | +15 |
GrayMixerRed | -9 |
GrayMixerYellow | -22 |
GreenHue | 0 |
GreenSaturation | 0 |
HasCrop | True |
HasSettings | True |
Highlights2012 | -72 |
HyperfocalDistance | 832.18 m |
ImageHeight | 912 |
ImageNumber | 0 |
ImageSize | 1600x912 |
ImageWidth | 1600 |
ISO | 100 |
Keywords | biltur, seljeneshornet, sommer |
Label | Green |
Lens | EF70-200mm f/4L USM |
LensID (1) | 186 |
LensID | Canon EF 70-200mm f/4L USM |
LensInfo | 70-200mm f/? |
LensManualDistortionAmount | 0 |
LensModel | EF70-200mm f/4L USM |
LensProfileChromaticAberrationScale | 100 |
LensProfileDistortionScale | 100 |
LensProfileEnable | 1 |
LensProfileFilename | Canon EOS 5D Mark II (Canon EF 70-200mm f4L USM) - RAW.lcp |
LensProfileName | Adobe (Canon EF 70-200mm f/4 L USM) |
LensProfileSetup | LensDefaults |
LensProfileVignettingScale | 100 |
LensSerialNumber | 0000000000 |
LightValue | 14.3 |
LuminanceNoiseReductionContrast | 0 |
LuminanceNoiseReductionDetail | 50 |
LuminanceSmoothing | 19 |
Make | Canon |
MaxApertureValue | 4.0 |
Megapixels | 1.5 |
MeteringMode | Partial |
Model | Canon EOS 7D Mark II |
ModifyDate (1) | 2016:07:31 18:56:23+02:00 |
ModifyDate | 2016:07:31 18:56:23 |
ParametricDarks | 0 |
ParametricHighlights | 0 |
ParametricHighlightSplit | 75 |
ParametricLights | 0 |
ParametricMidtoneSplit | 50 |
ParametricShadows | 0 |
ParametricShadowSplit | 25 |
PerspectiveAspect | 0 |
PerspectiveHorizontal | 0 |
PerspectiveRotate | 0.0 |
PerspectiveScale | 100 |
PerspectiveUpright | 0 |
PerspectiveVertical | 0 |
PostCropVignetteAmount | 0 |
ProcessVersion | 6.7 |
ProfileDescription | sRGB IEC61966-2.1 |
RecommendedExposureIndex | 100 |
RedHue | 0 |
RedSaturation | 0 |
ScaleFactor35efl | 5.7 |
SceneCaptureType | Standard |
SensitivityType | Recommended Exposure Index |
SerialNumber | 063021007049 |
Shadows2012 | +71 |
ShadowTint | 0 |
SharpenDetail | 25 |
SharpenEdgeMasking | 82 |
SharpenRadius | +1.4 |
Sharpness | 41 |
ShutterSpeed | 1/400 |
ShutterSpeedValue | 1/400 |
Software | Adobe Photoshop Lightroom 6.5 (Windows) |
SplitToningBalance | 0 |
SplitToningHighlightHue | 0 |
SplitToningHighlightSaturation | 0 |
SplitToningShadowHue | 0 |
SplitToningShadowSaturation | 0 |
Subject | biltur, seljeneshornet, sommer |
Tint | +8 |
ToneCurve | 0, 0, 255, 255 |
ToneCurveBlue | 0, 0, 255, 255 |
ToneCurveGreen | 0, 0, 255, 255 |
ToneCurveName | Linear |
ToneCurveName2012 | Linear |
ToneCurvePV2012 | 0, 0, 255, 255 |
ToneCurvePV2012Blue | 0, 0, 255, 255 |
ToneCurvePV2012Green | 0, 0, 255, 255 |
ToneCurvePV2012Red | 0, 0, 255, 255 |
ToneCurveRed | 0, 0, 255, 255 |
ToneMapStrength | 0 |
Version | 9.5 |
VignetteAmount | 0 |
WhiteBalance (1) | As Shot |
WhiteBalance | Auto |
Whites2012 | +19 |