Felt | Verdi |
AlreadyApplied | True |
Aperture | 5.6 |
ApertureValue | 5.6 |
AutoLateralCA | 0 |
AutoWhiteVersion | 134348800 |
BitsPerSample (1) | 8 8 8 |
BitsPerSample | 8 |
Blacks2012 | +40 |
BlueHue | -25 |
BlueSaturation | +35 |
CameraProfile | Adobe Standard |
CircleOfConfusion | 0.014 mm |
Clarity2012 | 0 |
ColorComponents | 3 |
ColorMode | RGB |
ColorNoiseReduction | 0 |
ColorSpace | sRGB |
ColorTemperature | 6000 |
ColorTransform | YCbCr |
Contrast | Normal |
Contrast2012 | +20 |
ConvertToGrayscale | True |
CreateDate | 2015:05:28 16:30:41 |
CreatorTool | Adobe Photoshop CC 2014 (Windows) |
CustomRendered | Normal |
DateCreated (1) | 2015:05:28 |
DateCreated | 2015:05:28 16:30:41.246 |
DateTimeOriginal | 2015:05:28 16:30:41 |
DigitalZoomRatio | 0 |
ExifImageHeight | 1080 |
ExifImageWidth | 1920 |
Exposure2012 | +0.40 |
ExposureCompensation | 0 |
ExposureMode | Manual |
ExposureProgram | Manual |
ExposureTime | 1/60 |
Flash | On, Fired |
FNumber | 5.6 |
FocalLength | 33.0 mm |
FocalLength35efl | 33.0 mm (35 mm equivalent: 71.0 mm) |
FocalLengthIn35mmFormat | 71 mm |
Format | image/jpeg |
FOV | 28.5 deg |
GainControl | Low gain up |
GrainAmount | 0 |
GrayMixerAqua | -5 |
GrayMixerBlue | -15 |
GrayMixerGreen | -25 |
GrayMixerMagenta | +5 |
GrayMixerOrange | -15 |
GrayMixerPurple | -5 |
GrayMixerRed | -10 |
GrayMixerYellow | -35 |
GreenHue | +15 |
GreenSaturation | +25 |
HasCrop | False |
HasSettings | True |
Highlights2012 | -80 |
HyperfocalDistance | 13.92 m |
ICCProfileName | sRGB IEC61966-2.1 |
ImageHeight (1) | 2592 |
ImageHeight | 1080 |
ImageSize | 1920x1080 |
ImageWidth (1) | 4608 |
ImageWidth | 1920 |
ISO | 200 |
Lens | LUMIX G VARIO PZ 14-42/F3.5-5.6 |
LensManualDistortionAmount | 0 |
LensModel | LUMIX G VARIO PZ 14-42/F3.5-5.6 |
LensProfileEnable | 0 |
LensProfileSetup | LensDefaults |
LensSerialNumber | 15AI9137002N |
LightSource | Flash |
LightValue | 9.9 |
LuminanceSmoothing | 0 |
Make | Panasonic |
MaxApertureValue | 5.6 |
Megapixels | 2.1 |
MeteringMode | Multi-segment |
Model | DMC-GH4 |
ModifyDate (1) | 2017:05:15 17:06:19+02:00 |
ModifyDate | 2017:05:15 17:06:19 |
Orientation | Horizontal (normal) |
ParametricDarks | 0 |
ParametricHighlights | 0 |
ParametricHighlightSplit | 75 |
ParametricLights | 0 |
ParametricMidtoneSplit | 50 |
ParametricShadows | 0 |
ParametricShadowSplit | 25 |
PerspectiveAspect | 0 |
PerspectiveHorizontal | 0 |
PerspectiveRotate | 0.0 |
PerspectiveScale | 100 |
PerspectiveUpright | 0 |
PerspectiveVertical | 0 |
PhotometricInterpretation | RGB |
PostCropVignetteAmount | -10 |
PostCropVignetteFeather | 90 |
PostCropVignetteHighlightContrast | 0 |
PostCropVignetteMidpoint | 30 |
PostCropVignetteRoundness | -10 |
PostCropVignetteStyle | 1 |
ProcessVersion | 6.7 |
ProfileDescription | sRGB IEC61966-2.1 |
RedHue | -15 |
RedSaturation | -25 |
SamplesPerPixel | 3 |
Saturation | Normal |
ScaleFactor35efl | 2.2 |
SceneCaptureType | Standard |
SceneType | Directly photographed |
SensingMethod | One-chip color area |
Shadows2012 | +50 |
ShadowTint | 0 |
SharpenDetail | 25 |
SharpenEdgeMasking | 0 |
SharpenRadius | +1.0 |
Sharpness (1) | 0 |
Sharpness | Normal |
ShutterSpeed | 1/60 |
ShutterSpeedValue | 1/60 |
Software | Adobe Photoshop CC 2014 (Windows) |
SplitToningBalance | 0 |
SplitToningHighlightHue | 40 |
SplitToningHighlightSaturation | 2 |
SplitToningShadowHue | 0 |
SplitToningShadowSaturation | 0 |
Tint | +6 |
ToneCurve | 0, 0, 255, 255 |
ToneCurveBlue | 0, 0, 255, 255 |
ToneCurveGreen | 0, 0, 255, 255 |
ToneCurveName | Linear |
ToneCurveName2012 | Custom |
ToneCurvePV2012 | 0, 50, 123, 108, 233, 235, 255, 251 |
ToneCurvePV2012Blue | 0, 33, 55, 56, 110, 130, 166, 201, 255, 255 |
ToneCurvePV2012Green | 0, 33, 55, 56, 110, 130, 166, 201, 255, 255 |
ToneCurvePV2012Red | 0, 33, 55, 56, 110, 130, 166, 201, 255, 255 |
ToneCurveRed | 0, 0, 255, 255 |
URL_List | |
Version | 8.7.1 |
VignetteAmount | 0 |
WhiteBalance (1) | Auto |
WhiteBalance | Manual |
Whites2012 | -30 |