Felt | Verdi |
AlreadyApplied | True |
Aperture | 11.0 |
ApertureValue | 11.0 |
AutoLateralCA | 0 |
AutoWhiteVersion | 134348800 |
BitsPerSample | 8 |
Blacks2012 | -31 |
BlueHue | 0 |
BlueSaturation | 0 |
CameraProfile | Adobe Standard |
Caption-Abstract | OLYMPUS DIGITAL CAMERA |
CFAPattern | [Red,Green][Green,Blue] |
CircGradBasedCorrActive | true |
CircGradBasedCorrAmount | 1.000000 |
CircGradBasedCorrBrightness | 0.000000 |
CircGradBasedCorrClarity2012 (2) | 0.287360 |
CircGradBasedCorrClarity2012 | 0.264370 |
CircGradBasedCorrContrast2012 (1) | 0.103450 |
CircGradBasedCorrContrast2012 (2) | 0.080460 |
CircGradBasedCorrContrast2012 | 0.057470 |
CircGradBasedCorrDefringe | 0.000000 |
CircGradBasedCorrExposure2012 (1) | 0.793000 |
CircGradBasedCorrExposure2012 (2) | -0.057500 |
CircGradBasedCorrExposure2012 | -0.034500 |
CircGradBasedCorrHighlights2012 (1) | 0.632180 |
CircGradBasedCorrHighlights2012 | 0.000000 |
CircGradBasedCorrHue | 240.000000 |
CircGradBasedCorrLocalBlacks2012 | 0.000000 |
CircGradBasedCorrLocalDehaze (1) | 0.264370 |
CircGradBasedCorrLocalDehaze (2) | 0.287360 |
CircGradBasedCorrLocalDehaze | 0.563220 |
CircGradBasedCorrLocalWhites2012 (1) | 0.000000 |
CircGradBasedCorrLocalWhites2012 | 0.287360 |
CircGradBasedCorrLuminanceNoise (1) | 0.287360 |
CircGradBasedCorrLuminanceNoise | 0.000000 |
CircGradBasedCorrMaskAngle (1) | -1.505850 |
CircGradBasedCorrMaskAngle (2) | 0.000000 |
CircGradBasedCorrMaskAngle | -10.077100 |
CircGradBasedCorrMaskBottom (1) | 0.413898 |
CircGradBasedCorrMaskBottom (2) | 0.781770 |
CircGradBasedCorrMaskBottom | 0.697975 |
CircGradBasedCorrMaskFeather (1) | +35 |
CircGradBasedCorrMaskFeather | +50 |
CircGradBasedCorrMaskFlipped | true |
CircGradBasedCorrMaskLeft (1) | 0.703853 |
CircGradBasedCorrMaskLeft (2) | 0.250618 |
CircGradBasedCorrMaskLeft | 0.227917 |
CircGradBasedCorrMaskMidpoint | +50 |
CircGradBasedCorrMaskRight (1) | 0.728449 |
CircGradBasedCorrMaskRight (2) | 0.327633 |
CircGradBasedCorrMaskRight | 0.351309 |
CircGradBasedCorrMaskRoundness | 0 |
CircGradBasedCorrMaskTop (1) | 0.393446 |
CircGradBasedCorrMaskTop (2) | 0.685708 |
CircGradBasedCorrMaskTop | 0.640041 |
CircGradBasedCorrMaskValue | 1.000000 |
CircGradBasedCorrMaskVersion | +2 |
CircGradBasedCorrMaskWhat | Mask/CircularGradient |
CircGradBasedCorrMoire | 0.000000 |
CircGradBasedCorrSaturation (1) | 1.000000 |
CircGradBasedCorrSaturation (3) | 0.310340 |
CircGradBasedCorrSaturation (5) | 0.287360 |
CircGradBasedCorrSaturation | 0.000000 |
CircGradBasedCorrShadows2012 (1) | 0.103450 |
CircGradBasedCorrShadows2012 | 0.000000 |
CircGradBasedCorrSharpness | 0.000000 |
CircGradBasedCorrTemperature (1) | 1.000000 |
CircGradBasedCorrTemperature (2) | 0.172410 |
CircGradBasedCorrTemperature | 0.126440 |
CircGradBasedCorrTint (1) | 1.000000 |
CircGradBasedCorrTint | 0.000000 |
CircGradBasedCorrWhat | Correction |
CircleOfConfusion | 0.015 mm |
Clarity2012 | +29 |
ColorComponents | 3 |
ColorNoiseReduction | 25 |
ColorNoiseReductionDetail | 50 |
ColorNoiseReductionSmoothness | 50 |
ColorSpace | sRGB |
ColorTemperature | 6405 |
ColorTransform | YCbCr |
Contrast | Normal |
Contrast2012 | +21 |
ConvertToGrayscale | False |
CreateDate | 2017:05:21 15:12:07 |
CreatorTool | Adobe Photoshop Lightroom 6.9 (Windows) |
CropAngle | 0 |
CropBottom | 0.948854 |
CropConstrainToWarp | 1 |
CropLeft | 0.008083 |
CropRight | 0.990401 |
CropTop | 0.075682 |
CustomRendered | Normal |
DateCreated (1) | 2017:05:21 |
DateCreated | 2017:05:21 15:12:07 |
DateTimeOriginal | 2017:05:21 15:12:07 |
DefringeGreenAmount | 0 |
DefringeGreenHueHi | 60 |
DefringeGreenHueLo | 40 |
DefringePurpleAmount | 0 |
DefringePurpleHueHi | 70 |
DefringePurpleHueLo | 30 |
Dehaze | +12 |
Description | OLYMPUS DIGITAL CAMERA |
DigitalZoomRatio | 1 |
Exposure2012 | -0.36 |
ExposureCompensation | 0 |
ExposureMode | Auto |
ExposureProgram | Program AE |
ExposureTime | 1/45 |
Flash | Auto, Did not fire |
FlashCompensation | 0 |
FNumber | 11.0 |
FocalLength | 11.0 mm |
FocalLength35efl | 11.0 mm (35 mm equivalent: 22.0 mm) |
FocalLengthIn35mmFormat | 22 mm |
Format | image/jpeg |
FOV | 78.6 deg |
GainControl | High gain up |
GradientBasedCorrActive | true |
GradientBasedCorrAmount | 1.000000 |
GradientBasedCorrBrightness | 0.000000 |
GradientBasedCorrClarity2012 | -0.103450 |
GradientBasedCorrContrast2012 | -0.126440 |
GradientBasedCorrDefringe | 0.000000 |
GradientBasedCorrExposure2012 | -0.287250 |
GradientBasedCorrHighlights2012 | 0.000000 |
GradientBasedCorrHue | 240.000000 |
GradientBasedCorrLocalBlacks2012 | -0.080460 |
GradientBasedCorrLocalDehaze | 0.000000 |
GradientBasedCorrLocalWhites2012 | 0.000000 |
GradientBasedCorrLuminanceNoise | 0.000000 |
GradientBasedCorrMaskFullX | 0.486570 |
GradientBasedCorrMaskFullY | 0.081899 |
GradientBasedCorrMaskValue | 1.000000 |
GradientBasedCorrMaskWhat | Mask/Gradient |
GradientBasedCorrMaskZeroX | 0.488952 |
GradientBasedCorrMaskZeroY | 0.166266 |
GradientBasedCorrMoire | 0.000000 |
GradientBasedCorrSaturation | 0.000000 |
GradientBasedCorrShadows2012 | -0.057470 |
GradientBasedCorrSharpness | 0.000000 |
GradientBasedCorrTemperature | 0.000000 |
GradientBasedCorrTint | 0.000000 |
GradientBasedCorrWhat | Correction |
GrainAmount | 0 |
GreenHue | 0 |
GreenSaturation | 0 |
HasCrop | True |
HasSettings | True |
Highlights2012 | -86 |
HueAdjustmentAqua | 0 |
HueAdjustmentBlue | 0 |
HueAdjustmentGreen | 0 |
HueAdjustmentMagenta | 0 |
HueAdjustmentOrange | 0 |
HueAdjustmentPurple | 0 |
HueAdjustmentRed | 0 |
HueAdjustmentYellow | 0 |
HyperfocalDistance | 0.73 m |
ImageDescription | OLYMPUS DIGITAL CAMERA |
ImageHeight | 2000 |
ImageSize | 3000x2000 |
ImageWidth | 3000 |
ISO | 400 |
Lens | OLYMPUS M.7-14mm F2.8 |
LensInfo | 7-14mm f/2.8 |
LensManualDistortionAmount | 0 |
LensModel | OLYMPUS M.7-14mm F2.8 |
LensProfileEnable | 0 |
LensProfileSetup | LensDefaults |
LensSerialNumber | AC82141302 |
LightSource | Unknown |
LightValue | 10.4 |
LuminanceAdjustmentAqua | 0 |
LuminanceAdjustmentBlue | 0 |
LuminanceAdjustmentGreen | 0 |
LuminanceAdjustmentMagenta | 0 |
LuminanceAdjustmentOrange | 0 |
LuminanceAdjustmentPurple | 0 |
LuminanceAdjustmentRed | 0 |
LuminanceAdjustmentYellow | 0 |
LuminanceNoiseReductionContrast | 0 |
LuminanceNoiseReductionDetail | 50 |
LuminanceSmoothing | 8 |
Make | OLYMPUS IMAGING CORP. |
MaxApertureValue | 2.8 |
Megapixels | 6.0 |
MeteringMode | Center-weighted average |
Model | E-M5MarkII |
ModifyDate (1) | 2017:05:23 00:53:26+02:00 |
ModifyDate | 2017:05:23 00:53:26 |
ParametricDarks | 0 |
ParametricHighlights | 0 |
ParametricHighlightSplit | 75 |
ParametricLights | 0 |
ParametricMidtoneSplit | 50 |
ParametricShadows | 0 |
ParametricShadowSplit | 25 |
PerspectiveAspect | 0 |
PerspectiveHorizontal | 0 |
PerspectiveRotate | 0.0 |
PerspectiveScale | 100 |
PerspectiveUpright | 0 |
PerspectiveVertical | -5 |
PerspectiveX | 0.00 |
PerspectiveY | 0.00 |
PostCropVignetteAmount | -21 |
PostCropVignetteFeather | 98 |
PostCropVignetteHighlightContrast | 0 |
PostCropVignetteMidpoint | 43 |
PostCropVignetteRoundness | -10 |
PostCropVignetteStyle | 1 |
ProcessVersion | 6.7 |
ProfileDescription | sRGB IEC61966-2.1 |
RedHue | 0 |
RedSaturation | 0 |
Saturation (1) | -40 |
Saturation | Normal |
SaturationAdjustmentAqua | 0 |
SaturationAdjustmentBlue | 0 |
SaturationAdjustmentGreen | +4 |
SaturationAdjustmentMagenta | 0 |
SaturationAdjustmentOrange | +2 |
SaturationAdjustmentPurple | 0 |
SaturationAdjustmentRed | +20 |
SaturationAdjustmentYellow | +11 |
ScaleFactor35efl | 2.0 |
SceneCaptureType | Standard |
SensitivityType | Standard Output Sensitivity |
SerialNumber | BFKA33899 |
Shadows2012 | 0 |
ShadowTint | 0 |
SharpenDetail | 25 |
SharpenEdgeMasking | 0 |
SharpenRadius | +1.0 |
Sharpness (1) | 2 |
Sharpness | Normal |
ShutterSpeed | 1/45 |
ShutterSpeedValue | 1/45 |
Software | Adobe Photoshop Lightroom 6.9 (Windows) |
SplitToningBalance | 0 |
SplitToningHighlightHue | 0 |
SplitToningHighlightSaturation | 0 |
SplitToningShadowHue | 0 |
SplitToningShadowSaturation | 0 |
Tint | +14 |
ToneCurve | 0, 0, 255, 255 |
ToneCurveBlue | 0, 0, 255, 255 |
ToneCurveGreen | 0, 0, 255, 255 |
ToneCurveName | Linear |
ToneCurveName2012 | Linear |
ToneCurvePV2012 | 0, 0, 255, 255 |
ToneCurvePV2012Blue | 0, 0, 255, 255 |
ToneCurvePV2012Green | 0, 0, 255, 255 |
ToneCurvePV2012Red | 0, 0, 255, 255 |
ToneCurveRed | 0, 0, 255, 255 |
ToneMapStrength | 0 |
Version | 9.9 |
Vibrance | +7 |
VignetteAmount | 0 |
WhiteBalance (1) | Custom |
WhiteBalance | Auto |
Whites2012 | 0 |