Felt | Verdi |
AlreadyApplied | True |
Aperture | 2.8 |
ApertureValue | 2.8 |
ApproximateFocusDistance | 7.27 |
AutoLateralCA | 0 |
AutoWhiteVersion | 134348800 |
BitsPerSample | 8 |
Blacks2012 | +15 |
BlueHue | -5 |
BlueSaturation | +25 |
CameraProfile | Adobe Standard |
CircGradBasedCorrActive | true |
CircGradBasedCorrAmount | 1.000000 |
CircGradBasedCorrBrightness | 0.000000 |
CircGradBasedCorrClarity2012 | 0.000000 |
CircGradBasedCorrContrast2012 (2) | 0.200000 |
CircGradBasedCorrContrast2012 | 0.000000 |
CircGradBasedCorrDefringe | 0.000000 |
CircGradBasedCorrExposure2012 (1) | -0.375000 |
CircGradBasedCorrExposure2012 (2) | 0.312500 |
CircGradBasedCorrExposure2012 (3) | 0.250000 |
CircGradBasedCorrExposure2012 | 0.000000 |
CircGradBasedCorrHighlights2012 (1) | 0.000000 |
CircGradBasedCorrHighlights2012 (2) | -1.000000 |
CircGradBasedCorrHighlights2012 (5) | 0.250000 |
CircGradBasedCorrHighlights2012 (6) | -0.500000 |
CircGradBasedCorrHighlights2012 | 0.500000 |
CircGradBasedCorrHue | 240.000000 |
CircGradBasedCorrLocalBlacks2012 | 0.000000 |
CircGradBasedCorrLocalDehaze | 0.000000 |
CircGradBasedCorrLocalWhites2012 | 0.000000 |
CircGradBasedCorrLuminanceNoise | 0.000000 |
CircGradBasedCorrMaskAngle (1) | 3.233270 |
CircGradBasedCorrMaskAngle (2) | 3.229100 |
CircGradBasedCorrMaskAngle (3) | -15.766900 |
CircGradBasedCorrMaskAngle (4) | -19.214800 |
CircGradBasedCorrMaskAngle (5) | -10.243300 |
CircGradBasedCorrMaskAngle | 1.773890 |
CircGradBasedCorrMaskBottom (1) | 0.884151 |
CircGradBasedCorrMaskBottom (2) | 0.702281 |
CircGradBasedCorrMaskBottom (3) | 0.462226 |
CircGradBasedCorrMaskBottom (4) | 0.525081 |
CircGradBasedCorrMaskBottom (5) | 0.577553 |
CircGradBasedCorrMaskBottom (6) | 0.782617 |
CircGradBasedCorrMaskBottom | 0.620285 |
CircGradBasedCorrMaskFeather | +50 |
CircGradBasedCorrMaskFlipped (1) | false |
CircGradBasedCorrMaskFlipped | true |
CircGradBasedCorrMaskLeft (1) | 0.071990 |
CircGradBasedCorrMaskLeft (2) | 0.539621 |
CircGradBasedCorrMaskLeft (3) | 0.815901 |
CircGradBasedCorrMaskLeft (4) | 0.827646 |
CircGradBasedCorrMaskLeft (5) | 0.731166 |
CircGradBasedCorrMaskLeft (6) | 0.254493 |
CircGradBasedCorrMaskLeft | 0.743792 |
CircGradBasedCorrMaskMidpoint | +50 |
CircGradBasedCorrMaskRight (1) | 0.971384 |
CircGradBasedCorrMaskRight (2) | 1.052730 |
CircGradBasedCorrMaskRight (3) | 0.827990 |
CircGradBasedCorrMaskRight (4) | 0.841155 |
CircGradBasedCorrMaskRight (5) | 0.897499 |
CircGradBasedCorrMaskRight (6) | 0.635685 |
CircGradBasedCorrMaskRight | 0.930087 |
CircGradBasedCorrMaskRoundness | 0 |
CircGradBasedCorrMaskTop (1) | 0.142142 |
CircGradBasedCorrMaskTop (2) | 0.300459 |
CircGradBasedCorrMaskTop (3) | 0.440329 |
CircGradBasedCorrMaskTop (4) | 0.500370 |
CircGradBasedCorrMaskTop (5) | 0.498647 |
CircGradBasedCorrMaskTop (6) | 0.202729 |
CircGradBasedCorrMaskTop | 0.516579 |
CircGradBasedCorrMaskValue | 1.000000 |
CircGradBasedCorrMaskVersion | +2 |
CircGradBasedCorrMaskWhat | Mask/CircularGradient |
CircGradBasedCorrMoire | 0.000000 |
CircGradBasedCorrSaturation (7) | 0.250000 |
CircGradBasedCorrSaturation | 0.000000 |
CircGradBasedCorrShadows2012 (6) | 0.500000 |
CircGradBasedCorrShadows2012 | 0.000000 |
CircGradBasedCorrSharpness | 0.000000 |
CircGradBasedCorrTemperature (1) | -0.050000 |
CircGradBasedCorrTemperature | 0.000000 |
CircGradBasedCorrTint | 0.000000 |
CircGradBasedCorrWhat | Correction |
CircleOfConfusion | 0.013 mm |
Clarity2012 | +10 |
ColorComponents | 3 |
ColorNoiseReduction | 25 |
ColorNoiseReductionDetail | 50 |
ColorNoiseReductionSmoothness | 50 |
ColorSpace | Uncalibrated |
ColorTemperature | 4500 |
ColorTransform | YCbCr |
Contrast2012 | 0 |
ConvertToGrayscale | False |
CreateDate (1) | 2016:04:22 15:31:07.30 |
CreateDate | 2016:04:22 15:31:07 |
CreatorTool | Adobe Photoshop Lightroom 6.8 (Windows) |
CropAngle | 1.77389 |
CropBottom | 0.88688 |
CropConstrainToWarp | 0 |
CropLeft | 0.294879 |
CropRight | 0.929342 |
CropTop | 0.003968 |
CustomRendered | Normal |
DateCreated (1) | 2016:04:22 |
DateCreated | 2016:04:22 15:31:07.30 |
DateTimeOriginal | 2016:04:22 15:31:07 |
DefringeGreenAmount | 0 |
DefringeGreenHueHi | 60 |
DefringeGreenHueLo | 40 |
DefringePurpleAmount | 0 |
DefringePurpleHueHi | 70 |
DefringePurpleHueLo | 30 |
Dehaze | 0 |
DigitalZoomRatio | 1 |
DOF | 0.54 m (7.01 - 7.55 m) |
Exposure2012 | 0.00 |
ExposureCompensation | 0 |
ExposureMode | Manual |
ExposureProgram | Manual |
ExposureTime | 1/200 |
Firmware | 1.00 |
Flash | Off, Did not fire |
FlashCompensation | 0 |
FNumber | 2.8 |
FocalLength | 85.0 mm |
FocalLength35efl | 85.0 mm (35 mm equivalent: 190.4 mm) |
Format | image/jpeg |
FOV | 10.8 deg |
GradientBasedCorrActive | true |
GradientBasedCorrAmount | 1.000000 |
GradientBasedCorrBrightness | 0.000000 |
GradientBasedCorrClarity2012 | 0.000000 |
GradientBasedCorrContrast2012 | 0.000000 |
GradientBasedCorrDefringe | 0.000000 |
GradientBasedCorrExposure2012 | 0.500000 |
GradientBasedCorrHighlights2012 | 0.000000 |
GradientBasedCorrHue | 240.000000 |
GradientBasedCorrLocalBlacks2012 | 0.000000 |
GradientBasedCorrLocalDehaze | 0.000000 |
GradientBasedCorrLocalWhites2012 | 0.000000 |
GradientBasedCorrLuminanceNoise | 0.000000 |
GradientBasedCorrMaskFullX | 0.761869 |
GradientBasedCorrMaskFullY | 0.048912 |
GradientBasedCorrMaskValue | 1.000000 |
GradientBasedCorrMaskWhat | Mask/Gradient |
GradientBasedCorrMaskZeroX | 0.523038 |
GradientBasedCorrMaskZeroY | 0.600668 |
GradientBasedCorrMoire | 0.000000 |
GradientBasedCorrSaturation | 0.000000 |
GradientBasedCorrShadows2012 | 0.000000 |
GradientBasedCorrSharpness | 0.000000 |
GradientBasedCorrTemperature | 0.000000 |
GradientBasedCorrTint | 0.000000 |
GradientBasedCorrWhat | Correction |
GrainAmount | 0 |
GreenHue | +35 |
GreenSaturation | 0 |
HasCrop | True |
HasSettings | True |
Highlights2012 | -25 |
HueAdjustmentAqua | +10 |
HueAdjustmentBlue | -5 |
HueAdjustmentGreen | +10 |
HueAdjustmentMagenta | +20 |
HueAdjustmentOrange | 0 |
HueAdjustmentPurple | +20 |
HueAdjustmentRed | 0 |
HueAdjustmentYellow | 0 |
HyperfocalDistance | 192.41 m |
ImageHeight | 3914 |
ImageNumber | 0 |
ImageSize | 3412x3914 |
ImageWidth | 3412 |
ISO | 100 |
Lens | EF85mm f/1.8 USM |
LensID (1) | 155 |
LensID | Canon EF 85mm f/1.8 USM |
LensInfo | 85mm f/? |
LensManualDistortionAmount | 0 |
LensModel | EF85mm f/1.8 USM |
LensProfileEnable | 0 |
LensProfileSetup | LensDefaults |
LensSerialNumber | 0000000000 |
LightValue | 10.6 |
LuminanceAdjustmentAqua | +10 |
LuminanceAdjustmentBlue | -15 |
LuminanceAdjustmentGreen | -5 |
LuminanceAdjustmentMagenta | +20 |
LuminanceAdjustmentOrange | -5 |
LuminanceAdjustmentPurple | +20 |
LuminanceAdjustmentRed | +5 |
LuminanceAdjustmentYellow | +10 |
LuminanceNoiseReductionContrast | 0 |
LuminanceNoiseReductionDetail | 50 |
LuminanceSmoothing | 25 |
Make | Canon |
MaxApertureValue | 1.8 |
Megapixels | 13.4 |
MeteringMode | Multi-segment |
Model | Canon EOS M5 |
ModifyDate (1) | 2017:04:24 23:38:22+02:00 |
ModifyDate | 2017:04:24 23:38:22 |
ParametricDarks | 0 |
ParametricHighlights | 0 |
ParametricHighlightSplit | 75 |
ParametricLights | 0 |
ParametricMidtoneSplit | 60 |
ParametricShadows | 0 |
ParametricShadowSplit | 15 |
PerspectiveAspect | 0 |
PerspectiveHorizontal | 0 |
PerspectiveRotate | 0.0 |
PerspectiveScale | 100 |
PerspectiveUpright | 0 |
PerspectiveVertical | 0 |
PerspectiveX | 0.00 |
PerspectiveY | 0.00 |
PostCropVignetteAmount | 0 |
ProcessVersion | 6.7 |
ProfileDescription | Adobe RGB (1998) |
RecommendedExposureIndex | 100 |
RedHue | +18 |
RedSaturation | +20 |
Saturation | -5 |
SaturationAdjustmentAqua | -50 |
SaturationAdjustmentBlue | -30 |
SaturationAdjustmentGreen | -50 |
SaturationAdjustmentMagenta | -40 |
SaturationAdjustmentOrange | -10 |
SaturationAdjustmentPurple | -50 |
SaturationAdjustmentRed | -30 |
SaturationAdjustmentYellow | -15 |
ScaleFactor35efl | 2.2 |
SceneCaptureType | Standard |
SensingMethod | One-chip color area |
SensitivityType | Recommended Exposure Index |
SerialNumber | 313051001334 |
Shadows2012 | +30 |
ShadowTint | -5 |
SharpenDetail | 25 |
SharpenEdgeMasking | 0 |
SharpenRadius | +1.0 |
Sharpness | 75 |
ShutterSpeed | 1/200 |
ShutterSpeedValue | 1/200 |
Software | Adobe Photoshop Lightroom 6.8 (Windows) |
SplitToningBalance | 0 |
SplitToningHighlightHue | 0 |
SplitToningHighlightSaturation | 0 |
SplitToningShadowHue | 0 |
SplitToningShadowSaturation | 0 |
Tint | -1 |
ToneCurve | 0, 0, 255, 255 |
ToneCurveBlue | 0, 0, 255, 255 |
ToneCurveGreen | 0, 0, 255, 255 |
ToneCurveName | Linear |
ToneCurveName2012 | Custom |
ToneCurvePV2012 | 0, 0, 75, 75, 190, 190, 255, 250 |
ToneCurvePV2012Blue | 0, 0, 25, 10, 85, 70, 120, 125, 180, 200, 255, 255 |
ToneCurvePV2012Green | 0, 0, 30, 10, 120, 125, 180, 200, 255, 255 |
ToneCurvePV2012Red | 0, 0, 30, 15, 75, 50, 120, 125, 185, 200, 255, 255 |
ToneCurveRed | 0, 0, 255, 255 |
ToneMapStrength | 0 |
Version | 9.8 |
Vibrance | +25 |
VignetteAmount | 0 |
WhiteBalance (1) | Custom |
WhiteBalance | Auto |
Whites2012 | -45 |