Felt | Verdi |
AlreadyApplied | True |
Aperture | 5.6 |
ApertureValue | 5.6 |
ApproximateFocusDistance | 50.5 |
Artist | Stein Ballangrud Andersen |
AutoLateralCA | 0 |
AutoWhiteVersion | 134348800 |
BitsPerSample | 8 |
Blacks2012 | -45 |
BlueHue | 0 |
BlueSaturation | 0 |
By-line | Stein Ballangrud Andersen |
CameraProfile | Adobe Standard |
CircleOfConfusion | 0.019 mm |
Clarity2012 | +14 |
ColorComponents | 3 |
ColorNoiseReduction | 25 |
ColorNoiseReductionDetail | 50 |
ColorNoiseReductionSmoothness | 40 |
ColorSpace | sRGB |
ColorTemperature | 4650 |
ColorTransform | YCbCr |
Contrast2012 | +43 |
ConvertToGrayscale | False |
CreateDate (1) | 2017:08:25 21:02:41.00 |
CreateDate | 2017:08:25 21:02:41 |
Creator | Stein Ballangrud Andersen |
CreatorTool | Adobe Photoshop Lightroom 6.8 (Windows) |
CreatorWorkEmail | ballaan@online.no |
CropAngle | 0 |
CropBottom | 0.916187 |
CropConstrainToWarp | 0 |
CropLeft | 0.088779 |
CropRight | 0.875102 |
CropTop | 0.129864 |
CustomRendered | Normal |
DateCreated (1) | 2017:08:25 |
DateCreated | 2017:08:25 21:02:41.00 |
DateTimeOriginal | 2017:08:25 21:02:41 |
DefringeGreenAmount | 0 |
DefringeGreenHueHi | 60 |
DefringeGreenHueLo | 40 |
DefringePurpleAmount | 0 |
DefringePurpleHueHi | 70 |
DefringePurpleHueLo | 30 |
Dehaze | 0 |
DOF | 3.39 m (48.86 - 52.25 m) |
Exposure2012 | +1.19 |
ExposureCompensation | 0 |
ExposureMode | Auto |
ExposureProgram | Aperture-priority AE |
ExposureTime | 0.8 |
Firmware | 2.0.0 |
Flash | Off, Did not fire |
FlashCompensation | 0 |
FNumber | 5.6 |
FocalLength | 400.0 mm |
FocalLength35efl | 400.0 mm (35 mm equivalent: 628.1 mm) |
Format | image/jpeg |
FOV | 3.3 deg |
GrainAmount | 0 |
GreenHue | 0 |
GreenSaturation | 0 |
HasCrop | True |
HasSettings | True |
Highlights2012 | -90 |
HueAdjustmentAqua | 0 |
HueAdjustmentBlue | 0 |
HueAdjustmentGreen | 0 |
HueAdjustmentMagenta | 0 |
HueAdjustmentOrange | 0 |
HueAdjustmentPurple | 0 |
HueAdjustmentRed | 0 |
HueAdjustmentYellow | 0 |
HyperfocalDistance | 1493.25 m |
ImageHeight | 2717 |
ImageNumber | 0 |
ImageSize | 4076x2717 |
ImageWidth | 4076 |
ISO | 400 |
Lens | 140-400mm |
LensID (1) | 183 |
LensID | Canon EF 100-400mm f/4.5-5.6L IS USM + 1.4x or Sigma 100-400mm f/5-6.3 DG OS HSM + 1.4x |
LensInfo | 140-400mm f/? |
LensManualDistortionAmount | 0 |
LensModel | 140-400mm |
LensProfileChromaticAberrationScale | 100 |
LensProfileDistortionScale | 100 |
LensProfileEnable | 1 |
LensProfileFilename | Canon (SIGMA APO 70-200mm F2.8 EX DG OS HSM) - RAW.lcp |
LensProfileName | Adobe (SIGMA APO 70-200mm F2.8 EX DG OS HSM, Canon) |
LensProfileSetup | Custom |
LensProfileVignettingScale | 100 |
LightValue | 3.3 |
LuminanceAdjustmentAqua | 0 |
LuminanceAdjustmentBlue | 0 |
LuminanceAdjustmentGreen | 0 |
LuminanceAdjustmentMagenta | 0 |
LuminanceAdjustmentOrange | 0 |
LuminanceAdjustmentPurple | 0 |
LuminanceAdjustmentRed | 0 |
LuminanceAdjustmentYellow | 0 |
LuminanceNoiseReductionContrast | 2 |
LuminanceNoiseReductionDetail | 49 |
LuminanceSmoothing | 52 |
Make | Canon |
MaxApertureValue | 5.7 |
Megapixels | 11.1 |
MeteringMode | Multi-segment |
Model | Canon EOS 7D |
ModifyDate (1) | 2017:08:26 00:02:57+02:00 |
ModifyDate | 2017:08:26 00:02:57 |
ParametricDarks | 0 |
ParametricHighlights | 0 |
ParametricHighlightSplit | 75 |
ParametricLights | 0 |
ParametricMidtoneSplit | 50 |
ParametricShadows | 0 |
ParametricShadowSplit | 25 |
PerspectiveAspect | 0 |
PerspectiveHorizontal | 0 |
PerspectiveRotate | 0.0 |
PerspectiveScale | 100 |
PerspectiveUpright | 0 |
PerspectiveVertical | 0 |
PerspectiveX | 0.00 |
PerspectiveY | 0.00 |
PostCropVignetteAmount | 0 |
ProcessVersion | 6.7 |
ProfileDescription | sRGB IEC61966-2.1 |
RecommendedExposureIndex | 400 |
RedHue | 0 |
RedSaturation | 0 |
Saturation | +10 |
SaturationAdjustmentAqua | 0 |
SaturationAdjustmentBlue | 0 |
SaturationAdjustmentGreen | 0 |
SaturationAdjustmentMagenta | 0 |
SaturationAdjustmentOrange | 0 |
SaturationAdjustmentPurple | 0 |
SaturationAdjustmentRed | 0 |
SaturationAdjustmentYellow | 0 |
ScaleFactor35efl | 1.6 |
SceneCaptureType | Standard |
SensitivityType | Recommended Exposure Index |
SerialNumber | 3681501701 |
Shadows2012 | -7 |
ShadowTint | 0 |
SharpenDetail | 25 |
SharpenEdgeMasking | 0 |
SharpenRadius | +0.5 |
Sharpness | 43 |
ShutterSpeed | 0.8 |
ShutterSpeedValue | 0.8 |
Software | Adobe Photoshop Lightroom 6.8 (Windows) |
SplitToningBalance | 0 |
SplitToningHighlightHue | 0 |
SplitToningHighlightSaturation | 0 |
SplitToningShadowHue | 0 |
SplitToningShadowSaturation | 0 |
Tint | +1 |
ToneCurve | 0, 0, 255, 255 |
ToneCurveBlue | 0, 0, 255, 255 |
ToneCurveGreen | 0, 0, 255, 255 |
ToneCurveName | Linear |
ToneCurveName2012 | Linear |
ToneCurvePV2012 | 0, 0, 255, 255 |
ToneCurvePV2012Blue | 0, 0, 255, 255 |
ToneCurvePV2012Green | 0, 0, 255, 255 |
ToneCurvePV2012Red | 0, 0, 255, 255 |
ToneCurveRed | 0, 0, 255, 255 |
ToneMapStrength | 0 |
Version | 9.8 |
Vibrance | +10 |
VignetteAmount | 0 |
WhiteBalance (1) | As Shot |
WhiteBalance | Auto |
Whites2012 | +7 |