Felt | Verdi |
AlreadyApplied | True |
Aperture | 16.0 |
ApertureValue | 16.0 |
AutoLateralCA | 0 |
AutoWhiteVersion | 134348800 |
BitsPerSample | 8 |
Blacks2012 | +55 |
BlueHue | 0 |
BlueSaturation | 0 |
CameraProfile | Adobe Standard |
CFAPattern | [Green,Red][Blue,Green] |
Clarity2012 | +57 |
ColorComponents | 3 |
ColorNoiseReduction | 25 |
ColorNoiseReductionDetail | 50 |
ColorNoiseReductionSmoothness | 50 |
ColorTemperature | 13941 |
ColorTransform | YCbCr |
Contrast | Normal |
Contrast2012 | -33 |
ConvertToGrayscale | True |
CreateDate (1) | 2017:09:29 10:41:55.51 |
CreateDate | 2017:09:29 10:41:55 |
CreatorTool | Adobe Photoshop Lightroom 6.0 (Windows) |
CropAngle | 1.85487 |
CropBottom | 0.993712 |
CropConstrainToWarp | 0 |
CropLeft | 0.046161 |
CropRight | 0.782601 |
CropTop | 0.002078 |
CustomRendered | Normal |
DateCreated (1) | 2017:09:29 10:41:55.51 |
DateCreated | 2017:09:29 |
DateTimeOriginal | 2017:09:29 10:41:55 |
DigitalZoomRatio | 1 |
Exposure2012 | +0.48 |
ExposureCompensation | 0 |
ExposureMode | Manual |
ExposureProgram | Manual |
ExposureTime | 1/125 |
Flash | No Flash |
FNumber | 16.0 |
Format | image/jpeg |
GainControl | None |
GrainAmount | 0 |
GrayMixerAqua | -16 |
GrayMixerBlue | +13 |
GrayMixerGreen | -26 |
GrayMixerMagenta | +4 |
GrayMixerOrange | -19 |
GrayMixerPurple | +17 |
GrayMixerRed | -10 |
GrayMixerYellow | -23 |
GreenHue | 0 |
GreenSaturation | 0 |
HasCrop | True |
HasSettings | True |
Highlights2012 | -55 |
ImageHeight | 850 |
ImageNumber | 16780 |
ImageSize | 718x850 |
ImageWidth | 718 |
ISO | 200 |
Lens | 0.0 mm f/0.0 |
LensInfo | 0mm f/0 |
LensManualDistortionAmount | 0 |
LensModel | 0.0 mm f/0.0 |
LensProfileEnable | 0 |
LensProfileSetup | LensDefaults |
LightSource | Unknown |
LightValue | 14.0 |
LuminanceSmoothing | 0 |
Make | NIKON CORPORATION |
MaxApertureValue | 1.0 |
Megapixels | 0.610 |
MeteringMode | Center-weighted average |
Model | NIKON D200 |
ModifyDate (1) | 2017:10:11 18:37:27+02:00 |
ModifyDate | 2017:10:11 18:37:27 |
Orientation | Horizontal (normal) |
ParametricDarks | 0 |
ParametricHighlights | 0 |
ParametricHighlightSplit | 75 |
ParametricLights | 0 |
ParametricMidtoneSplit | 50 |
ParametricShadows | 0 |
ParametricShadowSplit | 25 |
PerspectiveAspect | 0 |
PerspectiveHorizontal | 0 |
PerspectiveRotate | 0.0 |
PerspectiveScale | 100 |
PerspectiveUpright | 0 |
PerspectiveVertical | 0 |
PostCropVignetteAmount | 0 |
ProcessVersion | 6.7 |
ProfileDescription | sRGB IEC61966-2.1 |
RawFileName | AAA_6706.jpg |
RedHue | 0 |
RedSaturation | 0 |
Saturation | Normal |
SceneCaptureType | Standard |
SceneType | Directly photographed |
SensingMethod | One-chip color area |
Shadows2012 | +52 |
ShadowTint | 0 |
SharpenDetail | 25 |
SharpenEdgeMasking | 0 |
SharpenRadius | +1.0 |
Sharpness (1) | 25 |
Sharpness | Normal |
ShutterSpeed | 1/125 |
ShutterSpeedValue | 1/125 |
Software | Adobe Photoshop Lightroom 6.0 (Windows) |
SplitToningBalance | 0 |
SplitToningHighlightHue | 0 |
SplitToningHighlightSaturation | 0 |
SplitToningShadowHue | 0 |
SplitToningShadowSaturation | 0 |
SubjectDistanceRange | Unknown |
Tint | -4 |
ToneCurve | 0, 0, 255, 255 |
ToneCurveBlue | 0, 0, 255, 255 |
ToneCurveGreen | 0, 0, 255, 255 |
ToneCurveName | Linear |
ToneCurveName2012 | Linear |
ToneCurvePV2012 | 0, 0, 255, 255 |
ToneCurvePV2012Blue | 0, 0, 255, 255 |
ToneCurvePV2012Green | 0, 0, 255, 255 |
ToneCurvePV2012Red | 0, 0, 255, 255 |
ToneCurveRed | 0, 0, 255, 255 |
Version | 9.0 |
VignetteAmount | 0 |
WhiteBalance (1) | Custom |
WhiteBalance | Auto |
Whites2012 | +24 |