Felt | Verdi |
AlreadyApplied | True |
Aperture | 5.0 |
ApertureValue | 5.0 |
ApproximateFocusDistance | 0.06 |
Artist | Agnar Harnes |
AutoLateralCA | 0 |
AutoWhiteVersion | 134348800 |
BitsPerSample | 8 |
Blacks2012 | -24 |
BlueHue | 0 |
BlueSaturation | 0 |
By-line | Agnar Harnes |
CameraProfile | Adobe Standard |
CFAPattern | [Red,Green][Green,Blue] |
CircleOfConfusion | 0.030 mm |
Clarity2012 | +17 |
ColorComponents | 3 |
ColorNoiseReduction | 25 |
ColorNoiseReductionDetail | 50 |
ColorNoiseReductionSmoothness | 50 |
ColorSpace | sRGB |
ColorTemperature | 8957 |
Contrast | Normal |
Contrast2012 | +29 |
ConvertToGrayscale | False |
Copyright | Agnar Harnes |
CopyrightNotice | Agnar Harnes |
CreateDate (1) | 2017:12:27 17:20:01.00 |
CreateDate | 2017:12:27 17:20:01 |
Creator | Agnar Harnes |
CreatorTool | Windows Photo Editor 10.0.10011.16384 |
CropAngle | 0.334896 |
CropBottom | 0.994678 |
CropConstrainToWarp | 0 |
CropLeft | 0.009833 |
CropRight | 0.987824 |
CropTop | 0.274132 |
CustomRendered | Custom |
DateCreated (1) | 2017:12:27 |
DateCreated | 2017:12:27 17:20:01.00 |
DateTimeOriginal | 2017:12:27 17:20:01 |
DefringeGreenAmount | 0 |
DefringeGreenHueHi | 60 |
DefringeGreenHueLo | 40 |
DefringePurpleAmount | 0 |
DefringePurpleHueHi | 70 |
DefringePurpleHueLo | 30 |
DigitalZoomRatio | 1 |
DOF | 0.002 m (0.059 - 0.061 m) |
Exposure2012 | 0.00 |
ExposureCompensation | -1/3 |
ExposureMode | Manual |
ExposureProgram | Manual |
ExposureTime | 8 |
Flash | No Flash |
FNumber | 5.0 |
FocalLength | 20.0 mm |
FocalLength35efl | 20.0 mm (35 mm equivalent: 20.0 mm) |
FocalLengthIn35mmFormat | 20 mm |
Format | image/jpeg |
FOV | 84.0 deg |
GainControl | None |
GrainAmount | 0 |
GreenHue | 0 |
GreenSaturation | 0 |
HasCrop | True |
HasSettings | True |
Highlights2012 | -100 |
HueAdjustmentAqua | 0 |
HueAdjustmentBlue | 0 |
HueAdjustmentGreen | 0 |
HueAdjustmentMagenta | 0 |
HueAdjustmentOrange | 0 |
HueAdjustmentPurple | 0 |
HueAdjustmentRed | 0 |
HueAdjustmentYellow | 0 |
HyperfocalDistance | 2.66 m |
ImageHeight | 1274 |
ImageNumber | 63403 |
ImageSize | 2458x1274 |
ImageWidth | 2458 |
ISO | 200 |
Lens | 20.0 mm f/2.8 |
LensID (1) | 28 |
LensID | AF Nikkor 20mm f/2.8 |
LensInfo | 20mm f/2.8 |
LensManualDistortionAmount | 0 |
LensModel | 20.0 mm f/2.8 |
LensProfileEnable | 1 |
LensProfileSetup | LensDefaults |
LightSource | Unknown |
LightValue | 0.6 |
LuminanceAdjustmentAqua | 0 |
LuminanceAdjustmentBlue | 0 |
LuminanceAdjustmentGreen | 0 |
LuminanceAdjustmentMagenta | 0 |
LuminanceAdjustmentOrange | 0 |
LuminanceAdjustmentPurple | 0 |
LuminanceAdjustmentRed | 0 |
LuminanceAdjustmentYellow | 0 |
LuminanceNoiseReductionContrast | 0 |
LuminanceNoiseReductionDetail | 50 |
LuminanceSmoothing | 21 |
Make | NIKON CORPORATION |
MaxApertureValue | 2.8 |
Megapixels | 3.1 |
MeteringMode | Multi-segment |
Model | NIKON D700 |
ModifyDate (1) | 2017:12:29 19:55:06+01:00 |
ModifyDate | 2017:12:29 20:00:51 |
Orientation | Horizontal (normal) |
ParametricDarks | 0 |
ParametricHighlights | 0 |
ParametricHighlightSplit | 75 |
ParametricLights | 0 |
ParametricMidtoneSplit | 50 |
ParametricShadows | 0 |
ParametricShadowSplit | 25 |
PerspectiveAspect | 0 |
PerspectiveHorizontal | 0 |
PerspectiveRotate | 0.0 |
PerspectiveScale | 100 |
PerspectiveUpright | 1 |
PerspectiveVertical | 0 |
PostCropVignetteAmount | 0 |
ProcessingSoftware | Windows Photo Editor 10.0.10011.16384 |
ProcessVersion | 6.7 |
RedHue | 0 |
RedSaturation | 0 |
Rights | Agnar Harnes |
Saturation (1) | +12 |
Saturation | Normal |
SaturationAdjustmentAqua | 0 |
SaturationAdjustmentBlue | 0 |
SaturationAdjustmentGreen | 0 |
SaturationAdjustmentMagenta | 0 |
SaturationAdjustmentOrange | 0 |
SaturationAdjustmentPurple | 0 |
SaturationAdjustmentRed | 0 |
SaturationAdjustmentYellow | 0 |
ScaleFactor35efl | 1.0 |
SceneCaptureType | Standard |
SceneType | Directly photographed |
SensingMethod | One-chip color area |
SerialNumber | 2222628 |
Shadows2012 | +100 |
ShadowTint | 0 |
SharpenDetail | 35 |
SharpenEdgeMasking | 0 |
SharpenRadius | +1.0 |
Sharpness (1) | 39 |
Sharpness | Normal |
ShutterSpeed | 8 |
ShutterSpeedValue | 8 |
Software | Windows Photo Editor 10.0.10011.16384 |
SplitToningBalance | 0 |
SplitToningHighlightHue | 0 |
SplitToningHighlightSaturation | 0 |
SplitToningShadowHue | 0 |
SplitToningShadowSaturation | 0 |
SubjectDistanceRange | Unknown |
Tint | -8 |
ToneCurve | 0, 0, 255, 255 |
ToneCurveBlue | 0, 0, 255, 255 |
ToneCurveGreen | 0, 0, 255, 255 |
ToneCurveName | Linear |
ToneCurveName2012 | Linear |
ToneCurvePV2012 | 0, 0, 255, 255 |
ToneCurvePV2012Blue | 0, 0, 255, 255 |
ToneCurvePV2012Green | 0, 0, 255, 255 |
ToneCurvePV2012Red | 0, 0, 255, 255 |
ToneCurveRed | 0, 0, 255, 255 |
Version | 8.7 |
Vibrance | +12 |
VignetteAmount | 0 |
WhiteBalance (1) | Custom |
WhiteBalance | Auto |
Whites2012 | +33 |