Felt | Verdi |
AlreadyApplied | True |
Aperture | 4.0 |
ApertureValue | 4.0 |
ApproximateFocusDistance | 4294967295 |
AutoLateralCA | 1 |
AutoWhiteVersion | 134348800 |
BitsPerSample | 8 |
Blacks2012 | +23 |
BlueHue | 0 |
BlueSaturation | 0 |
CameraProfile | Adobe Standard |
Clarity2012 | +35 |
ColorComponents | 3 |
ColorNoiseReduction | 25 |
ColorNoiseReductionDetail | 50 |
ColorNoiseReductionSmoothness | 50 |
ColorSpace | sRGB |
ColorTemperature | 6400 |
ColorTransform | YCbCr |
Contrast2012 | +21 |
ConvertToGrayscale | False |
CreateDate (1) | 2017:11:03 13:50:31.131 |
CreateDate | 2017:11:03 13:50:31 |
CreatorTool | Adobe Photoshop Lightroom 6.12 (Windows) |
CropAngle | 0.412754 |
CropBottom | 0.960129 |
CropConstrainToWarp | 0 |
CropLeft | 0.00322 |
CropRight | 0.98652 |
CropTop | 0.070401 |
CustomRendered | Normal |
DateCreated (1) | 2017:11:03 |
DateCreated | 2017:11:03 13:50:25.00 |
DateTimeOriginal | 2017:11:03 13:50:31 |
DefringeGreenAmount | 0 |
DefringeGreenHueHi | 60 |
DefringeGreenHueLo | 40 |
DefringePurpleAmount | 0 |
DefringePurpleHueHi | 70 |
DefringePurpleHueLo | 30 |
Dehaze | 0 |
DistortionCorrectionAlreadyApplied | True |
Exposure2012 | 0.00 |
ExposureCompensation | 0 |
ExposureMode | Manual |
ExposureProgram | Manual |
ExposureTime | 1/500 |
Firmware | 1.0.2 |
Flash | Off, Did not fire |
FlashCompensation | 0 |
FNumber | 4.0 |
FocalLength | 35.0 mm |
FocalLength35efl | 35.0 mm |
Format | image/jpeg |
GradientBasedCorrActive | true |
GradientBasedCorrAmount | 1.000000 |
GradientBasedCorrBrightness | 0.000000 |
GradientBasedCorrClarity2012 | 0.289310 |
GradientBasedCorrContrast2012 | 0.287360 |
GradientBasedCorrDefringe | 0.000000 |
GradientBasedCorrExposure2012 | 0.000000 |
GradientBasedCorrHighlights2012 | -0.241380 |
GradientBasedCorrHue | 240.000000 |
GradientBasedCorrLocalBlacks2012 | 0.000000 |
GradientBasedCorrLocalDehaze | 0.000000 |
GradientBasedCorrLocalWhites2012 | 0.000000 |
GradientBasedCorrLuminanceNoise | 0.000000 |
GradientBasedCorrMaskFullX | 0.512206 |
GradientBasedCorrMaskFullY | 0.484003 |
GradientBasedCorrMaskValue | 1.000000 |
GradientBasedCorrMaskWhat | Mask/Gradient |
GradientBasedCorrMaskZeroX | 0.511558 |
GradientBasedCorrMaskZeroY | 0.661859 |
GradientBasedCorrMoire | 0.000000 |
GradientBasedCorrSaturation (1) | -0.280340 |
GradientBasedCorrSaturation | 0.000000 |
GradientBasedCorrShadows2012 | 0.000000 |
GradientBasedCorrSharpness | 0.356320 |
GradientBasedCorrTemperature | 0.000000 |
GradientBasedCorrTint | 0.000000 |
GradientBasedCorrWhat | Correction |
GrainAmount | 0 |
GreenHue | 0 |
GreenSaturation | 0 |
HasCrop | True |
HasSettings | True |
Highlights2012 | -48 |
HueAdjustmentAqua | 0 |
HueAdjustmentBlue | 0 |
HueAdjustmentGreen | 0 |
HueAdjustmentMagenta | 0 |
HueAdjustmentOrange | 0 |
HueAdjustmentPurple | 0 |
HueAdjustmentRed | 0 |
HueAdjustmentYellow | 0 |
ImageHeight | 5124 |
ImageNumber | 0 |
ImageSize | 11754x5124 |
ImageWidth | 11754 |
IsMergedPanorama | True |
ISO | 400 |
LateralChromaticAberrationCorrectionAlreadyApplied | True |
Lens | 35mm |
LensID (1) | 169 |
LensID | Sigma 35mm f/1.4 DG HSM or Sigma 35mm f/1.5 FF High-Speed Prime | 017 |
LensInfo | 35mm f/? |
LensManualDistortionAmount | 0 |
LensModel | 35mm |
LensProfileChromaticAberrationScale | 100 |
LensProfileDistortionScale | 100 |
LensProfileEnable | 1 |
LensProfileFilename | Canon (SIGMA 35mm F1.4 DG HSM A012) - RAW.lcp |
LensProfileName | Adobe (SIGMA 35mm F1.4 DG HSM A012, Canon) |
LensProfileSetup | Custom |
LensProfileVignettingScale | 95 |
LensSerialNumber | 0000000000 |
LightValue | 11.0 |
LuminanceAdjustmentAqua | 0 |
LuminanceAdjustmentBlue | 0 |
LuminanceAdjustmentGreen | 0 |
LuminanceAdjustmentMagenta | 0 |
LuminanceAdjustmentOrange | 0 |
LuminanceAdjustmentPurple | 0 |
LuminanceAdjustmentRed | 0 |
LuminanceAdjustmentYellow | 0 |
LuminanceSmoothing | 0 |
Make | Canon |
MaxApertureValue | 1.4 |
Megapixels | 60.2 |
MeteringMode | Multi-segment |
Model | Canon EOS 6D Mark II |
ModifyDate (1) | 2017:11:03 17:57:47+01:00 |
ModifyDate | 2017:11:03 17:57:47 |
PaintCorrectionActive | true |
PaintCorrectionAmount | 1.000000 |
PaintCorrectionBrightness | 0.000000 |
PaintCorrectionClarity2012 | 0.199310 |
PaintCorrectionContrast2012 | 0.000000 |
PaintCorrectionDefringe | 0.000000 |
PaintCorrectionExposure2012 (1) | 0.200000 |
PaintCorrectionExposure2012 | 0.100000 |
PaintCorrectionHighlights2012 | 0.000000 |
PaintCorrectionHue | 240.000000 |
PaintCorrectionLocalBlacks2012 | 0.000000 |
PaintCorrectionLocalDehaze | 0.000000 |
PaintCorrectionLocalWhites2012 | 0.000000 |
PaintCorrectionLuminanceNoise | 0.000000 |
PaintCorrectionMaskCenterWeight | 0.082873 |
PaintCorrectionMaskFlow | 0.944000 |
PaintCorrectionMaskRadius (1) | 0.002511 |
PaintCorrectionMaskRadius (11) | 0.001551 |
PaintCorrectionMaskRadius (14) | 0.049738 |
PaintCorrectionMaskRadius (15) | 0.049733 |
PaintCorrectionMaskRadius (5) | 0.001085 |
PaintCorrectionMaskRadius (6) | 0.002510 |
PaintCorrectionMaskRadius (9) | 0.001552 |
PaintCorrectionMaskRadius | 0.049735 |
PaintCorrectionMaskValue | 1.000000 |
PaintCorrectionMaskWhat | Mask/Paint |
PaintCorrectionMoire | 0.000000 |
PaintCorrectionSaturation | 0.000000 |
PaintCorrectionShadows2012 | 0.000000 |
PaintCorrectionSharpness | 0.000000 |
PaintCorrectionTemperature | 0.000000 |
PaintCorrectionTint | 0.000000 |
PaintCorrectionWhat | Correction |
ParametricDarks | 0 |
ParametricHighlights | +22 |
ParametricHighlightSplit | 75 |
ParametricLights | +13 |
ParametricMidtoneSplit | 50 |
ParametricShadows | 0 |
ParametricShadowSplit | 25 |
PerspectiveAspect | 0 |
PerspectiveHorizontal | 0 |
PerspectiveRotate | 0.0 |
PerspectiveScale | 100 |
PerspectiveUpright | 0 |
PerspectiveVertical | 0 |
PerspectiveX | 0.00 |
PerspectiveY | 0.00 |
PostCropVignetteAmount | 0 |
ProcessVersion | 6.7 |
ProfileDescription | sRGB IEC61966-2.1 |
RecommendedExposureIndex | 400 |
RedHue | 0 |
RedSaturation | 0 |
Saturation | -10 |
SaturationAdjustmentAqua | 0 |
SaturationAdjustmentBlue | +18 |
SaturationAdjustmentGreen | +36 |
SaturationAdjustmentMagenta | 0 |
SaturationAdjustmentOrange | +29 |
SaturationAdjustmentPurple | 0 |
SaturationAdjustmentRed | 0 |
SaturationAdjustmentYellow | +36 |
SceneCaptureType | Standard |
SensitivityType | Recommended Exposure Index |
SerialNumber | 013021002146 |
Shadows2012 | -24 |
ShadowTint | 0 |
SharpenDetail | 25 |
SharpenEdgeMasking | 0 |
SharpenRadius | +1.0 |
Sharpness | 25 |
ShutterSpeed | 1/500 |
ShutterSpeedValue | 1/500 |
Software | Adobe Photoshop Lightroom 6.12 (Windows) |
SplitToningBalance | 0 |
SplitToningHighlightHue | 0 |
SplitToningHighlightSaturation | 0 |
SplitToningShadowHue | 0 |
SplitToningShadowSaturation | 0 |
Tint | +8 |
ToneCurve | 0, 0, 255, 255 |
ToneCurveBlue | 0, 0, 255, 255 |
ToneCurveGreen | 0, 0, 255, 255 |
ToneCurveName | Linear |
ToneCurveName2012 | Linear |
ToneCurvePV2012 | 0, 0, 255, 255 |
ToneCurvePV2012Blue | 0, 0, 255, 255 |
ToneCurvePV2012Green | 0, 0, 255, 255 |
ToneCurvePV2012Red | 0, 0, 255, 255 |
ToneCurveRed | 0, 0, 255, 255 |
ToneMapStrength | 0 |
Transformation | Spherical |
Version | 9.12 |
Vibrance | +25 |
VignetteAmount | 0 |
VignetteCorrectionAlreadyApplied | True |
VirtualFocalLength | 0.439941 |
VirtualImageXCenter | 0.423939 |
VirtualImageYCenter | 0.238029 |
WhiteBalance (1) | Custom |
WhiteBalance | Auto |
Whites2012 | +19 |