Felt | Verdi |
AlreadyApplied | True |
Aperture | 5.6 |
ApertureValue | 5.6 |
AutoLateralCA | 0 |
BitsPerSample | 8 |
Blacks2012 | +13 |
BlueHue | -27 |
BlueSaturation | -3 |
CameraProfile | Embedded |
CircleOfConfusion | 0.019 mm |
Clarity2012 | +8 |
ColorComponents | 3 |
ColorNoiseReduction | 0 |
ColorSpace | sRGB |
ColorTransform | YCbCr |
Contrast2012 | -14 |
ConvertToGrayscale | False |
CreateDate (1) | 2018:08:26 18:48:03.35 |
CreateDate | 2018:08:26 18:48:03 |
CreatorTool | Adobe Photoshop Lightroom Classic 7.5 (Macintosh) |
CropAngle | 0 |
CropBottom | 0.864129 |
CropConstrainToWarp | 0 |
CropLeft | 0.115893 |
CropRight | 0.944211 |
CropTop | 0 |
CustomRendered | Normal |
DateCreated (1) | 2018:08:26 |
DateCreated | 2018:08:26 18:48:03.35 |
DateTimeOriginal | 2018:08:26 18:48:03 |
DefringeGreenAmount | 0 |
DefringeGreenHueHi | 60 |
DefringeGreenHueLo | 40 |
DefringePurpleAmount | 0 |
DefringePurpleHueHi | 70 |
DefringePurpleHueLo | 30 |
Dehaze | 0 |
Exposure2012 | +2.00 |
ExposureCompensation | 0 |
ExposureMode | Manual |
ExposureProgram | Manual |
ExposureTime | 1/250 |
Firmware | 1.0.1 |
Flash | Off, Did not fire |
FlashCompensation | 0 |
FNumber | 5.6 |
FocalLength | 80.0 mm |
FocalLength35efl | 80.0 mm (35 mm equivalent: 124.3 mm) |
Format | image/jpeg |
FOV | 16.5 deg |
GradientBasedCorrActive | true |
GradientBasedCorrAmount | 1.000000 |
GradientBasedCorrBrightness | 0.000000 |
GradientBasedCorrClarity2012 | 0.000000 |
GradientBasedCorrContrast2012 | 0.000000 |
GradientBasedCorrCorrectionRangeMaskColorAmount | 0.500000 |
GradientBasedCorrCorrectionRangeMaskLumFeather | 0.500000 |
GradientBasedCorrCorrectionRangeMaskLumMax | 1.000000 |
GradientBasedCorrCorrectionRangeMaskLumMin | 0.000000 |
GradientBasedCorrCorrectionRangeMaskType | 0 |
GradientBasedCorrCorrectionRangeMaskVersion | +2 |
GradientBasedCorrDefringe | 0.000000 |
GradientBasedCorrExposure2012 | 0.481286 |
GradientBasedCorrHighlights2012 | 0.000000 |
GradientBasedCorrHue | 0.000000 |
GradientBasedCorrLocalBlacks2012 | 0.000000 |
GradientBasedCorrLocalDehaze | 0.060320 |
GradientBasedCorrLocalWhites2012 | 0.000000 |
GradientBasedCorrLuminanceNoise | 0.000000 |
GradientBasedCorrMaskFullX | 0.895270 |
GradientBasedCorrMaskFullY | 0.917508 |
GradientBasedCorrMaskValue | 1.000000 |
GradientBasedCorrMaskWhat | Mask/Gradient |
GradientBasedCorrMaskZeroX | 0.559863 |
GradientBasedCorrMaskZeroY | 0.505105 |
GradientBasedCorrMoire | 0.000000 |
GradientBasedCorrSaturation (1) | 0.392805 |
GradientBasedCorrSaturation | 0.000000 |
GradientBasedCorrShadows2012 | 0.000000 |
GradientBasedCorrSharpness | 0.000000 |
GradientBasedCorrTemperature | 1.000000 |
GradientBasedCorrTint | 0.067860 |
GradientBasedCorrWhat | Correction |
GrainAmount | 31 |
GrainFrequency | 50 |
GrainSize | 25 |
GreenHue | +32 |
GreenSaturation | -18 |
HasCrop | True |
HasSettings | True |
Highlights2012 | -34 |
HueAdjustmentAqua | 0 |
HueAdjustmentBlue | -22 |
HueAdjustmentGreen | -100 |
HueAdjustmentMagenta | +8 |
HueAdjustmentOrange | -10 |
HueAdjustmentPurple | -14 |
HueAdjustmentRed | +52 |
HueAdjustmentYellow | -76 |
HyperfocalDistance | 59.12 m |
ImageHeight | 4970 |
ImageNumber | 0 |
ImageSize | 3457x4970 |
ImageWidth | 3457 |
IncrementalTemperature | +15 |
IncrementalTint | 0 |
ISO | 400 |
Lens | EF75-300mm f/4-5.6 |
LensID (1) | 39 |
LensID | Canon EF 75-300mm f/4-5.6 |
LensInfo | 75-300mm f/? |
LensManualDistortionAmount | 0 |
LensModel | EF75-300mm f/4-5.6 |
LensProfileEnable | 0 |
LensProfileSetup | LensDefaults |
LensSerialNumber | 0000000000 |
LightValue | 10.9 |
LookName | |
LuminanceAdjustmentAqua | +24 |
LuminanceAdjustmentBlue | +27 |
LuminanceAdjustmentGreen | +41 |
LuminanceAdjustmentMagenta | 0 |
LuminanceAdjustmentOrange | -29 |
LuminanceAdjustmentPurple | -13 |
LuminanceAdjustmentRed | -33 |
LuminanceAdjustmentYellow | +52 |
LuminanceNoiseReductionContrast | 0 |
LuminanceNoiseReductionDetail | 50 |
LuminanceSmoothing | 10 |
Make | Canon |
MaxApertureValue | 4.2 |
Megapixels | 17.2 |
MeteringMode | Multi-segment |
Model | Canon EOS 200D |
ModifyDate (1) | 2018:08:31 08:38:36+02:00 |
ModifyDate | 2018:08:31 08:38:36 |
OverrideLookVignette | False |
ParametricDarks | 0 |
ParametricHighlights | 0 |
ParametricHighlightSplit | 75 |
ParametricLights | 0 |
ParametricMidtoneSplit | 60 |
ParametricShadows | +29 |
ParametricShadowSplit | 14 |
PerspectiveAspect | 0 |
PerspectiveHorizontal | 0 |
PerspectiveRotate | 0.0 |
PerspectiveScale | 100 |
PerspectiveUpright | 5 |
PerspectiveVertical | 0 |
PerspectiveX | 0.00 |
PerspectiveY | 0.00 |
PostCropVignetteAmount | 0 |
ProcessVersion | 10.0 |
ProfileDescription | sRGB IEC61966-2.1 |
RawFileName | |
RecommendedExposureIndex | 400 |
RedHue | +31 |
RedSaturation | -3 |
Saturation | -10 |
SaturationAdjustmentAqua | -3 |
SaturationAdjustmentBlue | -51 |
SaturationAdjustmentGreen | -48 |
SaturationAdjustmentMagenta | -20 |
SaturationAdjustmentOrange | -16 |
SaturationAdjustmentPurple | -20 |
SaturationAdjustmentRed | -14 |
SaturationAdjustmentYellow | 0 |
ScaleFactor35efl | 1.6 |
SceneCaptureType | Standard |
SensitivityType | Recommended Exposure Index |
SerialNumber | 113071003459 |
Shadows2012 | 0 |
ShadowTint | 0 |
SharpenDetail | 25 |
SharpenEdgeMasking | 0 |
SharpenRadius | +1.0 |
Sharpness | 40 |
ShutterSpeed | 1/250 |
ShutterSpeedValue | 1/250 |
Software | Adobe Photoshop Lightroom Classic 7.5 (Macintosh) |
SplitToningBalance | 0 |
SplitToningHighlightHue | 65 |
SplitToningHighlightSaturation | 4 |
SplitToningShadowHue | 227 |
SplitToningShadowSaturation | 3 |
ToneCurve | 0, 0, 255, 255 |
ToneCurveBlue | 0, 0, 255, 255 |
ToneCurveGreen | 0, 0, 255, 255 |
ToneCurveName | Linear |
ToneCurveName2012 | Custom |
ToneCurvePV2012 | 5, 9, 27, 24, 66, 60, 127, 118, 199, 193, 255, 255 |
ToneCurvePV2012Blue | 0, 0, 44, 31, 116, 122, 173, 190, 255, 255 |
ToneCurvePV2012Green | 0, 0, 47, 34, 102, 110, 170, 190, 255, 255 |
ToneCurvePV2012Red | 0, 0, 47, 32, 106, 116, 170, 190, 255, 255 |
ToneCurveRed | 0, 0, 255, 255 |
ToneMapStrength | 0 |
Version | 10.5 |
Vibrance | 0 |
VignetteAmount | 0 |
WhiteBalance (1) | Custom |
WhiteBalance | Auto |
Whites2012 | -39 |