Felt | Verdi |
AbsoluteAltitude | +28.80 |
AlreadyApplied | True |
Aperture | 5.6 |
ApertureValue | 5.6 |
ApproximateFocusDistance | 0 |
AutoLateralCA | 0 |
AutoWhiteVersion | 134348800 |
BitsPerSample | 8 |
Blacks2012 | -64 |
BlueHue | 0 |
BlueSaturation | 0 |
CameraProfile | Embedded |
CamReverse | 0 |
CircleOfConfusion | 0.015 mm |
Clarity2012 | +36 |
ColorComponents | 3 |
ColorNoiseReduction | 25 |
ColorNoiseReductionDetail | 50 |
ColorNoiseReductionSmoothness | 50 |
ColorTemperature | 5350 |
ColorTransform | YCbCr |
Contrast | Normal |
Contrast2012 | +19 |
ConvertToGrayscale | False |
CreateDate | 2019:02:13 15:41:56 |
CreatorTool | Adobe Photoshop Lightroom 5.7 (Windows) |
CropAngle | 0 |
CropBottom | 1 |
CropConstrainToWarp | 0 |
CropLeft | 0 |
CropRight | 0.886497 |
CropTop | 0 |
CustomRendered | Normal |
DateCreated (1) | 2019:02:13 |
DateCreated | 2019:02:13 15:41:56 |
DateTimeOriginal | 2019:02:13 15:41:56 |
DefringeGreenAmount | 0 |
DefringeGreenHueHi | 60 |
DefringeGreenHueLo | 40 |
DefringePurpleAmount | 0 |
DefringePurpleHueHi | 70 |
DefringePurpleHueLo | 30 |
DigitalZoomRatio | 0 |
DOF | inf (0.00 m - inf) |
Exposure2012 | -0.36 |
ExposureCompensation | 0 |
ExposureMode | Manual |
ExposureProgram | Unknown (8176) |
ExposureTime | 1/200 |
Flash | No flash function |
FlightPitchDegree | -5.00 |
FlightRollDegree | -0.40 |
FlightXSpeed | +0.00 |
FlightYawDegree | +172.90 |
FlightYSpeed | +0.00 |
FlightZSpeed | +0.00 |
FNumber | 5.6 |
FocalLength | 15.0 mm |
FocalLength35efl | 15.0 mm (35 mm equivalent: 30.0 mm) |
FocalLengthIn35mmFormat | 30 mm |
Format | image/jpeg |
FOV | 61.9 deg |
GainControl | None |
GimbalPitchDegree | -89.90 |
GimbalReverse | 0 |
GimbalRollDegree | +0.00 |
GimbalYawDegree | +173.80 |
GPSAltitude (1) | 28.796 m |
GPSAltitude | 28.7 m Above Sea Level |
GPSAltitudeRef | Above Sea Level |
GPSLatitude (1) | 60 deg 39' 29.31" |
GPSLatitude | 60 deg 39' 29.31" N |
GPSLatitudeRef | North |
GPSLongitude (1) | 5 deg 47' 30.14" |
GPSLongitude | 5 deg 47' 30.14" E |
GPSLongitudeRef | East |
GPSPosition | 60 deg 39' 29.31" N, 5 deg 47' 30.14" E |
GPSVersionID | 2.3.0.0 |
GrainAmount | 0 |
GreenHue | 0 |
GreenSaturation | 0 |
HasCrop | True |
HasSettings | True |
Highlights2012 | -79 |
HueAdjustmentAqua | 0 |
HueAdjustmentBlue | 0 |
HueAdjustmentGreen | +84 |
HueAdjustmentMagenta | 0 |
HueAdjustmentOrange | -31 |
HueAdjustmentPurple | 0 |
HueAdjustmentRed | 0 |
HueAdjustmentYellow | 0 |
HyperfocalDistance | 2.67 m |
ImageHeight | 1217 |
ImageSize | 1920x1217 |
ImageWidth | 1920 |
ISO | 800 |
Lens | DJI MFT 15mm F1.7 ASPH |
LensInfo | 20.7mm f/? |
LensMake | UnKnown |
LensManualDistortionAmount | 0 |
LensModel | DJI MFT 15mm F1.7 ASPH |
LensProfileEnable | 0 |
LensProfileSetup | LensDefaults |
LightSource | Unknown |
LightValue | 9.6 |
LuminanceAdjustmentAqua | +100 |
LuminanceAdjustmentBlue | +16 |
LuminanceAdjustmentGreen | +27 |
LuminanceAdjustmentMagenta | 0 |
LuminanceAdjustmentOrange | -24 |
LuminanceAdjustmentPurple | 0 |
LuminanceAdjustmentRed | 0 |
LuminanceAdjustmentYellow | 0 |
LuminanceNoiseReductionContrast | 0 |
LuminanceNoiseReductionDetail | 50 |
LuminanceSmoothing | 15 |
Make | DJI |
MaxApertureValue | 1.8 |
Megapixels | 2.3 |
MeteringMode | Center-weighted average |
Model | FC550 |
ModifyDate (1) | 2019:02:19 18:59:41+02:00 |
ModifyDate | 2019:02:19 18:59:41 |
PaintCorrectionActive | true |
PaintCorrectionAmount | 1.000000 |
PaintCorrectionBrightness | 0.000000 |
PaintCorrectionClarity2012 (3) | 0.563220 |
PaintCorrectionClarity2012 (4) | 0.540230 |
PaintCorrectionClarity2012 (5) | -0.287360 |
PaintCorrectionClarity2012 (6) | 0.172410 |
PaintCorrectionClarity2012 | 0.000000 |
PaintCorrectionContrast2012 (3) | 0.310340 |
PaintCorrectionContrast2012 (4) | 0.149430 |
PaintCorrectionContrast2012 (6) | 0.126440 |
PaintCorrectionContrast2012 | 0.000000 |
PaintCorrectionDefringe | 0.000000 |
PaintCorrectionExposure2012 (3) | -0.034500 |
PaintCorrectionExposure2012 | 0.000000 |
PaintCorrectionHighlights2012 (1) | -1.000000 |
PaintCorrectionHighlights2012 (2) | -0.632180 |
PaintCorrectionHighlights2012 (6) | 0.000000 |
PaintCorrectionHighlights2012 | 0.379310 |
PaintCorrectionHue | 240.000000 |
PaintCorrectionLuminanceNoise | 0.000000 |
PaintCorrectionMaskCenterWeight (14) | 0.000000 |
PaintCorrectionMaskCenterWeight (6) | 0.066077 |
PaintCorrectionMaskCenterWeight | 0.144405 |
PaintCorrectionMaskFlow | 1.000000 |
PaintCorrectionMaskRadius (10) | 0.184349 |
PaintCorrectionMaskRadius (12) | 0.060142 |
PaintCorrectionMaskRadius (14) | 0.155944 |
PaintCorrectionMaskRadius (3) | 0.173696 |
PaintCorrectionMaskRadius (7) | 0.078050 |
PaintCorrectionMaskRadius | 0.072601 |
PaintCorrectionMaskValue (12) | 0.000000 |
PaintCorrectionMaskValue | 1.000000 |
PaintCorrectionMaskWhat | Mask/Paint |
PaintCorrectionMoire | 0.000000 |
PaintCorrectionSaturation (11) | -0.080460 |
PaintCorrectionSaturation (5) | 0.149430 |
PaintCorrectionSaturation | 0.000000 |
PaintCorrectionShadows2012 (4) | 0.034480 |
PaintCorrectionShadows2012 | 0.000000 |
PaintCorrectionSharpness | 0.000000 |
PaintCorrectionTemperature (3) | 0.011490 |
PaintCorrectionTemperature | 0.000000 |
PaintCorrectionTint | 0.000000 |
PaintCorrectionWhat | Correction |
ParametricDarks | 0 |
ParametricHighlights | 0 |
ParametricHighlightSplit | 75 |
ParametricLights | 0 |
ParametricMidtoneSplit | 50 |
ParametricShadows | 0 |
ParametricShadowSplit | 25 |
PerspectiveAspect | 0 |
PerspectiveHorizontal | 0 |
PerspectiveRotate | 0.0 |
PerspectiveScale | 100 |
PerspectiveUpright | 0 |
PerspectiveVertical | 0 |
PostCropVignetteAmount | 0 |
ProcessVersion | 6.7 |
ProfileDescription | sRGB IEC61966-2.1 |
RedHue | 0 |
RedSaturation | 0 |
RelativeAltitude | +104.20 |
Saturation (1) | 0 |
Saturation | Normal |
SaturationAdjustmentAqua | +58 |
SaturationAdjustmentBlue | -24 |
SaturationAdjustmentGreen | -100 |
SaturationAdjustmentMagenta | 0 |
SaturationAdjustmentOrange | -7 |
SaturationAdjustmentPurple | 0 |
SaturationAdjustmentRed | 0 |
SaturationAdjustmentYellow | 0 |
ScaleFactor35efl | 2.0 |
SceneCaptureType | Standard |
SceneType | Directly photographed |
SerialNumber | 2014031100 |
Shadows2012 | +19 |
ShadowTint | 0 |
SharpenDetail | 25 |
SharpenEdgeMasking | 42 |
SharpenRadius | +1.0 |
Sharpness (1) | 80 |
Sharpness | Normal |
ShutterSpeed | 1/200 |
ShutterSpeedValue | 1/200 |
Software | Adobe Photoshop Lightroom 5.7 (Windows) |
SplitToningBalance | 0 |
SplitToningHighlightHue | 0 |
SplitToningHighlightSaturation | 0 |
SplitToningShadowHue | 0 |
SplitToningShadowSaturation | 0 |
SubjectDistance | 0 m |
SubjectDistanceRange | Unknown |
Tint | 0 |
ToneCurve | 0, 0, 255, 255 |
ToneCurveBlue | 0, 0, 255, 255 |
ToneCurveGreen | 0, 0, 255, 255 |
ToneCurveName | Linear |
ToneCurveName2012 | Linear |
ToneCurvePV2012 | 0, 0, 255, 255 |
ToneCurvePV2012Blue | 0, 0, 255, 255 |
ToneCurvePV2012Green | 0, 0, 255, 255 |
ToneCurvePV2012Red | 0, 0, 255, 255 |
ToneCurveRed | 0, 0, 255, 255 |
Version | 8.7 |
Vibrance | -5 |
VignetteAmount | 0 |
WhiteBalance (1) | Custom |
WhiteBalance | Auto |
Whites2012 | +31 |