Felt | Verdi |
2017-04-10T09:28:09+02:00 File _scan_20170410_0002A26EF3624BB8A08219BA689486332FAA.psb saved
2017-04-10T09:33:09+02:00 File _scan_20170410_0002A26EF3624BB8A08219BA689486332FAA.psb saved
2017-04-10T09:38:11+02:00 File _scan_20170410_0002A26EF3624BB8A08219BA689486332FAA.psb saved
2017-04-10T09:43:11+02:00 File _scan_20170410_0002A26EF3624BB8A08219BA689486332FAA.psb saved
2017-04-10T09:48:54+02:00 File _scan_20170410_0002A26EF3624BB8A08219BA689486332FAA.psb saved
2017-04-10T09:50:16+02:00 File Vår grønt.psd saved
2017-04-10T09:50:44+02:00 File Vår grønt.jpg saved
2017-04-10T10:01:01+02:00 File _Vår grøntCB1DB990D3D4AD8B0409CEFE52E04CDC.psb saved
2017-04-10T10:06:01+02:00 File _Vår grøntCB1DB990D3D4AD8B0409CEFE52E04CDC.psb saved
2017-04-10T10:08:42+02:00 File Vår grønt-Edit.tif saved
2017-04-10T10:08:57+02:00 File Vår grønt-Edit.tif saved
2017-04-10T10:13:18+02:00 File Vår grønt-Edit.tif saved
2017-04-10T10:13:25+02:00 File Vår grønt-Edit.tif saved
AlreadyApplied | True |
AutoLateralCA | 0 |
AutoWhiteVersion | 134348800 |
BitsPerSample (1) | 16 16 16 |
BitsPerSample | 8 |
Blacks2012 | -17 |
BlueHue | 0 |
BlueSaturation | 0 |
CameraProfile | Embedded |
Clarity2012 | +31 |
ColorComponents | 3 |
ColorMode | RGB |
ColorNoiseReduction | 0 |
ColorSpace | Uncalibrated |
ColorTransform | YCbCr |
Contrast2012 | -9 |
ConvertToGrayscale | False |
CreateDate | 2017:04:10 09:22:38 |
CreatorTool | Adobe Photoshop CC 2015.5 (Macintosh) |
CropAngle | 0 |
CropBottom | 1 |
CropConstrainToWarp | 0 |
CropLeft | 0.024187 |
CropRight | 1 |
CropTop | 0 |
DefringeGreenAmount | 0 |
DefringeGreenHueHi | 60 |
DefringeGreenHueLo | 40 |
DefringePurpleAmount | 0 |
DefringePurpleHueHi | 70 |
DefringePurpleHueLo | 30 |
Dehaze | 0 |
ExifImageHeight | 4960 |
ExifImageWidth | 3508 |
Exposure2012 | +1.30 |
Format | image/jpeg |
GrainAmount | 0 |
GreenHue | 0 |
GreenSaturation | 0 |
HasCrop | True |
HasSettings | True |
HierarchicalSubject | 2017, blader, grønn, kvist, skanner |
Highlights2012 | -50 |
HueAdjustmentAqua | 0 |
HueAdjustmentBlue | 0 |
HueAdjustmentGreen | 0 |
HueAdjustmentMagenta | 0 |
HueAdjustmentOrange | 0 |
HueAdjustmentPurple | 0 |
HueAdjustmentRed | 0 |
HueAdjustmentYellow | 0 |
ICCProfileName | ProPhoto RGB |
ImageHeight (1) | 3369 |
ImageHeight | 4960 |
ImageSize | 3508x4960 |
ImageWidth (1) | 2375 |
ImageWidth | 3508 |
IncrementalTemperature | 0 |
IncrementalTint | 0 |
Keywords | 2017, blader, grønn, kvist, skanner |
Label | |
LensManualDistortionAmount | 0 |
LensProfileEnable | 0 |
LensProfileSetup | LensDefaults |
LuminanceAdjustmentAqua | 0 |
LuminanceAdjustmentBlue | 0 |
LuminanceAdjustmentGreen | 0 |
LuminanceAdjustmentMagenta | 0 |
LuminanceAdjustmentOrange | 0 |
LuminanceAdjustmentPurple | 0 |
LuminanceAdjustmentRed | 0 |
LuminanceAdjustmentYellow | 0 |
LuminanceSmoothing | 0 |
Megapixels | 17.4 |
ModifyDate (1) | 2019:03:25 10:42:42+01:00 |
ModifyDate | 2019:03:25 10:42:42 |
Orientation | Horizontal (normal) |
ParametricDarks | 0 |
ParametricHighlights | 0 |
ParametricHighlightSplit | 75 |
ParametricLights | 0 |
ParametricMidtoneSplit | 50 |
ParametricShadows | 0 |
ParametricShadowSplit | 25 |
PerspectiveAspect | 0 |
PerspectiveHorizontal | 0 |
PerspectiveRotate | 0.0 |
PerspectiveScale | 100 |
PerspectiveUpright | 0 |
PerspectiveVertical | 0 |
PhotometricInterpretation | RGB |
PlanarConfiguration | Chunky |
PostCropVignetteAmount | 0 |
ProcessVersion | 6.7 |
ProfileDescription | ProPhoto RGB |
Rating | 0 |
RawFileName | Vår grønt.jpg |
RedHue | 0 |
RedSaturation | 0 |
SamplesPerPixel | 3 |
Saturation | -4 |
SaturationAdjustmentAqua | 0 |
SaturationAdjustmentBlue | 0 |
SaturationAdjustmentGreen | 0 |
SaturationAdjustmentMagenta | 0 |
SaturationAdjustmentOrange | 0 |
SaturationAdjustmentPurple | 0 |
SaturationAdjustmentRed | 0 |
SaturationAdjustmentYellow | 0 |
Shadows2012 | +50 |
ShadowTint | 0 |
SharpenDetail | 25 |
SharpenEdgeMasking | 71 |
SharpenRadius | +1.0 |
Sharpness | 97 |
Software | Adobe Photoshop CC 2018 (Macintosh) |
SplitToningBalance | 0 |
SplitToningHighlightHue | 0 |
SplitToningHighlightSaturation | 0 |
SplitToningShadowHue | 0 |
SplitToningShadowSaturation | 0 |
Subject | 2017, blader, grønn, kvist, skanner |
ToneCurve | 0, 0, 255, 255 |
ToneCurveBlue | 0, 0, 255, 255 |
ToneCurveGreen | 0, 0, 255, 255 |
ToneCurveName | Linear |
ToneCurveName2012 | Linear |
ToneCurvePV2012 | 0, 0, 255, 255 |
ToneCurvePV2012Blue | 0, 0, 255, 255 |
ToneCurvePV2012Green | 0, 0, 255, 255 |
ToneCurvePV2012Red | 0, 0, 255, 255 |
ToneCurveRed | 0, 0, 255, 255 |
ToneMapStrength | 0 |
URL_List | |
Version | 9.1.1 |
Vibrance | 0 |
VignetteAmount | 0 |
WhiteBalance | As Shot |
Whites2012 | +28 |