Felt | Verdi |
AlreadyApplied | True |
Aperture | 7.1 |
ApertureValue | 7.1 |
ApproximateFocusDistance | 5.76 |
Artist | Igor Kostin |
AutoLateralCA | 0 |
BitsPerSample | 8 |
Blacks2012 | 0 |
BlueHue | 0 |
BlueSaturation | 0 |
By-line | Igor Kostin |
CameraProfile | Embedded |
CircleOfConfusion | 0.010 mm |
Clarity2012 | +3 |
ColorComponents | 3 |
ColorNoiseReduction | 0 |
ColorSpace | sRGB |
ColorTransform | YCbCr |
Contrast2012 | 0 |
ConvertToGrayscale | False |
Copyright | All rights reserved |
CopyrightFlag | True |
CopyrightNotice | All rights reserved |
CreateDate (1) | 2019:04:06 22:18:16Z |
CreateDate | 2019:04:06 22:18:16 |
Creator | Igor Kostin |
CreatorTool | Adobe Photoshop Lightroom Classic 8.2.1 (Macintosh) |
CropAngle | 0 |
CropBottom | 0.9075 |
CropConstrainToWarp | 0 |
CropLeft | 0 |
CropRight | 0.932938 |
CropTop | 0.175967 |
CustomRendered | Normal |
DateCreated (1) | 2019:04:06 |
DateCreated | 2019:04:06 22:18:16Z |
DateTimeOriginal | 2019:04:06 22:18:16 |
DefringeGreenAmount | 0 |
DefringeGreenHueHi | 60 |
DefringeGreenHueLo | 40 |
DefringePurpleAmount | 0 |
DefringePurpleHueHi | 70 |
DefringePurpleHueLo | 30 |
Dehaze | -11 |
DOF | 1.31 m (5.18 - 6.49 m) |
Exposure2012 | 0.00 |
ExposureCompensation | 0 |
ExposureMode | Manual |
ExposureProgram | Manual |
ExposureTime | 1/100 |
Firmware | 1.0.0 |
Flash | No Flash |
FlashCompensation | 0 |
FNumber | 7.1 |
FocalLength | 60.0 mm |
FocalLength35efl | 60.0 mm (35 mm equivalent: 180.3 mm) |
Format | image/jpeg |
FOV | 11.4 deg |
GrainAmount | 0 |
GreenHue | 0 |
GreenSaturation | 0 |
HasCrop | True |
HasSettings | True |
Highlights2012 | 0 |
HueAdjustmentAqua | 0 |
HueAdjustmentBlue | 0 |
HueAdjustmentGreen | 0 |
HueAdjustmentMagenta | 0 |
HueAdjustmentOrange | 0 |
HueAdjustmentPurple | 0 |
HueAdjustmentRed | 0 |
HueAdjustmentYellow | 0 |
HyperfocalDistance | 50.70 m |
ImageHeight | 2048 |
ImageNumber | 0 |
ImageSize | 1741x2048 |
ImageWidth | 1741 |
IncrementalTemperature | 0 |
IncrementalTint | 0 |
ISO | 400 |
Keywords | 2019, @igorkostin74, BW, Bodø, CanonEOSR, Kvantoland, Landscape, Natur, Nordland, Norge, Norway, Nude, Sørfold, VisitNorway, Workshop, avisanordland, bodoivinden, eyephotomagazine, light, modell, nrknordland, photographyofnorway, travel, visitbodø |
Lens | EF28-300mm f/3.5-5.6L IS USM |
LensID (1) | 233 |
LensID | Canon EF 28-300mm f/3.5-5.6L IS USM |
LensInfo | 28-300mm f/? |
LensManualDistortionAmount | 0 |
LensModel | EF28-300mm f/3.5-5.6L IS USM |
LensProfileEnable | 0 |
LensProfileSetup | LensDefaults |
LensSerialNumber | 0000000000 |
LightValue | 10.3 |
LookName | |
LuminanceAdjustmentAqua | 0 |
LuminanceAdjustmentBlue | 0 |
LuminanceAdjustmentGreen | 0 |
LuminanceAdjustmentMagenta | 0 |
LuminanceAdjustmentOrange | 0 |
LuminanceAdjustmentPurple | 0 |
LuminanceAdjustmentRed | 0 |
LuminanceAdjustmentYellow | 0 |
LuminanceSmoothing | 0 |
Make | Canon |
Marked | True |
MaxApertureValue | 4.4 |
Megapixels | 3.6 |
MeteringMode | Spot |
Model | Canon EOS R |
ModifyDate (1) | 2019:04:22 17:22:42+02:00 |
ModifyDate | 2019:04:22 17:22:42 |
OverrideLookVignette | False |
ParametricDarks | 0 |
ParametricHighlights | 0 |
ParametricHighlightSplit | 75 |
ParametricLights | 0 |
ParametricMidtoneSplit | 50 |
ParametricShadows | 0 |
ParametricShadowSplit | 25 |
PerspectiveAspect | 0 |
PerspectiveHorizontal | 0 |
PerspectiveRotate | 0.0 |
PerspectiveScale | 100 |
PerspectiveUpright | 0 |
PerspectiveVertical | 0 |
PerspectiveX | 0.00 |
PerspectiveY | 0.00 |
PostCropVignetteAmount | 0 |
ProcessVersion | 11.0 |
ProfileDescription | sRGB IEC61966-2.1 |
Rating | 5 |
RawFileName | |
RecommendedExposureIndex | 400 |
RedHue | 0 |
RedSaturation | 0 |
Rights | All rights reserved |
Saturation | 0 |
SaturationAdjustmentAqua | 0 |
SaturationAdjustmentBlue | 0 |
SaturationAdjustmentGreen | 0 |
SaturationAdjustmentMagenta | 0 |
SaturationAdjustmentOrange | 0 |
SaturationAdjustmentPurple | 0 |
SaturationAdjustmentRed | 0 |
SaturationAdjustmentYellow | 0 |
ScaleFactor35efl | 3.0 |
SceneCaptureType | Standard |
SensitivityType | Recommended Exposure Index |
SerialNumber | 032021005303 |
Shadows2012 | 0 |
ShadowTint | 0 |
SharpenDetail | 25 |
SharpenEdgeMasking | 0 |
SharpenRadius | +1.0 |
Sharpness | 0 |
ShutterSpeed | 1/100 |
ShutterSpeedValue | 1/100 |
Software | Adobe Photoshop Lightroom Classic 8.2.1 (Macintosh) |
SplitToningBalance | 0 |
SplitToningHighlightHue | 0 |
SplitToningHighlightSaturation | 0 |
SplitToningShadowHue | 0 |
SplitToningShadowSaturation | 0 |
Subject | 2019, @igorkostin74, BW, Bodø, CanonEOSR, Kvantoland, Landscape, Natur, Nordland, Norge, Norway, Nude, Sørfold, VisitNorway, Workshop, avisanordland, bodoivinden, eyephotomagazine, light, modell, nrknordland, photographyofnorway, travel, visitbodø |
ToneCurve | 0, 0, 255, 255 |
ToneCurveBlue | 0, 0, 255, 255 |
ToneCurveGreen | 0, 0, 255, 255 |
ToneCurveName | Linear |
ToneCurveName2012 | Linear |
ToneCurvePV2012 | 0, 0, 255, 255 |
ToneCurvePV2012Blue | 0, 0, 255, 255 |
ToneCurvePV2012Green | 0, 0, 255, 255 |
ToneCurvePV2012Red | 0, 0, 255, 255 |
ToneCurveRed | 0, 0, 255, 255 |
ToneMapStrength | 0 |
UsageTerms | Please contact |
Version | 11.2.1 |
Vibrance | -14 |
VignetteAmount | 0 |
Virtualpaths | kywd:||travel|, kywd:||Norway|, kywd:||2019|, kywd:||light|, kywd:||Kvantoland|, kywd:||modell|, kywd:||Natur|, kywd:||Landscape|, kywd:||Nude|, kywd:||Bodø|, kywd:||bodoivinden|, kywd:||Sørfold|, kywd:||eyephotomagazine|, kywd:||CanonEOSR|, kywd:||BW|, kywd:||nrknordland|, kywd:||@igorkostin74|, kywd:||avisanordland|, kywd:||photographyofnorway|, kywd:||VisitNorway|, kywd:||Nordland|, kywd:||Workshop|, kywd:||Norge|, kywd:||visitbodø| |
WhiteBalance (1) | As Shot |
WhiteBalance | Auto |
Whites2012 | 0 |