Felt | Verdi |
AlreadyApplied | True |
Aperture | 9.0 |
ApertureValue | 9.0 |
ApproximateFocusDistance | 11.2 |
Artist | Vidar Lennart Fredheim |
AutoLateralCA | 1 |
BitsPerSample | 8 |
Blacks2012 | +29 |
BlueHue | 0 |
BlueSaturation | 0 |
By-line | Vidar Lennart Fredheim |
CameraProfile | Adobe Standard |
CFAPattern | [Red,Green][Green,Blue] |
CircleOfConfusion | 0.030 mm |
City | Eigersund |
Clarity2012 | +29 |
ColorComponents | 3 |
ColorNoiseReduction | 25 |
ColorNoiseReductionDetail | 50 |
ColorNoiseReductionSmoothness | 50 |
ColorSpace | sRGB |
ColorTemperature | 5300 |
ColorTransform | YCbCr |
Contrast | Normal |
Contrast2012 | +71 |
ConvertToGrayscale | False |
Copyright | Vidar Lennart Fredheim |
CopyrightNotice | Vidar Lennart Fredheim |
Country | Norway |
Country-PrimaryLocationCode | NO |
Country-PrimaryLocationName | Norway |
CountryCode | NO |
CreateDate (1) | 2019:02:26 19:29:51.30 |
CreateDate | 2019:02:26 19:29:51 |
Creator | Vidar Lennart Fredheim |
CreatorTool | Adobe Photoshop Lightroom Classic 8.3.1 (Windows) |
CropAngle | 0.899585 |
CropBottom | 0.989817 |
CropConstrainToWarp | 0 |
CropLeft | 0.078612 |
CropRight | 0.986971 |
CropTop | 0.050242 |
CustomRendered | Normal |
DateCreated (1) | 2019:02:26 |
DateCreated | 2019:02:26 19:29:51.30 |
DateTimeOriginal | 2019:02:26 19:29:51 |
DefringeGreenAmount | 0 |
DefringeGreenHueHi | 60 |
DefringeGreenHueLo | 40 |
DefringePurpleAmount | 0 |
DefringePurpleHueHi | 70 |
DefringePurpleHueLo | 30 |
Dehaze | +24 |
DigitalZoomRatio | 1 |
DistortionCorrectionAlreadyApplied | True |
DOF | inf (1.55 m - inf) |
Exposure2012 | +0.60 |
ExposureCompensation | -1/3 |
ExposureMode | Auto |
ExposureProgram | Aperture-priority AE |
ExposureTime | 1.3 |
Flash | Off, Did not fire |
FNumber | 9.0 |
FocalLength | 22.0 mm |
FocalLength35efl | 22.0 mm (35 mm equivalent: 22.0 mm) |
FocalLengthIn35mmFormat | 22 mm |
Format | image/jpeg |
FOV | 78.6 deg |
GainControl | None |
GPSLatitude (1) | 58 deg 25' 53.81" |
GPSLatitude | 58 deg 25' 53.81" N |
GPSLatitudeRef | North |
GPSLongitude (1) | 5 deg 52' 13.06" |
GPSLongitude | 5 deg 52' 13.06" E |
GPSLongitudeRef | East |
GPSPosition | 58 deg 25' 53.81" N, 5 deg 52' 13.06" E |
GPSVersionID | 2.2.0.0 |
GrainAmount | 0 |
GreenHue | 0 |
GreenSaturation | 0 |
HasCrop | True |
HasExtendedXMP | 0D4AA10757F84B374947F720B2A0ECEF |
HasSettings | True |
Highlights2012 | -67 |
HueAdjustmentAqua | 0 |
HueAdjustmentBlue | 0 |
HueAdjustmentGreen | 0 |
HueAdjustmentMagenta | 0 |
HueAdjustmentOrange | 0 |
HueAdjustmentPurple | 0 |
HueAdjustmentRed | 0 |
HueAdjustmentYellow | 0 |
HyperfocalDistance | 1.79 m |
ImageHeight | 3687 |
ImageNumber | 25302 |
ImageSize | 5523x3687 |
ImageWidth | 5523 |
ISO | 100 |
Keywords | 2019, Eigerøy, Eigerøy fyr, februar |
LateralChromaticAberrationCorrectionAlreadyApplied | True |
Lens | TAMRON SP 15-30mm F2.8 Di VC USD A012N |
LensID (1) | 233 |
LensID | Tamron SP 15-30mm f/2.8 Di VC USD (A012) |
LensInfo | 15-30mm f/2.8 |
LensManualDistortionAmount | 0 |
LensModel | TAMRON SP 15-30mm F2.8 Di VC USD A012N |
LensProfileChromaticAberrationScale | 100 |
LensProfileDistortionScale | 100 |
LensProfileEnable | 1 |
LensProfileFilename | NIKON CORPORATION (TAMRON SP 15-30mm F_2.8 Di VC USD A012N) - RAW.lcp |
LensProfileName | Adobe (TAMRON SP 15-30mm F2.8 Di VC USD A012N, NIKON CORPORATION) |
LensProfileSetup | LensDefaults |
LensProfileVignettingScale | 100 |
LightSource | Unknown |
LightValue | 6.0 |
LookAmount | 1.000000 |
LookGroup | Profiles |
LookName | Adobe Color |
LookParametersCameraProfile | Adobe Standard |
LookParametersConvertToGrayscale | False |
LookParametersLookTable | E1095149FDB39D7A057BAB208837E2E1 |
LookParametersProcessVersion | 11.0 |
LookParametersToneCurvePV2012 | 0, 0, 22, 16, 40, 35, 127, 127, 224, 230, 240, 246, 255, 255 |
LookParametersToneCurvePV2012Blue | 0, 0, 255, 255 |
LookParametersToneCurvePV2012Green | 0, 0, 255, 255 |
LookParametersToneCurvePV2012Red | 0, 0, 255, 255 |
LookParametersVersion | 11.3 |
LookSupportsAmount | false |
LookSupportsMonochrome | false |
LookSupportsOutputReferred | false |
LuminanceAdjustmentAqua | -9 |
LuminanceAdjustmentBlue | -27 |
LuminanceAdjustmentGreen | -13 |
LuminanceAdjustmentMagenta | +31 |
LuminanceAdjustmentOrange | -27 |
LuminanceAdjustmentPurple | -7 |
LuminanceAdjustmentRed | -9 |
LuminanceAdjustmentYellow | -27 |
LuminanceNoiseReductionContrast | 0 |
LuminanceNoiseReductionDetail | 50 |
LuminanceSmoothing | 8 |
Make | NIKON CORPORATION |
MaxApertureValue | 2.8 |
Megapixels | 20.4 |
MeteringMode | Multi-segment |
Model | NIKON D750 |
ModifyDate (1) | 2019:06:11 19:31:25+02:00 |
ModifyDate | 2019:06:11 19:31:25 |
OverrideLookVignette | False |
ParametricDarks | 0 |
ParametricHighlights | 0 |
ParametricHighlightSplit | 75 |
ParametricLights | 0 |
ParametricMidtoneSplit | 50 |
ParametricShadows | 0 |
ParametricShadowSplit | 25 |
PerspectiveAspect | 0 |
PerspectiveHorizontal | 0 |
PerspectiveRotate | 0.0 |
PerspectiveScale | 100 |
PerspectiveUpright | 0 |
PerspectiveVertical | 0 |
PerspectiveX | 0.00 |
PerspectiveY | 0.00 |
PostCropVignetteAmount | 0 |
ProcessVersion | 11.0 |
ProfileDescription | sRGB IEC61966-2.1 |
Province-State | Rogaland County Municipality |
RawFileName | _DSC4056.NEF |
RedHue | 0 |
RedSaturation | 0 |
Rights | Vidar Lennart Fredheim |
Saturation (1) | 0 |
Saturation | Normal |
SaturationAdjustmentAqua | +29 |
SaturationAdjustmentBlue | 0 |
SaturationAdjustmentGreen | +22 |
SaturationAdjustmentMagenta | +24 |
SaturationAdjustmentOrange | +47 |
SaturationAdjustmentPurple | +33 |
SaturationAdjustmentRed | 0 |
SaturationAdjustmentYellow | +22 |
ScaleFactor35efl | 1.0 |
SceneCaptureType | Standard |
SceneType | Directly photographed |
SensingMethod | One-chip color area |
SensitivityType | Recommended Exposure Index |
SerialNumber | 6074507 |
Shadows2012 | +79 |
ShadowTint | 0 |
SharpenDetail | 57 |
SharpenEdgeMasking | 60 |
SharpenRadius | +1.0 |
Sharpness (1) | 77 |
Sharpness | Normal |
ShutterSpeed | 1.3 |
ShutterSpeedValue | 1.3 |
Software | Adobe Photoshop Lightroom Classic 8.3.1 (Windows) |
SplitToningBalance | 0 |
SplitToningHighlightHue | 0 |
SplitToningHighlightSaturation | 0 |
SplitToningShadowHue | 0 |
SplitToningShadowSaturation | 0 |
State | Rogaland County Municipality |
Subject | 2019, Eigerøy, Eigerøy fyr, februar |
SubjectDistanceRange | Unknown |
Texture | 0 |
Tint | +3 |
ToneCurve | 0, 0, 255, 255 |
ToneCurveBlue | 0, 0, 255, 255 |
ToneCurveGreen | 0, 0, 255, 255 |
ToneCurveName | Linear |
ToneCurveName2012 | Linear |
ToneCurvePV2012 | 0, 0, 255, 255 |
ToneCurvePV2012Blue | 0, 0, 255, 255 |
ToneCurvePV2012Green | 0, 0, 255, 255 |
ToneCurvePV2012Red | 0, 0, 255, 255 |
ToneCurveRed | 0, 0, 255, 255 |
ToneMapStrength | 0 |
Version | 11.3 |
Vibrance | +5 |
VignetteAmount | 0 |
VignetteCorrectionAlreadyApplied | True |
WhiteBalance (1) | As Shot |
WhiteBalance | Auto |
Whites2012 | +36 |