Felt | Verdi |
AlreadyApplied | True |
Aperture | 2.8 |
ApertureValue | 2.8 |
ApproximateFocusDistance | 4294967295 |
Artist | Irene Sletvik 93037418 |
AutoLateralCA | 0 |
AutoWhiteVersion | 134348800 |
BitsPerSample | 8 |
Blacks2012 | -19 |
BlueHue | 0 |
BlueSaturation | 0 |
By-line | Irene Sletvik 93037418 |
CameraProfile | Embedded |
CircGradBasedCorrActive | true |
CircGradBasedCorrAmount | 1.000000 |
CircGradBasedCorrBrightness | 0.000000 |
CircGradBasedCorrClarity2012 | -0.484210 |
CircGradBasedCorrContrast2012 | 0.252630 |
CircGradBasedCorrDefringe | 0.000000 |
CircGradBasedCorrExposure2012 | -0.084250 |
CircGradBasedCorrHighlights2012 | -0.263160 |
CircGradBasedCorrHue | 0.000000 |
CircGradBasedCorrLuminanceNoise | 0.357890 |
CircGradBasedCorrMaskAngle | 0.000000 |
CircGradBasedCorrMaskBottom | 0.938622 |
CircGradBasedCorrMaskFeather | +39 |
CircGradBasedCorrMaskFlipped | false |
CircGradBasedCorrMaskLeft | 0.461077 |
CircGradBasedCorrMaskMidpoint | +50 |
CircGradBasedCorrMaskRight | 0.664670 |
CircGradBasedCorrMaskRoundness | 0 |
CircGradBasedCorrMaskTop | 0.178144 |
CircGradBasedCorrMaskValue | 1.000000 |
CircGradBasedCorrMaskVersion | +2 |
CircGradBasedCorrMaskWhat | Mask/CircularGradient |
CircGradBasedCorrMoire | 0.000000 |
CircGradBasedCorrSaturation | 0.000000 |
CircGradBasedCorrShadows2012 | -0.042110 |
CircGradBasedCorrSharpness | -0.336840 |
CircGradBasedCorrTemperature | 0.000000 |
CircGradBasedCorrTint | -0.284210 |
CircGradBasedCorrWhat | Correction |
CircleOfConfusion | 0.031 mm |
Clarity2012 | 0 |
ColorComponents | 3 |
ColorNoiseReduction | 0 |
ColorSpace | sRGB |
ColorTransform | YCbCr |
Contrast2012 | +13 |
ConvertToGrayscale | False |
CreateDate (1) | 2020:08:13 18:17:56.00 |
CreateDate | 2020:08:13 18:17:56 |
Creator | Irene Sletvik 93037418 |
CreatorTool | Adobe Photoshop Lightroom 5.0 (Windows) |
CropAngle | 0 |
CropBottom | 1 |
CropConstrainToWarp | 0 |
CropLeft | 0.282435 |
CropRight | 0.949101 |
CropTop | 0 |
CustomRendered | Normal |
DateCreated (1) | 2020:08:13 |
DateCreated | 2020:08:13 18:17:56.00 |
DateTimeOriginal | 2020:08:13 18:17:56 |
DefringeGreenAmount | 0 |
DefringeGreenHueHi | 60 |
DefringeGreenHueLo | 40 |
DefringePurpleAmount | 0 |
DefringePurpleHueHi | 70 |
DefringePurpleHueLo | 30 |
DOF | inf (461.53 m - inf) |
Exposure2012 | -0.67 |
ExposureCompensation | 0 |
ExposureMode | Manual |
ExposureProgram | Manual |
ExposureTime | 1/125 |
Firmware | 1.2.1 |
Flash | Off, Did not fire |
FlashCompensation | 0 |
FNumber | 2.8 |
FocalLength | 200.0 mm |
FocalLength35efl | 200.0 mm (35 mm equivalent: 194.1 mm) |
Format | image/jpeg |
FOV | 10.6 deg |
GrainAmount | 0 |
GreenHue | 0 |
GreenSaturation | 0 |
HasCrop | True |
HasSettings | True |
Highlights2012 | -8 |
HueAdjustmentAqua | 0 |
HueAdjustmentBlue | 0 |
HueAdjustmentGreen | 0 |
HueAdjustmentMagenta | 0 |
HueAdjustmentOrange | 0 |
HueAdjustmentPurple | 0 |
HueAdjustmentRed | 0 |
HueAdjustmentYellow | 0 |
HyperfocalDistance | 461.53 m |
ImageHeight | 3840 |
ImageNumber | 0 |
ImageSize | 3840x3840 |
ImageWidth | 3840 |
IncrementalTemperature | +3 |
IncrementalTint | 0 |
ISO | 250 |
Lens | EF70-200mm f/2.8L IS II USM |
LensID (1) | 251 |
LensID | Canon EF 70-200mm f/2.8L IS II USM |
LensInfo | 70-200mm f/? |
LensManualDistortionAmount | 0 |
LensModel | EF70-200mm f/2.8L IS II USM |
LensProfileEnable | 0 |
LensProfileSetup | LensDefaults |
LensSerialNumber | 0000c03ded |
LightValue | 8.6 |
LuminanceAdjustmentAqua | 0 |
LuminanceAdjustmentBlue | 0 |
LuminanceAdjustmentGreen | -13 |
LuminanceAdjustmentMagenta | 0 |
LuminanceAdjustmentOrange | +4 |
LuminanceAdjustmentPurple | 0 |
LuminanceAdjustmentRed | 0 |
LuminanceAdjustmentYellow | +4 |
LuminanceNoiseReductionContrast | 0 |
LuminanceNoiseReductionDetail | 50 |
LuminanceSmoothing | 5 |
Make | Canon |
MaxApertureValue | 2.8 |
Megapixels | 14.7 |
MeteringMode | Spot |
Model | Canon EOS 5D Mark III |
ModifyDate (1) | 2020:08:14 01:16:43+02:00 |
ModifyDate | 2020:08:14 01:16:43 |
ParametricDarks | 0 |
ParametricHighlights | 0 |
ParametricHighlightSplit | 75 |
ParametricLights | 0 |
ParametricMidtoneSplit | 50 |
ParametricShadows | 0 |
ParametricShadowSplit | 25 |
PerspectiveAspect | 0 |
PerspectiveHorizontal | 0 |
PerspectiveRotate | 0.0 |
PerspectiveScale | 100 |
PerspectiveUpright | 0 |
PerspectiveVertical | 0 |
PostCropVignetteAmount | -40 |
PostCropVignetteFeather | 75 |
PostCropVignetteHighlightContrast | 0 |
PostCropVignetteMidpoint | 35 |
PostCropVignetteRoundness | +41 |
PostCropVignetteStyle | 1 |
ProcessVersion | 6.7 |
ProfileDescription | sRGB IEC61966-2.1 |
RecommendedExposureIndex | 250 |
RedHue | 0 |
RedSaturation | 0 |
Saturation | 0 |
SaturationAdjustmentAqua | 0 |
SaturationAdjustmentBlue | 0 |
SaturationAdjustmentGreen | +11 |
SaturationAdjustmentMagenta | 0 |
SaturationAdjustmentOrange | -6 |
SaturationAdjustmentPurple | 0 |
SaturationAdjustmentRed | +5 |
SaturationAdjustmentYellow | -9 |
ScaleFactor35efl | 1.0 |
SceneCaptureType | Standard |
SensitivityType | Recommended Exposure Index |
SerialNumber | 082024008657 |
Shadows2012 | -22 |
ShadowTint | 0 |
SharpenDetail | 20 |
SharpenEdgeMasking | 25 |
SharpenRadius | +1.0 |
Sharpness | 33 |
ShutterSpeed | 1/125 |
ShutterSpeedValue | 1/125 |
Software | Adobe Photoshop Lightroom 5.0 (Windows) |
SplitToningBalance | 0 |
SplitToningHighlightHue | 0 |
SplitToningHighlightSaturation | 0 |
SplitToningShadowHue | 0 |
SplitToningShadowSaturation | 0 |
ToneCurveName2012 | Linear |
ToneCurvePV2012 | 0, 0, 255, 255 |
ToneCurvePV2012Blue | 0, 0, 255, 255 |
ToneCurvePV2012Green | 0, 0, 255, 255 |
ToneCurvePV2012Red | 0, 0, 255, 255 |
Version | 8.2 |
Vibrance | -4 |
VignetteAmount | 0 |
WhiteBalance (1) | Custom |
WhiteBalance | Manual |
Whites2012 | +20 |