Felt | Verdi |
2021-04-15T09:52:36+02:00 File 20210414_Lars-311-3413.psd saved
2021-04-15T09:55:06+02:00 File 20210414_Lars-311-3413.psd opened
2021-04-15T10:13:27+02:00 File _20210414_Lars-311-341371BCBAD0C60878325E8452B1E4C901A5.psb saved
2021-04-15T10:13:38+02:00 File 20210414_Lars-311-3413-3414.psd saved
2021-04-15T10:17:50+02:00 File 20210414_Lars-311-3413-3414.psd opened
2021-04-15T10:19:17+02:00 File 20210414_Lars-311-3413-3414-3415-3416.psd saved
AlreadyApplied | True |
Artist | Igor Kostin |
AutoLateralCA | 0 |
BitsPerSample | 8 |
Blacks2012 | 0 |
BlueHue | 0 |
BlueSaturation | 0 |
By-line | Igor Kostin |
CameraProfile | Embedded |
CircleOfConfusion | 0.010 mm |
Clarity2012 | 0 |
ColorComponents | 3 |
ColorGradeBlending | 50 |
ColorGradeGlobalHue | 0 |
ColorGradeGlobalLum | 0 |
ColorGradeGlobalSat | 0 |
ColorGradeHighlightLum | 0 |
ColorGradeMidtoneHue | 0 |
ColorGradeMidtoneLum | 0 |
ColorGradeMidtoneSat | 0 |
ColorGradeShadowLum | 0 |
ColorNoiseReduction | 0 |
ColorSpace | Uncalibrated |
ColorTransform | YCbCr |
Contrast2012 | 0 |
ConvertToGrayscale | False |
Copyright | All rights reserved |
CopyrightFlag | True |
CopyrightNotice | All rights reserved |
CreateDate (1) | 2021:04:13 23:16:00.91Z |
CreateDate | 2021:04:13 23:16:00 |
Creator | Igor Kostin |
CreatorCity | Bodø |
CreatorCountry | Norway |
CreatorTool | Adobe Photoshop Lightroom Classic 10.2 (Macintosh) |
CropAngle | 0.499333 |
CropBottom | 1 |
CropConstrainToWarp | 0 |
CropLeft | 0.008713 |
CropRight | 0.991287 |
CropTop | 0 |
CustomRendered | Normal |
DateCreated (1) | 2021:04:13 |
DateCreated | 2021:04:13 23:16:00.091 |
DateTimeOriginal | 2021:04:13 23:16:00 |
DefringeGreenAmount | 0 |
DefringeGreenHueHi | 60 |
DefringeGreenHueLo | 40 |
DefringePurpleAmount | 0 |
DefringePurpleHueHi | 70 |
DefringePurpleHueLo | 30 |
Dehaze | 0 |
Exposure2012 | 0.00 |
ExposureCompensation | 0 |
ExposureMode | Manual |
ExposureProgram | Manual |
ExposureTime | 1/1600 |
Firmware | 1.7.0 |
Flash | No Flash |
FlashCompensation | 0 |
Format | image/jpeg |
GrainAmount | 0 |
GreenHue | 0 |
GreenSaturation | 0 |
HasCrop | True |
HasSettings | True |
Highlights2012 | 0 |
HueAdjustmentAqua | 0 |
HueAdjustmentBlue | 0 |
HueAdjustmentGreen | 0 |
HueAdjustmentMagenta | 0 |
HueAdjustmentOrange | 0 |
HueAdjustmentPurple | 0 |
HueAdjustmentRed | 0 |
HueAdjustmentYellow | 0 |
ImageHeight | 1782 |
ImageNumber | 0 |
ImageSize | 2048x1782 |
ImageWidth | 2048 |
IncrementalTemperature | 0 |
IncrementalTint | 0 |
ISO | 100 |
Keywords | 2021, @igorkostin74, Bodø, Canon, CanonEOSR, Digital, Landscape, Natur, Nordland, Norge, Norway, Sørfold, exposure, travel |
LateralChromaticAberrationCorrectionAlreadyApplied | True |
LensManualDistortionAmount | 0 |
LensProfileEnable | 0 |
LensSerialNumber | 0000000000 |
LuminanceAdjustmentAqua | 0 |
LuminanceAdjustmentBlue | 0 |
LuminanceAdjustmentGreen | 0 |
LuminanceAdjustmentMagenta | 0 |
LuminanceAdjustmentOrange | 0 |
LuminanceAdjustmentPurple | 0 |
LuminanceAdjustmentRed | 0 |
LuminanceAdjustmentYellow | 0 |
LuminanceSmoothing | 0 |
Make | Canon |
Marked | True |
MaxApertureValue | 1.8 |
Megapixels | 3.6 |
MeteringMode | Spot |
Model | Canon EOS R |
ModifyDate (1) | 2021:04:15 10:22:57+02:00 |
ModifyDate | 2021:04:15 10:22:57 |
OverrideLookVignette | False |
PaintCorrectionActive | true |
PaintCorrectionAmount | 1.000000 |
PaintCorrectionBrightness | 0.000000 |
PaintCorrectionClarity2012 (1) | 0.000000 |
PaintCorrectionClarity2012 (3) | 0.309375 |
PaintCorrectionClarity2012 | -0.811562 |
PaintCorrectionContrast2012 | 0.000000 |
PaintCorrectionCorrectionRangeMaskColorAmount | 0.500000 |
PaintCorrectionCorrectionRangeMaskDepthFeather | 0.500000 |
PaintCorrectionCorrectionRangeMaskDepthMax | 1.000000 |
PaintCorrectionCorrectionRangeMaskDepthMin | 0.000000 |
PaintCorrectionCorrectionRangeMaskLumFeather | 0.500000 |
PaintCorrectionCorrectionRangeMaskLumMax | 1.000000 |
PaintCorrectionCorrectionRangeMaskLumMin | 0.000000 |
PaintCorrectionCorrectionRangeMaskType | 0 |
PaintCorrectionCorrectionRangeMaskVersion | +2 |
PaintCorrectionDefringe | 0.000000 |
PaintCorrectionExposure2012 | 0.000000 |
PaintCorrectionHighlights2012 | 0.000000 |
PaintCorrectionHue | 240.000000 |
PaintCorrectionLocalBlacks2012 | 0.000000 |
PaintCorrectionLocalDehaze | 0.000000 |
PaintCorrectionLocalHue | 0.000000 |
PaintCorrectionLocalTexture (1) | 0.232063 |
PaintCorrectionLocalTexture (3) | -0.864563 |
PaintCorrectionLocalTexture | 0.000000 |
PaintCorrectionLocalWhites2012 (1) | 0.000000 |
PaintCorrectionLocalWhites2012 (2) | 0.088250 |
PaintCorrectionLocalWhites2012 | 0.144313 |
PaintCorrectionLuminanceNoise | 0.000000 |
PaintCorrectionMaskCenterWeight | 0.095373 |
PaintCorrectionMaskFlow (1) | 0.093275 |
PaintCorrectionMaskFlow (10) | 0.027636 |
PaintCorrectionMaskFlow (11) | 0.538024 |
PaintCorrectionMaskFlow (12) | 0.680914 |
PaintCorrectionMaskFlow (13) | 0.495893 |
PaintCorrectionMaskFlow (14) | 0.675914 |
PaintCorrectionMaskFlow (15) | 0.710343 |
PaintCorrectionMaskFlow (16) | 0.686276 |
PaintCorrectionMaskFlow (17) | 0.621895 |
PaintCorrectionMaskFlow (18) | 0.687984 |
PaintCorrectionMaskFlow (19) | 0.465760 |
PaintCorrectionMaskFlow (2) | 0.443087 |
PaintCorrectionMaskFlow (20) | 0.406485 |
PaintCorrectionMaskFlow (21) | 0.747076 |
PaintCorrectionMaskFlow (22) | 0.720185 |
PaintCorrectionMaskFlow (23) | 0.533893 |
PaintCorrectionMaskFlow (24) | 0.295441 |
PaintCorrectionMaskFlow (25) | 0.412517 |
PaintCorrectionMaskFlow (26) | 0.045929 |
PaintCorrectionMaskFlow (27) | 0.546386 |
PaintCorrectionMaskFlow (28) | 0.592074 |
PaintCorrectionMaskFlow (29) | 0.580495 |
PaintCorrectionMaskFlow (3) | 0.624520 |
PaintCorrectionMaskFlow (30) | 0.477548 |
PaintCorrectionMaskFlow (4) | 0.670472 |
PaintCorrectionMaskFlow (5) | 0.548242 |
PaintCorrectionMaskFlow (6) | 0.559141 |
PaintCorrectionMaskFlow (7) | 0.430413 |
PaintCorrectionMaskFlow (8) | 0.563942 |
PaintCorrectionMaskFlow (9) | 0.290038 |
PaintCorrectionMaskFlow | 0.645714 |
PaintCorrectionMaskRadius (19) | 0.073927 |
PaintCorrectionMaskRadius (27) | 0.018066 |
PaintCorrectionMaskRadius (29) | 0.023841 |
PaintCorrectionMaskRadius (4) | 0.074664 |
PaintCorrectionMaskRadius | 0.035714 |
PaintCorrectionMaskValue | 1.000000 |
PaintCorrectionMaskWhat | Mask/Paint |
PaintCorrectionMoire | 0.000000 |
PaintCorrectionSaturation (3) | 0.401750 |
PaintCorrectionSaturation | 0.000000 |
PaintCorrectionShadows2012 (1) | 0.471375 |
PaintCorrectionShadows2012 | 0.000000 |
PaintCorrectionSharpness | 0.000000 |
PaintCorrectionTemperature | 0.000000 |
PaintCorrectionTint | 0.000000 |
PaintCorrectionWhat | Correction |
ParametricDarks | 0 |
ParametricHighlights | 0 |
ParametricHighlightSplit | 75 |
ParametricLights | 0 |
ParametricMidtoneSplit | 50 |
ParametricShadows | 0 |
ParametricShadowSplit | 25 |
PerspectiveAspect | 0 |
PerspectiveHorizontal | 0 |
PerspectiveRotate | 0.0 |
PerspectiveScale | 100 |
PerspectiveUpright | 0 |
PerspectiveVertical | 0 |
PerspectiveX | 0.00 |
PerspectiveY | 0.00 |
PostCropVignetteAmount | 0 |
PreservedFileName | _Q3A6111.CR3 |
ProcessVersion | 11.0 |
ProfileDescription | Display P3 |
Rating | 5 |
RawFileName | |
RecommendedExposureIndex | 100 |
RedHue | 0 |
RedSaturation | 0 |
Rights | All rights reserved |
Saturation | 0 |
SaturationAdjustmentAqua | 0 |
SaturationAdjustmentBlue | 0 |
SaturationAdjustmentGreen | 0 |
SaturationAdjustmentMagenta | 0 |
SaturationAdjustmentOrange | 0 |
SaturationAdjustmentPurple | 0 |
SaturationAdjustmentRed | 0 |
SaturationAdjustmentYellow | 0 |
ScaleFactor35efl | 3.0 |
SceneCaptureType | Standard |
SensitivityType | Recommended Exposure Index |
SerialNumber | 032021005303 |
Shadows2012 | 0 |
ShadowTint | 0 |
Sharpness | 0 |
ShutterSpeed | 1/1600 |
ShutterSpeedValue | 1/1600 |
Software | Adobe Photoshop Lightroom Classic 10.2 (Macintosh) |
SplitToningBalance | 0 |
SplitToningHighlightHue | 0 |
SplitToningHighlightSaturation | 0 |
SplitToningShadowHue | 0 |
SplitToningShadowSaturation | 0 |
Subject | 2021, @igorkostin74, Bodø, Canon, CanonEOSR, Digital, Landscape, Natur, Nordland, Norge, Norway, Sørfold, exposure, travel |
Texture | 0 |
ToneCurveName2012 | Linear |
ToneCurvePV2012 | 0, 0, 255, 255 |
ToneCurvePV2012Blue | 0, 0, 255, 255 |
ToneCurvePV2012Green | 0, 0, 255, 255 |
ToneCurvePV2012Red | 0, 0, 255, 255 |
UsageTerms | Please contact |
Version | 13.2 |
Vibrance | 0 |
VignetteAmount | 0 |
WhiteBalance (1) | As Shot |
WhiteBalance | Auto |
Whites2012 | +30 |