Felt | Verdi |
AlreadyApplied | True |
Aperture | 5.6 |
ApertureValue | 5.6 |
ApproximateFocusDistance | 5.5 |
Artist | Igor Kostin |
AutoLateralCA | 1 |
BitsPerSample | 8 |
Blacks2012 | +14 |
BlueHue | 0 |
BlueSaturation | -32 |
By-line | Igor Kostin |
CameraProfile | Adobe Standard |
CircGradBasedCorrActive | true |
CircGradBasedCorrAmount | 1.000000 |
CircGradBasedCorrBrightness | 0.000000 |
CircGradBasedCorrClarity2012 | -0.815454 |
CircGradBasedCorrContrast2012 | 0.000000 |
CircGradBasedCorrCorrectionRangeMaskColorAmount | 0.500000 |
CircGradBasedCorrCorrectionRangeMaskDepthFeather | 0.500000 |
CircGradBasedCorrCorrectionRangeMaskDepthMax | 1.000000 |
CircGradBasedCorrCorrectionRangeMaskDepthMin | 0.000000 |
CircGradBasedCorrCorrectionRangeMaskLumFeather | 0.500000 |
CircGradBasedCorrCorrectionRangeMaskLumMax | 1.000000 |
CircGradBasedCorrCorrectionRangeMaskLumMin | 0.000000 |
CircGradBasedCorrCorrectionRangeMaskType | 0 |
CircGradBasedCorrCorrectionRangeMaskVersion | +2 |
CircGradBasedCorrDefringe | 0.000000 |
CircGradBasedCorrExposure2012 | 0.000000 |
CircGradBasedCorrHighlights2012 | 0.000000 |
CircGradBasedCorrHue | 0.000000 |
CircGradBasedCorrLocalBlacks2012 | 0.000000 |
CircGradBasedCorrLocalDehaze | 0.182641 |
CircGradBasedCorrLocalWhites2012 | 0.000000 |
CircGradBasedCorrLuminanceNoise | 0.000000 |
CircGradBasedCorrMaskAngle | -0.004781 |
CircGradBasedCorrMaskBottom | 0.926166 |
CircGradBasedCorrMaskFeather | +12 |
CircGradBasedCorrMaskFlipped | false |
CircGradBasedCorrMaskLeft | 0.048756 |
CircGradBasedCorrMaskMidpoint | +50 |
CircGradBasedCorrMaskRight | 0.872986 |
CircGradBasedCorrMaskRoundness | 0 |
CircGradBasedCorrMaskTop | 0.060636 |
CircGradBasedCorrMaskValue | 1.000000 |
CircGradBasedCorrMaskVersion | +2 |
CircGradBasedCorrMaskWhat | Mask/CircularGradient |
CircGradBasedCorrMoire | 0.000000 |
CircGradBasedCorrSaturation | 0.000000 |
CircGradBasedCorrShadows2012 | -0.182450 |
CircGradBasedCorrSharpness | -0.528201 |
CircGradBasedCorrTemperature | 0.000000 |
CircGradBasedCorrTint | 0.000000 |
CircGradBasedCorrWhat | Correction |
CircleOfConfusion | 0.008 mm |
Clarity2012 | +33 |
ColorComponents | 3 |
ColorGradeBlending | 50 |
ColorGradeGlobalHue | 0 |
ColorGradeGlobalLum | 0 |
ColorGradeGlobalSat | 0 |
ColorGradeHighlightLum | 0 |
ColorGradeMidtoneHue | 0 |
ColorGradeMidtoneLum | 0 |
ColorGradeMidtoneSat | 0 |
ColorGradeShadowLum | 0 |
ColorNoiseReduction | 25 |
ColorNoiseReductionDetail | 50 |
ColorNoiseReductionSmoothness | 50 |
ColorSpace | Uncalibrated |
ColorTemperature | 6376 |
ColorTransform | YCbCr |
Contrast2012 | +40 |
ConvertToGrayscale | True |
Copyright | All rights reserved |
CopyrightFlag | True |
CopyrightNotice | All rights reserved |
Country | Iceland |
Country-PrimaryLocationCode | IS |
Country-PrimaryLocationName | Iceland |
CountryCode | IS |
CreateDate (1) | 2018:06:18 22:39:00.10 |
CreateDate | 2018:06:18 22:39:00 |
Creator | Igor Kostin |
CreatorTool | Adobe Photoshop Lightroom Classic 10.4 (Macintosh) |
CropAngle | -0.821552 |
CropBottom | 0.978943 |
CropConstrainToWarp | 0 |
CropLeft | 0.326835 |
CropRight | 0.986162 |
CropTop | 0.013981 |
CustomRendered | Normal |
DateCreated (1) | 2018:06:18 |
DateCreated | 2018:06:18 22:39:00.10 |
DateTimeOriginal | 2018:06:18 22:39:00 |
Dehaze | +4 |
DistortionCorrectionAlreadyApplied | True |
DOF | 1.77 m (4.75 - 6.53 m) |
Exposure2012 | +0.20 |
ExposureCompensation | 0 |
ExposureMode | Auto |
ExposureProgram | Aperture-priority AE |
ExposureTime | 1/800 |
Firmware | 1.1.2 |
Flash | Off, Did not fire |
FlashCompensation | 0 |
FNumber | 5.6 |
FocalLength | 40.0 mm |
FocalLength35efl | 40.0 mm (35 mm equivalent: 146.1 mm) |
Format | image/jpeg |
FOV | 14.1 deg |
GPSAltitude (1) | 73.7 m |
GPSAltitude | 73.7 m Above Sea Level |
GPSAltitudeRef | Above Sea Level |
GPSDateStamp | 2018:06:18 |
GPSDateTime | 2018:06:18 20:36:40.669Z |
GPSDOP | 2.5 |
GPSImgDirectionRef | Magnetic North |
GPSLatitude (1) | 64 deg 48' 21.41" |
GPSLatitude | 64 deg 48' 21.41" N |
GPSLatitudeRef | North |
GPSLongitude (1) | 23 deg 36' 39.91" |
GPSLongitude | 23 deg 36' 39.91" W |
GPSLongitudeRef | West |
GPSMapDatum | WGS-84 |
GPSMeasureMode | 3-Dimensional Measurement |
GPSPosition | 64 deg 48' 21.41" N, 23 deg 36' 39.91" W |
GPSSatellites | 26 |
GPSStatus | Measurement Active |
GPSTimeStamp | 20:36:40.669 |
GPSVersionID | 2.3.0.0 |
GrainAmount | 61 |
GrainFrequency | 50 |
GrainSize | 25 |
GrayMixerAqua | -80 |
GrayMixerBlue | -71 |
GrayMixerGreen | -57 |
GrayMixerMagenta | +3 |
GrayMixerOrange | -4 |
GrayMixerPurple | -37 |
GrayMixerRed | +27 |
GrayMixerYellow | -44 |
GreenHue | 0 |
GreenSaturation | -5 |
HasCrop | True |
HasSettings | True |
Highlights2012 | -58 |
HyperfocalDistance | 34.72 m |
ImageHeight | 2048 |
ImageNumber | 0 |
ImageSize | 2040x2048 |
ImageWidth | 2040 |
ISO | 640 |
Keywords | 2018, BOFK, Bodø, IgorKostin, Island, Norway |
LateralChromaticAberrationCorrectionAlreadyApplied | True |
Lens | EF28-300mm f/3.5-5.6L IS USM |
LensID (1) | 233 |
LensID | Canon EF 28-300mm f/3.5-5.6L IS USM |
LensInfo | 28-300mm f/? |
LensManualDistortionAmount | 0 |
LensModel | EF28-300mm f/3.5-5.6L IS USM |
LensProfileDistortionScale | 100 |
LensProfileEnable | 1 |
LensProfileFilename | Canon EOS 5D Mark II (Canon EF 28-300mm f3.5-5.6 L IS USM) - RAW.lcp |
LensProfileIsEmbedded | False |
LensProfileName | Adobe (Canon EF 28-300mm f/3.5-5.6 L IS USM) |
LensProfileSetup | LensDefaults |
LensProfileVignettingScale | 100 |
LensSerialNumber | 000020a680 |
LightValue | 11.9 |
LuminanceSmoothing | 0 |
Make | Canon |
Marked | True |
MaxApertureValue | 4.2 |
Megapixels | 4.2 |
MeteringMode | Multi-segment |
Model | Canon EOS 7D Mark II |
ModifyDate (1) | 2021:09:03 13:22:30+02:00 |
ModifyDate | 2021:09:03 13:22:30 |
OverrideLookVignette | True |
ParametricDarks | 0 |
ParametricHighlights | 0 |
ParametricHighlightSplit | 75 |
ParametricLights | 0 |
ParametricMidtoneSplit | 50 |
ParametricShadows | 0 |
ParametricShadowSplit | 25 |
PerspectiveAspect | 0 |
PerspectiveHorizontal | 0 |
PerspectiveRotate | 0.0 |
PerspectiveScale | 100 |
PerspectiveUpright | 0 |
PerspectiveVertical | 0 |
PerspectiveX | 0.00 |
PerspectiveY | 0.00 |
PostCropVignetteAmount | -25 |
PostCropVignetteFeather | 50 |
PostCropVignetteHighlightContrast | 0 |
PostCropVignetteMidpoint | 50 |
PostCropVignetteRoundness | 0 |
PostCropVignetteStyle | 1 |
PreservedFileName | 20180618_Island-283.CR2 |
ProcessVersion | 11.0 |
ProfileDescription | Display P3 |
Province-State | Western Region |
Rating | 5 |
RawFileName | 20180618_Island-283.CR2 |
RecommendedExposureIndex | 640 |
RedHue | 0 |
RedSaturation | +7 |
Rights | All rights reserved |
ScaleFactor35efl | 3.7 |
SceneCaptureType | Standard |
SensitivityType | Recommended Exposure Index |
SerialNumber | 343055001281 |
Shadows2012 | -35 |
ShadowTint | +35 |
SharpenDetail | 10 |
SharpenEdgeMasking | 40 |
SharpenRadius | +1.5 |
Sharpness | 90 |
ShutterSpeed | 1/800 |
ShutterSpeedValue | 1/800 |
Software | Adobe Photoshop Lightroom Classic 10.4 (Macintosh) |
SplitToningBalance | 0 |
SplitToningHighlightHue | 142 |
SplitToningHighlightSaturation | 0 |
SplitToningShadowHue | 0 |
SplitToningShadowSaturation | 0 |
State | Western Region |
Subject | 2018, BOFK, Bodø, IgorKostin, Island, Norway |
Texture | 0 |
Tint | -17 |
ToneCurveName2012 | Custom |
ToneCurvePV2012 | 0, 0, 36, 29, 96, 96, 160, 171, 217, 227, 255, 255 |
ToneCurvePV2012Blue | 0, 0, 255, 255 |
ToneCurvePV2012Green | 0, 0, 255, 255 |
ToneCurvePV2012Red | 0, 0, 255, 255 |
UsageTerms | Please contact |
Version | 13.3 |
VignetteAmount | 0 |
VignetteCorrectionAlreadyApplied | True |
WhiteBalance (1) | Custom |
WhiteBalance | Auto |
Whites2012 | +11 |