Felt | Verdi |
AlreadyApplied | True |
Aperture | 5.6 |
ApertureValue | 5.6 |
Artist | Martin Rindalsholt |
AutoLateralCA | 0 |
BitsPerSample | 8 |
Blacks2012 | +4 |
BlueHue | -13 |
BlueSaturation | -15 |
BrightnessValue | 12.4234375 |
By-line | Martin Rindalsholt |
CameraProfile | Adobe Standard |
CircleOfConfusion | 0.020 mm |
Clarity2012 | +33 |
ColorComponents | 3 |
ColorGradeBlending | 100 |
ColorGradeGlobalHue | 0 |
ColorGradeGlobalLum | 0 |
ColorGradeGlobalSat | 0 |
ColorGradeHighlightLum | 0 |
ColorGradeMidtoneHue | 0 |
ColorGradeMidtoneLum | 0 |
ColorGradeMidtoneSat | 0 |
ColorGradeShadowLum | 0 |
ColorNoiseReduction | 90 |
ColorNoiseReductionDetail | 12 |
ColorNoiseReductionSmoothness | 17 |
ColorSpace | sRGB |
ColorTemperature | 10576 |
ColorTransform | YCbCr |
CompatibleVersion | 234881024 |
Contrast | Normal |
Contrast2012 | -1 |
Copyright | Martin Rindalsholt |
CopyrightNotice | Martin Rindalsholt |
CreateDate (1) | 2021:07:12 22:12:26+02:00 |
CreateDate | 2021:07:12 22:12:26 |
Creator | Martin Rindalsholt |
CreatorTool | Adobe Lightroom 5.3 (Macintosh) |
CropAngle | -0.38 |
CropBottom | 0.989767 |
CropConstrainToWarp | 0 |
CropLeft | 0 |
CropRight | 0.993759 |
CropTop | 0.010228 |
CustomRendered | Normal |
DateCreated (1) | 2021:07:12 |
DateCreated | 2021:07:12 22:12:26+02:00 |
DateTimeOriginal | 2021:07:12 22:12:26 |
DefringeGreenAmount | 0 |
DefringeGreenHueHi | 60 |
DefringeGreenHueLo | 40 |
DefringePurpleAmount | 0 |
DefringePurpleHueHi | 70 |
DefringePurpleHueLo | 30 |
Dehaze | 0 |
DigitalZoomRatio | 1 |
Exposure2012 | -0.05 |
ExposureCompensation | 0 |
ExposureMode | Manual |
ExposureProgram | Manual |
ExposureTime | 1/4000 |
Flash | Off, Did not fire |
FNumber | 5.6 |
FocalLength | 135.0 mm |
FocalLength35efl | 135.0 mm (35 mm equivalent: 202.0 mm) |
FocalLengthIn35mmFormat | 202 mm |
Format | image/jpeg |
FOV | 10.2 deg |
GrainAmount | 0 |
GrainSize | 20 |
GreenHue | +50 |
GreenSaturation | -10 |
HasCrop | True |
HasSettings | True |
Highlights2012 | -50 |
HueAdjustmentAqua | +5 |
HueAdjustmentBlue | -4 |
HueAdjustmentGreen | +86 |
HueAdjustmentMagenta | +25 |
HueAdjustmentOrange | +12 |
HueAdjustmentPurple | +10 |
HueAdjustmentRed | +8 |
HueAdjustmentYellow | +10 |
HyperfocalDistance | 162.07 m |
ImageHeight | 5936 |
ImageSize | 3957x5936 |
ImageWidth | 3957 |
ISO | 100 |
LateralChromaticAberrationCorrectionAlreadyApplied | True |
Lens | E 18-135mm F3.5-5.6 OSS |
LensDistortInfo | 1048713313/1073741824 29837083/1073741824 -4059423/1073741824 -768793/1073741824 |
LensInfo | 18-135mm f/3.5-5.6 |
LensManualDistortionAmount | 0 |
LensModel | E 18-135mm F3.5-5.6 OSS |
LensProfileDistortionScale | 100 |
LensProfileEnable | 0 |
LensProfileFilename | SONY (Sony E 18-135mm F3.5-5.6 OSS) - RAW.lcp |
LensProfileIsEmbedded | False |
LensProfileName | Adobe (Sony E 18-135mm F3.5-5.6 OSS) |
LensProfileSetup | LensDefaults |
LensProfileVignettingScale | 100 |
LightSource | Daylight |
LightValue | 16.9 |
LookAmount | 1 |
LookGroup | Profiles |
LookName | Adobe Color |
LookParametersCameraProfile | Adobe Standard |
LookParametersConvertToGrayscale | False |
LookParametersLookTable | E1095149FDB39D7A057BAB208837E2E1 |
LookParametersProcessVersion | 11.0 |
LookParametersToneCurvePV2012 | 0, 0, 22, 16, 40, 35, 127, 127, 224, 230, 240, 246, 255, 255 |
LookParametersToneCurvePV2012Blue | 0, 0, 255, 255 |
LookParametersToneCurvePV2012Green | 0, 0, 255, 255 |
LookParametersToneCurvePV2012Red | 0, 0, 255, 255 |
LookParametersVersion | 14.3 |
LookSupportsAmount | false |
LookSupportsMonochrome | false |
LookSupportsOutputReferred | false |
LuminanceAdjustmentAqua | 0 |
LuminanceAdjustmentBlue | +5 |
LuminanceAdjustmentGreen | -33 |
LuminanceAdjustmentMagenta | 0 |
LuminanceAdjustmentOrange | +17 |
LuminanceAdjustmentPurple | 0 |
LuminanceAdjustmentRed | +6 |
LuminanceAdjustmentYellow | 0 |
LuminanceNoiseReductionContrast | 0 |
LuminanceNoiseReductionDetail | 50 |
LuminanceSmoothing | 15 |
Make | SONY |
MaxApertureValue | 5.6 |
Megapixels | 23.5 |
MeteringMode | Average |
Model | ILCE-6600 |
ModifyDate (1) | 2022:05:07 21:08:08+02:00 |
ModifyDate | 2022:05:07 21:08:08 |
OverrideLookVignette | False |
ParametricDarks | -11 |
ParametricHighlights | 0 |
ParametricHighlightSplit | 75 |
ParametricLights | +2 |
ParametricMidtoneSplit | 60 |
ParametricShadows | 0 |
ParametricShadowSplit | 14 |
PerspectiveAspect | 0 |
PerspectiveHorizontal | 0 |
PerspectiveRotate | 0.0 |
PerspectiveScale | 100 |
PerspectiveUpright | 0 |
PerspectiveVertical | 0 |
PerspectiveX | 0.00 |
PerspectiveY | 0.00 |
PostCropVignetteAmount | 0 |
ProcessVersion | 11.0 |
ProfileDescription | sRGB IEC61966-2.1 |
RawFileName | DSC04287.ARW |
RecommendedExposureIndex | 100 |
RedHue | +30 |
RedSaturation | -10 |
Rights | Martin Rindalsholt |
Saturation (1) | 0 |
Saturation | Normal |
SaturationAdjustmentAqua | -36 |
SaturationAdjustmentBlue | +38 |
SaturationAdjustmentGreen | -47 |
SaturationAdjustmentMagenta | -20 |
SaturationAdjustmentOrange | -12 |
SaturationAdjustmentPurple | 0 |
SaturationAdjustmentRed | -20 |
SaturationAdjustmentYellow | -5 |
ScaleFactor35efl | 1.5 |
SceneCaptureType | Standard |
SceneType | Directly photographed |
SensitivityType | Recommended Exposure Index |
Shadows2012 | +67 |
ShadowTint | 0 |
SharpenDetail | 25 |
SharpenEdgeMasking | 11 |
SharpenRadius | +1.2 |
Sharpness (1) | 52 |
Sharpness | Normal |
ShutterSpeed | 1/4000 |
ShutterSpeedValue | 1/4000 |
Software | Adobe Lightroom 5.3 (Macintosh) |
SplitToningBalance | +50 |
SplitToningHighlightHue | 30 |
SplitToningHighlightSaturation | 52 |
SplitToningShadowHue | 208 |
SplitToningShadowSaturation | 57 |
Texture | 0 |
Tint | +27 |
ToneCurveName2012 | Custom |
ToneCurvePV2012 | 0, 39, 53, 72, 98, 105, 135, 134, 179, 175, 250, 237 |
ToneCurvePV2012Blue | 0, 0, 45, 15, 82, 61, 117, 122, 179, 200, 255, 255 |
ToneCurvePV2012Green | 0, 0, 48, 19, 117, 122, 179, 200, 255, 255 |
ToneCurvePV2012Red | 0, 0, 45, 20, 117, 122, 179, 200, 255, 255 |
Version | 14.3 |
Vibrance | +20 |
VignetteAmount | 0 |
WhiteBalance (1) | Custom |
WhiteBalance | Manual |
Whites2012 | -25 |