Felt | Verdi |
AlreadyApplied | True |
Aperture | 6.3 |
ApertureValue | 6.3 |
ApproximateFocusDistance | 75 |
Artist | Jan Erik Engan |
AutoLateralCA | 1 |
BitsPerSample (3) | 8 8 8 |
BitsPerSample (4) | 16, 16, 16 |
BitsPerSample | 16 16 16 |
Blacks2012 | +4 |
BlueHue | 0 |
BlueSaturation | 0 |
By-line | Jan Erik Engan |
CameraProfile | Adobe Standard |
CFAPattern | [Red,Green][Green,Blue] |
ChromaticityChannel1 | 0.64 0.33 |
ChromaticityChannel2 | 0.21001 0.71001 |
ChromaticityChannel3 | 0.14999 0.06 |
ChromaticityChannels | 3 |
ChromaticityColorant | Unknown (0) |
CircleOfConfusion | 0.020 mm |
Clarity2012 | 0 |
ColorGradeBlending | 50 |
ColorGradeGlobalHue | 0 |
ColorGradeGlobalLum | 0 |
ColorGradeGlobalSat | 0 |
ColorGradeHighlightLum | 0 |
ColorGradeMidtoneHue | 0 |
ColorGradeMidtoneLum | 0 |
ColorGradeMidtoneSat | 0 |
ColorGradeShadowLum | 0 |
ColorMode | RGB |
ColorNoiseReduction | 25 |
ColorNoiseReductionDetail | 50 |
ColorNoiseReductionSmoothness | 50 |
ColorSpace | Uncalibrated |
ColorTemperature | 4650 |
Contrast | Normal |
Contrast2012 | +2 |
Copyright | Jan Erik Engan |
CopyrightFlag | True |
CopyrightNotice | Jan Erik Engan |
CreateDate | 2022:10:21 10:23:56 |
Creator | Jan Erik Engan |
CreatorAddress | Dyrgravveien 21D |
CreatorCity | Kongsberg |
CreatorCountry | Norway |
CreatorPostalCode | 3617 |
CreatorRegion | Viken |
CreatorTool | Adobe Photoshop Lightroom Classic 12.0 (Windows) |
CreatorWorkEmail | janeenga@gmail.com |
CreatorWorkTelephone | +4740627971 |
CropAngle | 0 |
CropBottom | 1 |
CropConstrainToWarp | 0 |
CropLeft | 0 |
CropRight | 1 |
CropTop | 0 |
CustomRendered | Normal |
DateCreated (1) | 2022:10:21 10:23:56.006 |
DateCreated | 2022:10:21 |
DateTimeOriginal | 2022:10:21 10:23:56 |
DefringeGreenAmount | 0 |
DefringeGreenHueHi | 60 |
DefringeGreenHueLo | 40 |
DefringePurpleAmount | 0 |
DefringePurpleHueHi | 70 |
DefringePurpleHueLo | 30 |
Dehaze | 0 |
DigitalZoomRatio | 1 |
DistortionCorrectionAlreadyApplied | True |
DOF | 3.91 m (73.09 - 77.01 m) |
ExifImageHeight | 3465 |
ExifImageWidth | 5197 |
Exposure2012 | -0.34 |
ExposureCompensation | 0 |
ExposureMode | Auto |
ExposureProgram | Aperture-priority AE |
ExposureTime | 1/2500 |
Flash | Off, Did not fire |
FlashFired | False |
FlashFunction | False |
FlashMode | Off |
FlashRedEyeMode | False |
FlashReturn | No return detection |
FNumber | 6.3 |
FocalLength | 600.0 mm |
FocalLength35efl | 600.0 mm (35 mm equivalent: 900.0 mm) |
FocalLengthIn35mmFormat | 900 mm |
Format | image/tiff |
FOV | 2.3 deg |
GainControl (1) | Unknown (2/1) |
GainControl | High gain up |
GrainAmount | 0 |
GreenHue | 0 |
GreenSaturation | 0 |
HasCrop | False |
HasSettings | True |
Highlights2012 | -27 |
HueAdjustmentAqua | 0 |
HueAdjustmentBlue | 0 |
HueAdjustmentGreen | 0 |
HueAdjustmentMagenta | 0 |
HueAdjustmentOrange | 0 |
HueAdjustmentPurple | 0 |
HueAdjustmentRed | 0 |
HueAdjustmentYellow | 0 |
HyperfocalDistance | 2852.74 m |
ICCProfileName | Adobe98 |
ImageHeight (1) | 1733 |
ImageHeight (2) | 867 |
ImageHeight (3) | 434 |
ImageHeight (4) | 4000 |
ImageHeight | 3465 |
ImageNumber | 14091 |
ImageSize | 5197x3465 |
ImageWidth (1) | 2599 |
ImageWidth (2) | 1300 |
ImageWidth (3) | 650 |
ImageWidth (4) | 6000 |
ImageWidth | 5197 |
ISO | 25600 |
Keywords | Kongsberg |
LateralChromaticAberrationCorrectionAlreadyApplied | True |
Lens | 150.0-600.0 mm f/5.0-6.3 |
LensID (1) | 130 |
LensID | Sigma 150-600mm F5-6.3 DG OS HSM | C |
LensInfo (1) | 150 |
LensInfo | 150-600mm f/5-6.3 |
LensManualDistortionAmount | 0 |
LensModel | 150.0-600.0 mm f/5.0-6.3 |
LensProfileDistortionScale | 100 |
LensProfileEnable | 1 |
LensProfileFilename | NIKON CORPORATION (SIGMA 150-600mm F5-6.3 DG OS HSM C015) - RAW.lcp |
LensProfileIsEmbedded | False |
LensProfileName | Adobe (SIGMA 150-600mm F5-6.3 DG OS HSM C015, NIKON CORPORATION) |
LensProfileSetup | LensDefaults |
LensProfileVignettingScale | 100 |
LightSource | Unknown |
LightValue | 8.6 |
LookAmount | 1 |
LookGroup | Profiles |
LookName | Adobe Color |
LookParametersCameraProfile | Adobe Standard |
LookParametersConvertToGrayscale | False |
LookParametersLookTable | E1095149FDB39D7A057BAB208837E2E1 |
LookParametersProcessVersion | 11.0 |
LookParametersToneCurvePV2012 | 0, 0, 22, 16, 40, 35, 127, 127, 224, 230, 240, 246, 255, 255 |
LookParametersToneCurvePV2012Blue | 0, 0, 255, 255 |
LookParametersToneCurvePV2012Green | 0, 0, 255, 255 |
LookParametersToneCurvePV2012Red | 0, 0, 255, 255 |
LookParametersVersion | 15.0 |
LookSupportsAmount | false |
LookSupportsMonochrome | false |
LookSupportsOutputReferred | false |
LuminanceAdjustmentAqua | 0 |
LuminanceAdjustmentBlue | 0 |
LuminanceAdjustmentGreen | 0 |
LuminanceAdjustmentMagenta | 0 |
LuminanceAdjustmentOrange | 0 |
LuminanceAdjustmentPurple | 0 |
LuminanceAdjustmentRed | 0 |
LuminanceAdjustmentYellow | 0 |
LuminanceSmoothing | 0 |
Make | NIKON CORPORATION |
Marked | True |
MaxApertureValue | 6.3 |
Megapixels | 18.0 |
MeteringMode | Spot |
Model | NIKON D7200 |
ModifyDate (1) | 2022:10:22 02:20:59+01:00 |
ModifyDate | 2022:10:22 02:20:59 |
Orientation | Horizontal (normal) |
OverrideLookVignette | False |
ParametricDarks | 0 |
ParametricHighlights | 0 |
ParametricHighlightSplit | 75 |
ParametricLights | 0 |
ParametricMidtoneSplit | 50 |
ParametricShadows | 0 |
ParametricShadowSplit | 25 |
PerspectiveAspect | 0 |
PerspectiveHorizontal | 0 |
PerspectiveRotate | 0.0 |
PerspectiveScale | 100 |
PerspectiveUpright | 0 |
PerspectiveVertical | 0 |
PerspectiveX | 0.00 |
PerspectiveY | 0.00 |
PhotometricInterpretation | RGB |
PlanarConfiguration | Chunky |
PostCropVignetteAmount | 0 |
PreservedFileName | 211022_215.dng |
ProcessVersion | 11.0 |
ProfileDescription | Adobe98 |
RawFileName | Kongsberg-14.dng |
RedHue | 0 |
RedSaturation | 0 |
Rights | Jan Erik Engan |
RowsPerStrip (1) | 1733 |
RowsPerStrip (2) | 867 |
RowsPerStrip (3) | 434 |
RowsPerStrip | 3465 |
SamplesPerPixel | 3 |
Saturation (2) | 0 |
Saturation | Normal |
SaturationAdjustmentAqua | 0 |
SaturationAdjustmentBlue | 0 |
SaturationAdjustmentGreen | 0 |
SaturationAdjustmentMagenta | 0 |
SaturationAdjustmentOrange | 0 |
SaturationAdjustmentPurple | 0 |
SaturationAdjustmentRed | 0 |
SaturationAdjustmentYellow | 0 |
ScaleFactor35efl | 1.5 |
SceneCaptureType | Standard |
SceneType | Directly photographed |
SensingMethod | One-chip color area |
SensitivityType (1) | 2 |
SensitivityType | Recommended Exposure Index |
SerialNumber | 4404319 |
Shadows2012 | +6 |
ShadowTint | 0 |
SharpenDetail | 25 |
SharpenEdgeMasking | 0 |
SharpenRadius | +1.0 |
Sharpness (2) | 40 |
Sharpness | Normal |
ShutterSpeed | 1/2500 |
ShutterSpeedValue | 1/2500 |
Software | Adobe Photoshop 24.0 (Windows) |
SplitToningBalance | 0 |
SplitToningHighlightHue | 0 |
SplitToningHighlightSaturation | 0 |
SplitToningShadowHue | 0 |
SplitToningShadowSaturation | 0 |
StripByteCounts (1) | 108045630 |
StripByteCounts (2) | 13512201 |
StripByteCounts (3) | 3381300 |
StripByteCounts | 846300 |
StripOffsets (1) | 41880 |
StripOffsets (2) | 108088432 |
StripOffsets (3) | 121600842 |
StripOffsets | 124982350 |
SubfileType (1) | Full-resolution Image |
SubfileType | Reduced-resolution image |
Subject | Kongsberg |
SubjectDistanceRange | Unknown |
Texture | 0 |
This work is licensed under the Creative Commons Attribution-Share Alike 3.0 United States License. To view a copy of this license, visit http://creativecommons.org/licenses/by-sa/3.0/us/ or send a letter to Creative Commons, 171 Second Street, Suite 300, San Francisco, California, 94105, USA. |
Tint | +3 |
ToneCurveName2012 | Linear |
ToneCurvePV2012 | 0, 0, 255, 255 |
ToneCurvePV2012Blue | 0, 0, 255, 255 |
ToneCurvePV2012Green | 0, 0, 255, 255 |
ToneCurvePV2012Red | 0, 0, 255, 255 |
URL_List | |
UsageTerms | janeenga@gmail.com +4740627971 SMS |
Version | 15.0 |
Vibrance | 0 |
VignetteAmount | 0 |
VignetteCorrectionAlreadyApplied | True |
WeightedFlatSubject | Kongsberg |
WhiteBalance (1) | Manual |
WhiteBalance | As Shot |
Whites2012 | -21 |