Felt | Verdi |
2023-01-12T00:20:05+01:00 File 2023_Emotions.psd saved
2023-01-12T00:23:54+01:00 File 2023_Emotions.psd saved
2023-01-12T00:27:35+01:00 File 2023_Emotions.psd saved
2023-01-12T00:38:47+01:00 File 2023_Emotions-4906.tif opened
2023-01-12T00:44:22+01:00 File 2023_Emotions-4906-4907.psd saved
2023-01-12T00:54:38+01:00 File 2023_Emotions-4906-4907-4908.tif opened
2023-01-12T01:00:09+01:00 File 2023_Emotions-4906-4907-4908-4909.psd saved
AlreadyApplied | True |
AutoLateralCA | 0 |
BitsPerSample | 8 |
Blacks2012 | -15 |
BlueHue | 0 |
BlueSaturation | 0 |
CameraProfile | Embedded |
Clarity2012 | -10 |
ColorComponents | 3 |
ColorGradeBlending | 50 |
ColorGradeGlobalHue | 0 |
ColorGradeGlobalLum | 0 |
ColorGradeGlobalSat | 0 |
ColorGradeHighlightLum | -29 |
ColorGradeMidtoneHue | 38 |
ColorGradeMidtoneLum | +12 |
ColorGradeMidtoneSat | 7 |
ColorGradeShadowLum | -16 |
ColorNoiseReduction | 25 |
ColorNoiseReductionDetail | 50 |
ColorNoiseReductionSmoothness | 50 |
ColorSpace | Uncalibrated |
ColorTransform | YCbCr |
Contrast2012 | +5 |
ConvertToGrayscale | False |
CreateDate (1) | 2022:12:31 13:23:33+01:00 |
CreateDate | 2022:12:31 13:23:33 |
CreatorTool | Adobe Photoshop Lightroom Classic 12.1 (Macintosh) |
CropAngle | 0 |
CropBottom | 1 |
CropConstrainToWarp | 0 |
CropLeft | 0 |
CropRight | 1 |
CropTop | 0 |
DefringeGreenAmount | 0 |
DefringeGreenHueHi | 60 |
DefringeGreenHueLo | 40 |
DefringePurpleAmount | 0 |
DefringePurpleHueHi | 70 |
DefringePurpleHueLo | 30 |
Dehaze | 0 |
Exposure2012 | +0.39 |
Format | image/jpeg |
GrainAmount | 0 |
GreenHue | 0 |
GreenSaturation | 0 |
HasCrop | False |
HasSettings | True |
Highlights2012 | -40 |
HueAdjustmentAqua | -2 |
HueAdjustmentBlue | -3 |
HueAdjustmentGreen | -2 |
HueAdjustmentMagenta | -22 |
HueAdjustmentOrange | +4 |
HueAdjustmentPurple | -19 |
HueAdjustmentRed | +10 |
HueAdjustmentYellow | +9 |
ImageHeight | 2048 |
ImageSize | 1792x2048 |
ImageWidth | 1792 |
IncrementalTemperature | 0 |
IncrementalTint | 0 |
LensManualDistortionAmount | 0 |
LensProfileEnable | 0 |
LuminanceAdjustmentAqua | +6 |
LuminanceAdjustmentBlue | +10 |
LuminanceAdjustmentGreen | +9 |
LuminanceAdjustmentMagenta | +11 |
LuminanceAdjustmentOrange | -15 |
LuminanceAdjustmentPurple | +14 |
LuminanceAdjustmentRed | -14 |
LuminanceAdjustmentYellow | -4 |
LuminanceSmoothing | 0 |
Megapixels | 3.7 |
ModifyDate (1) | 2023:01:12 01:03:03+01:00 |
ModifyDate | 2023:01:12 01:03:03 |
OverrideLookVignette | False |
ParametricDarks | 0 |
ParametricHighlights | 0 |
ParametricHighlightSplit | 75 |
ParametricLights | 0 |
ParametricMidtoneSplit | 50 |
ParametricShadows | 0 |
ParametricShadowSplit | 25 |
PerspectiveAspect | 0 |
PerspectiveHorizontal | 0 |
PerspectiveRotate | 0.0 |
PerspectiveScale | 100 |
PerspectiveUpright | 0 |
PerspectiveVertical | 0 |
PerspectiveX | 0.00 |
PerspectiveY | 0.00 |
PostCropVignetteAmount | 0 |
PreservedFileName | Skjermbilde 2022-12-31 kl. 13.23.28.png |
ProcessVersion | 11.0 |
ProfileDescription | Display P3 |
Rating | 5 |
RawFileName | 2023_Emotions-4906-4907-4908-4909.psd |
RedHue | 0 |
RedSaturation | 0 |
Saturation | +4 |
SaturationAdjustmentAqua | -26 |
SaturationAdjustmentBlue | -30 |
SaturationAdjustmentGreen | -27 |
SaturationAdjustmentMagenta | -44 |
SaturationAdjustmentOrange | -15 |
SaturationAdjustmentPurple | -36 |
SaturationAdjustmentRed | -20 |
SaturationAdjustmentYellow | -20 |
Shadows2012 | +23 |
ShadowTint | 0 |
SharpenDetail | 35 |
SharpenEdgeMasking | 0 |
SharpenRadius | +0.5 |
Sharpness | 33 |
Software | Adobe Photoshop Lightroom Classic 12.1 (Macintosh) |
SplitToningBalance | +44 |
SplitToningHighlightHue | 0 |
SplitToningHighlightSaturation | 0 |
SplitToningShadowHue | 210 |
SplitToningShadowSaturation | 40 |
Texture | 0 |
ToneCurveName2012 | Custom |
ToneCurvePV2012 | 0, 9, 18, 26, 54, 56, 105, 107, 146, 150, 255, 255 |
ToneCurvePV2012Blue | 0, 0, 255, 255 |
ToneCurvePV2012Green | 0, 0, 255, 255 |
ToneCurvePV2012Red | 0, 0, 255, 255 |
UserComment | Screenshot |
Version | 15.1 |
Vibrance | +20 |
VignetteAmount | 0 |
Virtualpaths | |
WhiteBalance | As Shot |
Whites2012 | +32 |