Felt | Verdi |
AlreadyApplied | True |
Aperture | 1.8 |
ApertureValue | 1.8 |
AutoLateralCA | 0 |
BitsPerSample | 8 |
Blacks2012 | +10 |
BlueHue | 0 |
BlueSaturation | 0 |
BrightnessValue | 5.63046875 |
CameraProfile | Embedded |
Clarity2012 | +33 |
ColorComponents | 3 |
ColorGradeBlending | 100 |
ColorGradeGlobalHue | 0 |
ColorGradeGlobalLum | 0 |
ColorGradeGlobalSat | 0 |
ColorGradeHighlightLum | 0 |
ColorGradeMidtoneHue | 0 |
ColorGradeMidtoneLum | 0 |
ColorGradeMidtoneSat | 0 |
ColorGradeShadowLum | 0 |
ColorNoiseReduction | 0 |
ColorSpace | sRGB |
ColorTransform | YCbCr |
Contrast2012 | 0 |
ConvertToGrayscale | False |
Copyright | bjorn |
CopyrightNotice | bjorn |
CreateDate (1) | 2020:04:24 20:14:49+02:00 |
CreateDate | 2020:04:24 20:14:49 |
CreatorTool | Adobe Photoshop Mix 2.8.1 |
CropAngle | 0 |
CropBottom | 0.639824 |
CropConstrainToWarp | 0 |
CropLeft | 0.362189 |
CropRight | 0.639478 |
CropTop | 0.366521 |
CurveRefineSaturation | 100 |
DateCreated (1) | 2020:04:24 20:14:49 |
DateCreated | 2020:04:24 |
DateTimeOriginal | 2020:04:24 20:14:49 |
DefringeGreenAmount | 0 |
DefringeGreenHueHi | 60 |
DefringeGreenHueLo | 40 |
DefringePurpleAmount | 0 |
DefringePurpleHueHi | 70 |
DefringePurpleHueLo | 30 |
Dehaze | 0 |
Exposure2012 | -1.48 |
ExposureMode | Auto |
ExposureTime | 1/1250 |
Flash | Off, Did not fire |
FlashCompensation | 0 |
FNumber | 1.8 |
Format | image/jpeg |
GrainAmount | 0 |
GreenHue | 0 |
GreenSaturation | 0 |
HasCrop | True |
HasSettings | True |
HDREditMode | 0 |
Highlights2012 | -14 |
HueAdjustmentAqua | 0 |
HueAdjustmentBlue | 0 |
HueAdjustmentGreen | 0 |
HueAdjustmentMagenta | 0 |
HueAdjustmentOrange | 0 |
HueAdjustmentPurple | 0 |
HueAdjustmentRed | 0 |
HueAdjustmentYellow | 0 |
ImageHeight | 1578 |
ImageSize | 1070x1578 |
ImageWidth | 1070 |
IncrementalTemperature | -2 |
IncrementalTint | -38 |
ISO | 500 |
Lens | Sony FE 85mm F1.8 |
LensID (1) | 65535 |
LensID | Sony FE 85mm F1.8 or Viltrox PFU RBMH 85mm F1.8 or Zeiss Batis 85mm F1.8 |
LensInfo (1) | 85 85 9/5 9/5 |
LensInfo | 85mm f/1.8 |
LensManualDistortionAmount | 0 |
LensModel | Sony FE 85mm F1.8 |
LensProfileEnable | 0 |
LightValue | 9.7 |
LuminanceAdjustmentAqua | 0 |
LuminanceAdjustmentBlue | 0 |
LuminanceAdjustmentGreen | 0 |
LuminanceAdjustmentMagenta | 0 |
LuminanceAdjustmentOrange | 0 |
LuminanceAdjustmentPurple | 0 |
LuminanceAdjustmentRed | 0 |
LuminanceAdjustmentYellow | 0 |
LuminanceSmoothing | 0 |
Make | SONY |
Megapixels | 1.7 |
Model | ILCE-9 |
ModifyDate (1) | 2024:01:07 11:10:34+01:00 |
ModifyDate | 2024:01:07 11:10:34 |
OverrideLookVignette | False |
ParametricDarks | +13 |
ParametricHighlights | 0 |
ParametricHighlightSplit | 75 |
ParametricLights | 0 |
ParametricMidtoneSplit | 50 |
ParametricShadows | 0 |
ParametricShadowSplit | 25 |
PerspectiveAspect | 0 |
PerspectiveHorizontal | 0 |
PerspectiveRotate | 0.0 |
PerspectiveScale | 100 |
PerspectiveUpright | 0 |
PerspectiveVertical | 0 |
PerspectiveX | 0.00 |
PerspectiveY | 0.00 |
PointColors | -1.000000, -1.000000, -1.000000, -1.000000, -1.000000, -1.000000, -1.000000, -1.000000, -1.000000, -1.000000, -1.000000, -1.000000, -1.000000, -1.000000, -1.000000, -1.000000, -1.000000, -1.000000, -1.000000 |
PostCropVignetteAmount | 0 |
ProcessVersion | 15.4 |
ProfileDescription | sRGB IEC61966-2.1 |
RedHue | 0 |
RedSaturation | 0 |
Rights | bjorn |
Rights-en-US | bjorn |
Saturation | 0 |
SaturationAdjustmentAqua | 0 |
SaturationAdjustmentBlue | 0 |
SaturationAdjustmentGreen | 0 |
SaturationAdjustmentMagenta | 0 |
SaturationAdjustmentOrange | +40 |
SaturationAdjustmentPurple | 0 |
SaturationAdjustmentRed | 0 |
SaturationAdjustmentYellow | +40 |
SceneCaptureType | Standard |
Shadows2012 | +5 |
ShadowTint | 0 |
SharpenDetail | 25 |
SharpenEdgeMasking | 0 |
SharpenRadius | +1.0 |
Sharpness | 23 |
ShutterSpeed | 1/1250 |
ShutterSpeedValue | 1/1250 |
Software | Adobe Photoshop Mix 2.8.1 |
SplitToningBalance | 0 |
SplitToningHighlightHue | 32 |
SplitToningHighlightSaturation | 14 |
SplitToningShadowHue | 281 |
SplitToningShadowSaturation | 14 |
Texture | +21 |
ToneCurveName2012 | Custom |
ToneCurvePV2012 | 0, 43, 74, 91, 203, 214, 255, 246 |
ToneCurvePV2012Blue | 0, 0, 255, 255 |
ToneCurvePV2012Green | 0, 0, 255, 255 |
ToneCurvePV2012Red | 0, 0, 255, 255 |
Version | 16.1 |
Vibrance | +10 |
VignetteAmount | 0 |
WhiteBalance (1) | Custom |
WhiteBalance | Auto |
Whites2012 | -14 |