Felt | Verdi |
AlreadyApplied | True |
Aperture | 1.5 |
ApertureValue | 1.5 |
AutoLateralCA | 0 |
BitsPerSample | 8 |
Blacks2012 | -5 |
BlueHue | 0 |
BlueSaturation | 0 |
BrightnessValue | 3.390826477 |
CameraProfile | Embedded |
CircleOfConfusion | 0.007 mm |
Clarity2012 | +51 |
ColorComponents | 3 |
ColorGradeBlending | 50 |
ColorGradeGlobalHue | 0 |
ColorGradeGlobalLum | 0 |
ColorGradeGlobalSat | 0 |
ColorGradeHighlightLum | 0 |
ColorGradeMidtoneHue | 0 |
ColorGradeMidtoneLum | 0 |
ColorGradeMidtoneSat | 0 |
ColorGradeShadowLum | 0 |
ColorNoiseReduction | 0 |
ColorSpace | sRGB |
ColorTransform | YCbCr |
Contrast2012 | +76 |
CreateDate (1) | 2024:01:12 08:52:34.389+01:00 |
CreateDate | 2024:01:12 08:52:34 |
CreatorTool | 17.2.1 |
CropAngle | -0.37059 |
CropBottom | 0.99145 |
CropConstrainToWarp | 0 |
CropLeft | 0.00187 |
CropRight | 0.99813 |
CropTop | 0.00855 |
DateCreated (1) | 2024:01:12 08:52:34.389+01:00 |
DateCreated | 2024:01:12 |
DateTimeOriginal | 2024:01:12 08:52:34 |
DefringeGreenAmount | 0 |
DefringeGreenHueHi | 60 |
DefringeGreenHueLo | 40 |
DefringePurpleAmount | 0 |
DefringePurpleHueHi | 70 |
DefringePurpleHueLo | 30 |
Dehaze | +28 |
Exposure2012 | -0.76 |
ExposureCompensation | -1.25 |
ExposureMode | Auto |
ExposureProgram | Program AE |
ExposureTime | 1/100 |
Flash | Off, Did not fire |
FNumber | 1.5 |
FocalLength | 5.7 mm |
FocalLength35efl | 5.7 mm (35 mm equivalent: 26.0 mm) |
FocalLengthIn35mmFormat | 26 mm |
Format | image/jpeg |
FOV | 69.4 deg |
GrainAmount | 11 |
GrainFrequency | 50 |
GrainSize | 25 |
GreenHue | 0 |
GreenSaturation | 0 |
HasCrop | True |
HasSettings | True |
HDREditMode | 0 |
Highlights2012 | -27 |
HueAdjustmentAqua | 0 |
HueAdjustmentBlue | 0 |
HueAdjustmentGreen | 0 |
HueAdjustmentMagenta | 0 |
HueAdjustmentOrange | 0 |
HueAdjustmentPurple | 0 |
HueAdjustmentRed | 0 |
HueAdjustmentYellow | 0 |
HyperfocalDistance | 3.29 m |
ImageHeight | 2999 |
ImageSize | 3998x2999 |
ImageWidth | 3998 |
IncrementalTemperature | +22 |
IncrementalTint | -11 |
ISO | 64 |
Lens | iPhone 13 Pro back triple camera 5.7mm f/1.5 |
LensInfo (1) | 1.57000005246397-9mm f/1.5-2.8 |
LensInfo | 1.570000052-9mm f/1.5-2.8 |
LensMake | Apple |
LensManualDistortionAmount | 0 |
LensModel | iPhone 13 Pro back triple camera 5.7mm f/1.5 |
LensProfileEnable | 0 |
LightValue | 8.5 |
LookAmount | 1 |
LookCluster | Adobe |
LookCopyright | © 2018 Adobe Systems, Inc. |
LookGroup | Vintage |
LookName | Vintage 01 |
LookParametersConvertToGrayscale | False |
LookParametersLookTable | E1095149FDB39D7A057BAB208837E2E1 |
LookParametersProcessVersion | 15.4 |
LookParametersRGBTable | D133EC539BB44CE73B8890C50B8D9F9E |
LookParametersRGBTableAmount | 0.5 |
LookParametersVersion | 16.1 |
LookSupportsMonochrome | false |
LuminanceAdjustmentAqua | 0 |
LuminanceAdjustmentBlue | 0 |
LuminanceAdjustmentGreen | 0 |
LuminanceAdjustmentMagenta | 0 |
LuminanceAdjustmentOrange | 0 |
LuminanceAdjustmentPurple | 0 |
LuminanceAdjustmentRed | 0 |
LuminanceAdjustmentYellow | 0 |
LuminanceSmoothing | 0 |
Make | Apple |
Megapixels | 12.0 |
MeteringMode | Spot |
Model | iPhone 13 Pro |
ModifyDate (1) | 2024:01:12 22:46:14+01:00 |
ModifyDate | 2024:01:12 22:46:14 |
OverrideLookVignette | False |
ParametricDarks | 0 |
ParametricHighlights | 0 |
ParametricHighlightSplit | 75 |
ParametricLights | 0 |
ParametricMidtoneSplit | 50 |
ParametricShadows | 0 |
ParametricShadowSplit | 25 |
PerspectiveAspect | 0 |
PerspectiveHorizontal | 0 |
PerspectiveRotate | 0.0 |
PerspectiveScale | 100 |
PerspectiveUpright | 0 |
PerspectiveVertical | 0 |
PerspectiveX | 0.00 |
PerspectiveY | 0.00 |
PointColors | -1.000000, -1.000000, -1.000000, -1.000000, -1.000000, -1.000000, -1.000000, -1.000000, -1.000000, -1.000000, -1.000000, -1.000000, -1.000000, -1.000000, -1.000000, -1.000000, -1.000000, -1.000000, -1.000000 |
PostCropVignetteAmount | -22 |
PostCropVignetteFeather | 71 |
PostCropVignetteHighlightContrast | 74 |
PostCropVignetteMidpoint | 67 |
PostCropVignetteRoundness | +26 |
PostCropVignetteStyle | 1 |
ProcessVersion | 15.4 |
ProfileDescription | sRGB IEC61966-2.1 |
RedHue | 0 |
RedSaturation | 0 |
Saturation | +32 |
SaturationAdjustmentAqua | 0 |
SaturationAdjustmentBlue | 0 |
SaturationAdjustmentGreen | 0 |
SaturationAdjustmentMagenta | 0 |
SaturationAdjustmentOrange | 0 |
SaturationAdjustmentPurple | 0 |
SaturationAdjustmentRed | 0 |
SaturationAdjustmentYellow | 0 |
ScaleFactor35efl | 4.6 |
SceneCaptureType | Standard |
SceneType | Directly photographed |
SensingMethod | One-chip color area |
Shadows2012 | +82 |
ShadowTint | 0 |
SharpenDetail | 51 |
SharpenEdgeMasking | 26 |
SharpenRadius | +1.4 |
Sharpness | 92 |
ShutterSpeed | 1/100 |
ShutterSpeedValue | 1/100 |
Software | 17.2.1 |
SplitToningBalance | 0 |
SplitToningHighlightHue | 0 |
SplitToningHighlightSaturation | 0 |
SplitToningShadowHue | 0 |
SplitToningShadowSaturation | 0 |
SubjectArea | 2177 1851 747 752 |
Texture | -16 |
ToneCurveName2012 | Custom |
ToneCurvePV2012 | 0, 0, 255, 255 |
ToneCurvePV2012Blue | 0, 0, 255, 255 |
ToneCurvePV2012Green | 0, 0, 116, 116, 255, 255 |
ToneCurvePV2012Red | 0, 0, 255, 255 |
Version | 16.1 |
Vibrance | +55 |
VignetteAmount | 0 |
WhiteBalance (1) | Custom |
WhiteBalance | Auto |
Whites2012 | -14 |