Felt | Verdi |
AlreadyApplied | True |
Aperture | 6.3 |
ApertureValue | 6.3 |
AutoLateralCA | 0 |
BitsPerSample | 8 |
Blacks2012 | -18 |
BlueHue | 0 |
BlueSaturation | 0 |
BrightnessValue | -6.225 |
CameraProfile | Adobe Standard |
CircleOfConfusion | 0.030 mm |
Clarity2012 | +26 |
ColorComponents | 3 |
ColorGradeBlending | 84 |
ColorGradeGlobalHue | 0 |
ColorGradeGlobalLum | 0 |
ColorGradeGlobalSat | 0 |
ColorGradeHighlightLum | -20 |
ColorGradeMidtoneHue | 173 |
ColorGradeMidtoneLum | +2 |
ColorGradeMidtoneSat | 4 |
ColorGradeShadowLum | -25 |
ColorNoiseReduction | 0 |
ColorSpace | sRGB |
ColorTemperature | 2558 |
ColorTransform | YCbCr |
CompatibleVersion | 251920384 |
Contrast | Normal |
Contrast2012 | +8 |
CreateDate (1) | 2024:01:28 20:44:04+02:00 |
CreateDate | 2024:01:28 20:44:04 |
CreatorTool | Adobe Photoshop Express (Android) |
CropAngle | 1.26 |
CropBottom | 0.805865 |
CropConstrainToWarp | 0 |
CropLeft | 0.315131 |
CropRight | 0.782852 |
CropTop | 0.285332 |
CurveRefineSaturation | 100 |
CustomRendered | Normal |
DateCreated (1) | 2024:01:28 |
DateCreated | 2024:01:28 20:44:04+02:00 |
DateTimeOriginal | 2024:01:28 20:44:04 |
DefringeGreenAmount | 0 |
DefringeGreenHueHi | 60 |
DefringeGreenHueLo | 40 |
DefringePurpleAmount | 0 |
DefringePurpleHueHi | 70 |
DefringePurpleHueLo | 30 |
Dehaze | +23 |
DigitalZoomRatio | 1 |
EnhanceDenoiseAlreadyApplied | True |
EnhanceDenoiseLumaAmount | 80 |
EnhanceDenoiseVersion | 251658240 |
EnhanceDetailsAlreadyApplied | True |
EnhanceDetailsVersion | 218300416 |
Exposure2012 | +0.65 |
ExposureCompensation | 0 |
ExposureMode | Manual |
ExposureProgram | Manual |
ExposureTime | 5 |
Flash | Off, Did not fire |
FNumber | 6.3 |
FocalLength | 192.9 mm |
FocalLength35efl | 192.9 mm (35 mm equivalent: 192.0 mm) |
FocalLengthIn35mmFormat | 192 mm |
Format | image/jpeg |
FOV | 10.7 deg |
GrainAmount | 5 |
GrainFrequency | 35 |
GrainSize | 15 |
GreenHue | 0 |
GreenSaturation | 0 |
HasCrop | True |
HasSettings | True |
HDREditMode | 0 |
Highlights2012 | -100 |
HueAdjustmentAqua | +3 |
HueAdjustmentBlue | -5 |
HueAdjustmentGreen | +8 |
HueAdjustmentMagenta | -3 |
HueAdjustmentOrange | -3 |
HueAdjustmentPurple | -5 |
HueAdjustmentRed | -8 |
HueAdjustmentYellow | -7 |
HyperfocalDistance | 195.66 m |
ImageHeight | 2678 |
ImageSize | 3779x2678 |
ImageWidth | 3779 |
ISO | 800 |
Lens | 150-600mm F5-6.3 DG DN OS | Sports 021 |
LensDistortInfo | 1052216445/1073741824 19193140/1073741824 3377793/1073741824 -1064958/1073741824 |
LensInfo | 150-600mm f/5-6.3 |
LensManualDistortionAmount | 0 |
LensModel | 150-600mm F5-6.3 DG DN OS | Sports 021 |
LensProfileEnable | 0 |
LightSource | Unknown |
LightValue | -0.0 |
LookAmount | 1 |
LookGroup | Profiles |
LookName | Adobe Vivid |
LookParametersCameraProfile | Adobe Standard |
LookParametersClarity2012 | +10 |
LookParametersConvertToGrayscale | False |
LookParametersLookTable | 2FE663AB0D3CE5DA7B9F657BBCD66DFE |
LookParametersProcessVersion | 15.4 |
LookParametersToneCurvePV2012 | 0, 0, 32, 22, 64, 56, 128, 128, 224, 232, 240, 246, 255, 255 |
LookParametersVersion | 16.0 |
LookSupportsAmount | false |
LookSupportsMonochrome | false |
LookSupportsOutputReferred | false |
LuminanceAdjustmentAqua | +13 |
LuminanceAdjustmentBlue | +35 |
LuminanceAdjustmentGreen | +15 |
LuminanceAdjustmentMagenta | +16 |
LuminanceAdjustmentOrange | +14 |
LuminanceAdjustmentPurple | +19 |
LuminanceAdjustmentRed | +10 |
LuminanceAdjustmentYellow | -6 |
LuminanceSmoothing | 0 |
Make | SONY |
MaxApertureValue | 5.6 |
Megapixels | 10.1 |
MeteringMode | Multi-segment |
Model | ILCE-7RM3 |
ModifyDate (1) | 2024:01:29 00:09:36+01:00 |
ModifyDate | 2024:01:29 00:09:36 |
OverrideLookVignette | False |
ParametricDarks | 0 |
ParametricHighlights | 0 |
ParametricHighlightSplit | 75 |
ParametricLights | 0 |
ParametricMidtoneSplit | 50 |
ParametricShadows | 0 |
ParametricShadowSplit | 25 |
PerspectiveAspect | 0 |
PerspectiveHorizontal | 0 |
PerspectiveRotate | 0.0 |
PerspectiveScale | 100 |
PerspectiveUpright | 0 |
PerspectiveVertical | 0 |
PerspectiveX | 0.00 |
PerspectiveY | 0.00 |
PostCropVignetteAmount | 0 |
PreservedFileName | DSC07643.ARW |
ProcessVersion | 15.4 |
ProfileDescription | sRGB IEC61966-2.1 |
RawFileName | DSC07643-Forbedret-NR.dng |
RecommendedExposureIndex | 800 |
RedHue | 0 |
RedSaturation | 0 |
Saturation (1) | 0 |
Saturation | Normal |
SaturationAdjustmentAqua | -14 |
SaturationAdjustmentBlue | -37 |
SaturationAdjustmentGreen | -50 |
SaturationAdjustmentMagenta | -9 |
SaturationAdjustmentOrange | +2 |
SaturationAdjustmentPurple | -9 |
SaturationAdjustmentRed | -10 |
SaturationAdjustmentYellow | -10 |
ScaleFactor35efl | 1.0 |
SceneCaptureType | Standard |
SceneType | Directly photographed |
SensitivityType | Recommended Exposure Index |
Shadows2012 | +73 |
ShadowTint | 0 |
SharpenDetail | 25 |
SharpenEdgeMasking | 0 |
SharpenRadius | +1.0 |
Sharpness (1) | 40 |
Sharpness | Normal |
ShutterSpeed | 5 |
ShutterSpeedValue | 5 |
Software | Adobe Photoshop Express (Android) |
SplitToningBalance | -20 |
SplitToningHighlightHue | 13 |
SplitToningHighlightSaturation | 2 |
SplitToningShadowHue | 235 |
SplitToningShadowSaturation | 13 |
Texture | +9 |
Tint | +9 |
ToneCurveName2012 | Custom |
ToneCurvePV2012 | 0, 6, 43, 54, 81, 98, 115, 134, 150, 168, 190, 197, 255, 249 |
ToneCurvePV2012Blue | 0, 0, 132, 137, 255, 255 |
ToneCurvePV2012Green | 0, 0, 255, 255 |
ToneCurvePV2012Red | 0, 0, 135, 135, 255, 255 |
Version | 16.0 |
Vibrance | +28 |
VignetteAmount | 0 |
WhiteBalance (1) | Custom |
WhiteBalance | Auto |
Whites2012 | +40 |