Felt | Verdi |
AlreadyApplied | True |
Aperture | 4.0 |
ApertureValue | 4.0 |
AutoLateralCA | 1 |
BitsPerSample | 8 |
Blacks2012 | +29 |
BlueHue | 0 |
BlueSaturation | 0 |
BrightnessValue | -2.9984375 |
CameraProfile | Adobe Standard |
CircleOfConfusion | 0.030 mm |
Clarity2012 | +6 |
ColorComponents | 3 |
ColorGradeBlending | 100 |
ColorGradeGlobalHue | 0 |
ColorGradeGlobalLum | 0 |
ColorGradeGlobalSat | 0 |
ColorGradeHighlightLum | 0 |
ColorGradeMidtoneHue | 0 |
ColorGradeMidtoneLum | 0 |
ColorGradeMidtoneSat | 0 |
ColorGradeShadowLum | 0 |
ColorNoiseReduction | 35 |
ColorNoiseReductionDetail | 50 |
ColorNoiseReductionSmoothness | 50 |
ColorSpace | sRGB |
ColorTemperature | 2722 |
ColorTransform | YCbCr |
CompatibleVersion | 251920384 |
Contrast | Normal |
Contrast2012 | +53 |
CreateDate (1) | 2024:02:22 19:49:51+02:00 |
CreateDate | 2024:02:22 19:49:51 |
CreatorTool | Adobe Photoshop Lightroom Classic 13.1 (Macintosh) |
CropAngle | 0 |
CropBottom | 0.859343 |
CropConstrainToWarp | 0 |
CropLeft | 0.214934 |
CropRight | 0.550813 |
CropTop | 0.307974 |
CurveRefineSaturation | 100 |
CustomRendered | Normal |
DateCreated (1) | 2024:02:22 |
DateCreated | 2024:02:22 19:49:51+02:00 |
DateTimeOriginal | 2024:02:22 19:49:51 |
DefringeGreenAmount | 0 |
DefringeGreenHueHi | 60 |
DefringeGreenHueLo | 40 |
DefringePurpleAmount | 0 |
DefringePurpleHueHi | 70 |
DefringePurpleHueLo | 30 |
Dehaze | -17 |
DigitalZoomRatio | 1 |
DistortionCorrectionAlreadyApplied | True |
EnhanceDenoiseAlreadyApplied | True |
EnhanceDenoiseLumaAmount | 80 |
EnhanceDenoiseVersion | 251658240 |
EnhanceDetailsAlreadyApplied | True |
EnhanceDetailsVersion | 218300416 |
Exposure2012 | +1.30 |
ExposureCompensation | 0 |
ExposureMode | Manual |
ExposureProgram | Manual |
ExposureTime | 1/60 |
Flash | Off, Did not fire |
FNumber | 4.0 |
FocalLength | 34.0 mm |
FocalLength35efl | 34.0 mm (35 mm equivalent: 34.0 mm) |
FocalLengthIn35mmFormat | 34 mm |
Format | image/jpeg |
FOV | 55.8 deg |
GrainAmount | 0 |
GreenHue | 0 |
GreenSaturation | 0 |
HasCrop | True |
HasSettings | True |
HDREditMode | 0 |
Highlights2012 | -39 |
HueAdjustmentAqua | 0 |
HueAdjustmentBlue | -7 |
HueAdjustmentGreen | +2 |
HueAdjustmentMagenta | 0 |
HueAdjustmentOrange | -17 |
HueAdjustmentPurple | 0 |
HueAdjustmentRed | -7 |
HueAdjustmentYellow | +7 |
HyperfocalDistance | 9.62 m |
ImageHeight | 2924 |
ImageSize | 2670x2924 |
ImageWidth | 2670 |
ISO | 3200 |
LateralChromaticAberrationCorrectionAlreadyApplied | True |
Lens | FE 24-70mm F4 ZA OSS |
LensDistortInfo | 1050027251/1073741824 4171191/1073741824 6761749/1073741824 12771927/1073741824 |
LensInfo | 24-70mm f/4 |
LensManualDistortionAmount | 0 |
LensModel | FE 24-70mm F4 ZA OSS |
LensProfileDistortionScale | 100 |
LensProfileEnable | 1 |
LensProfileFilename | SONY (Sony FE 24-70mm F4 ZA OSS) - RAW.lcp |
LensProfileIsEmbedded | False |
LensProfileName | Adobe (Sony FE 24-70mm F4 ZA OSS) |
LensProfileSetup | LensDefaults |
LensProfileVignettingScale | 100 |
LightSource | Unknown |
LightValue | 4.9 |
LookAmount | 1 |
LookGroup | Profiles |
LookName | Adobe Color |
LookParametersCameraProfile | Adobe Standard |
LookParametersConvertToGrayscale | False |
LookParametersLookTable | E1095149FDB39D7A057BAB208837E2E1 |
LookParametersProcessVersion | 15.4 |
LookParametersToneCurvePV2012 | 0, 0, 22, 16, 40, 35, 127, 127, 224, 230, 240, 246, 255, 255 |
LookParametersToneCurvePV2012Blue | 0, 0, 255, 255 |
LookParametersToneCurvePV2012Green | 0, 0, 255, 255 |
LookParametersToneCurvePV2012Red | 0, 0, 255, 255 |
LookParametersVersion | 16.1 |
LookSupportsAmount | false |
LookSupportsMonochrome | false |
LookSupportsOutputReferred | false |
LuminanceAdjustmentAqua | +14 |
LuminanceAdjustmentBlue | +18 |
LuminanceAdjustmentGreen | +22 |
LuminanceAdjustmentMagenta | 0 |
LuminanceAdjustmentOrange | -7 |
LuminanceAdjustmentPurple | 0 |
LuminanceAdjustmentRed | -11 |
LuminanceAdjustmentYellow | -10 |
LuminanceNoiseReductionContrast | 20 |
LuminanceNoiseReductionDetail | 50 |
LuminanceSmoothing | 35 |
Make | SONY |
MaxApertureValue | 4.0 |
Megapixels | 7.8 |
MeteringMode | Multi-segment |
Model | ILCE-7RM3 |
ModifyDate (1) | 2024:02:22 22:03:17+01:00 |
ModifyDate | 2024:02:22 22:03:17 |
OverrideLookVignette | False |
ParametricDarks | 0 |
ParametricHighlights | 0 |
ParametricHighlightSplit | 75 |
ParametricLights | 0 |
ParametricMidtoneSplit | 50 |
ParametricShadows | 0 |
ParametricShadowSplit | 25 |
PerspectiveAspect | 0 |
PerspectiveHorizontal | 0 |
PerspectiveRotate | 0.0 |
PerspectiveScale | 100 |
PerspectiveUpright | 1 |
PerspectiveVertical | 0 |
PerspectiveX | 0.00 |
PerspectiveY | 0.00 |
PointColors | -1.000000, -1.000000, -1.000000, -1.000000, -1.000000, -1.000000, -1.000000, -1.000000, -1.000000, -1.000000, -1.000000, -1.000000, -1.000000, -1.000000, -1.000000, -1.000000, -1.000000, -1.000000, -1.000000 |
PostCropVignetteAmount | 0 |
PreservedFileName | DSC08270.ARW |
ProcessVersion | 15.4 |
ProfileDescription | sRGB IEC61966-2.1 |
RawFileName | DSC08270-Forbedret-NR.dng |
RecommendedExposureIndex | 3200 |
RedHue | 0 |
RedSaturation | 0 |
Saturation (1) | +7 |
Saturation | Normal |
SaturationAdjustmentAqua | +7 |
SaturationAdjustmentBlue | +18 |
SaturationAdjustmentGreen | -22 |
SaturationAdjustmentMagenta | -7 |
SaturationAdjustmentOrange | +4 |
SaturationAdjustmentPurple | -7 |
SaturationAdjustmentRed | -6 |
SaturationAdjustmentYellow | -16 |
ScaleFactor35efl | 1.0 |
SceneCaptureType | Standard |
SceneType | Directly photographed |
SensitivityType | Recommended Exposure Index |
Shadows2012 | +96 |
ShadowTint | 0 |
SharpenDetail | 25 |
SharpenEdgeMasking | 0 |
SharpenRadius | +1.0 |
Sharpness (1) | 40 |
Sharpness | Normal |
ShutterSpeed | 1/60 |
ShutterSpeedValue | 1/60 |
Software | Adobe Photoshop Lightroom Classic 13.1 (Macintosh) |
SplitToningBalance | 0 |
SplitToningHighlightHue | 34 |
SplitToningHighlightSaturation | 0 |
SplitToningShadowHue | 52 |
SplitToningShadowSaturation | 14 |
Texture | 0 |
Tint | +19 |
ToneCurveName2012 | Custom |
ToneCurvePV2012 | 0, 0, 49, 56, 177, 167, 255, 223 |
ToneCurvePV2012Blue | 0, 0, 39, 20, 87, 71, 123, 124, 183, 195, 255, 255 |
ToneCurvePV2012Green | 0, 0, 40, 21, 83, 66, 123, 125, 172, 181, 255, 255 |
ToneCurvePV2012Red | 0, 0, 40, 20, 84, 65, 123, 124, 186, 193, 255, 255 |
Version | 16.1 |
Vibrance | -7 |
VignetteAmount | 0 |
VignetteCorrectionAlreadyApplied | True |
WhiteBalance (1) | Custom |
WhiteBalance | Auto |
Whites2012 | -16 |