Felt | Verdi |
AlreadyApplied | True |
Aperture | 2.8 |
ApertureValue | 2.8 |
Artist | GEIR BRAATHEN |
AutoLateralCA | 1 |
BitsPerSample | 8 |
Blacks2012 | 0 |
BlueHue | 0 |
BlueSaturation | 0 |
By-line | GEIR BRAATHEN |
CameraProfile | Camera Portrait |
CameraProfilesApertureValue | 2.970854 |
CameraProfilesAuthor | Adobe |
CameraProfilesAutoScale | False |
CameraProfilesCameraPrettyName | Nikon Z 8 |
CameraProfilesCameraRawProfile | True |
CameraProfilesFocalLength | 200 |
CameraProfilesFocusDistance | 10000 |
CameraProfilesLens | NIKKOR Z 70-200mm f/2.8 VR S |
CameraProfilesLensPrettyName | NIKKOR Z 70-200mm f/2.8 VR S |
CameraProfilesMake | NIKON CORPORATION |
CameraProfilesModel | NIKON Z 8 |
CameraProfilesPerspectiveModelImageXCenter | 0.500895 |
CameraProfilesPerspectiveModelImageYCenter | 0.506415 |
CameraProfilesPerspectiveModelRadialDistortParam1 | 2.430626 |
CameraProfilesPerspectiveModelRadialDistortParam2 | 6.050711 |
CameraProfilesPerspectiveModelRadialDistortParam3 | 31.451825 |
CameraProfilesPerspectiveModelScaleFactor | 0.969037 |
CameraProfilesPerspectiveModelVersion | 2 |
CameraProfilesPerspectiveModelVignetteModelImageXCenter | 0.500895 |
CameraProfilesPerspectiveModelVignetteModelImageYCenter | 0.506415 |
CameraProfilesPerspectiveModelVignetteModelVignetteModelParam1 | 1 |
CameraProfilesProfileName | Camera Settings |
CameraProfilesSensorFormatFactor | 1.003485 |
CameraProfilesUniqueCameraModel | Nikon Z 8 |
CFAPattern | [Red,Green][Green,Blue] |
CircleOfConfusion | 0.030 mm |
City | Mies |
Clarity2012 | 0 |
ColorComponents | 3 |
ColorGradeBlending | 50 |
ColorGradeGlobalHue | 0 |
ColorGradeGlobalLum | 0 |
ColorGradeGlobalSat | 0 |
ColorGradeHighlightLum | 0 |
ColorGradeMidtoneHue | 0 |
ColorGradeMidtoneLum | 0 |
ColorGradeMidtoneSat | 0 |
ColorGradeShadowLum | 0 |
ColorNoiseReduction | 25 |
ColorNoiseReductionDetail | 50 |
ColorNoiseReductionSmoothness | 50 |
ColorSpace | sRGB |
ColorTemperature | 5500 |
ColorTransform | YCbCr |
CompatibleVersion | 251854848 |
Contrast | Normal |
Contrast2012 | 0 |
ConvertToGrayscale | False |
Copyright | GEIR BRAATHEN |
CopyrightNotice | GEIR BRAATHEN |
Country | Switzerland |
Country-PrimaryLocationCode | CH |
Country-PrimaryLocationName | Switzerland |
CountryCode | CH |
CreateDate (1) | 2024:03:24 16:02:25.81+01:00 |
CreateDate | 2024:03:24 16:02:25 |
Creator | GEIR BRAATHEN |
CreatorTool | Adobe Photoshop Lightroom Classic 13.2 (Macintosh) |
CropAngle | 0 |
CropBottom | 0.711199 |
CropConstrainToWarp | 0 |
CropLeft | 0.409704 |
CropRight | 0.621009 |
CropTop | 0.372645 |
CustomRendered | Custom |
DateCreated (1) | 2024:03:24 |
DateCreated | 2024:03:24 16:02:25.81+01:00 |
DateTimeOriginal | 2024:03:24 16:02:25 |
DefringeGreenAmount | 0 |
DefringeGreenHueHi | 60 |
DefringeGreenHueLo | 40 |
DefringePurpleAmount | 0 |
DefringePurpleHueHi | 70 |
DefringePurpleHueLo | 30 |
Dehaze | 0 |
DistortionCorrectionAlreadyApplied | True |
Exposure2012 | +0.60 |
ExposureCompensation | +1 |
ExposureMode | Auto |
ExposureProgram | Aperture-priority AE |
ExposureTime | 1/1600 |
Flash | No Flash |
FNumber | 2.8 |
FocalLength | 200.0 mm |
FocalLength35efl | 200.0 mm (35 mm equivalent: 200.0 mm) |
FocalLengthIn35mmFormat | 200 mm |
Format | image/jpeg |
FOV | 10.3 deg |
GainControl | None |
GPSAltitude (1) | 421 m |
GPSAltitude | 421 m Above Sea Level |
GPSAltitudeRef | Above Sea Level |
GPSDateStamp | 2024:03:24 |
GPSDateTime | 2024:03:24 15:00:24.14Z |
GPSLatitude (1) | 46 deg 18' 13.99" |
GPSLatitude | 46 deg 18' 13.99" N |
GPSLatitudeRef | North |
GPSLongitude (1) | 6 deg 9' 54.59" |
GPSLongitude | 6 deg 9' 54.59" E |
GPSLongitudeRef | East |
GPSMapDatum | WGS-84 |
GPSPosition | 46 deg 18' 13.99" N, 6 deg 9' 54.59" E |
GPSSatellites | 00 |
GPSTimeStamp | 15:00:24.14 |
GPSVersionID | 2.3.0.0 |
GrainAmount | 0 |
GreenHue | 0 |
GreenSaturation | 0 |
HasCrop | True |
HasSettings | True |
HDREditMode | 0 |
Highlights2012 | -66 |
HueAdjustmentAqua | 0 |
HueAdjustmentBlue | 0 |
HueAdjustmentGreen | 0 |
HueAdjustmentMagenta | 0 |
HueAdjustmentOrange | 0 |
HueAdjustmentPurple | 0 |
HueAdjustmentRed | 0 |
HueAdjustmentYellow | 0 |
HyperfocalDistance | 475.46 m |
ImageHeight | 1863 |
ImageNumber | 14775 |
ImageSize | 1744x1863 |
ImageWidth | 1744 |
ISO | 400 |
LateralChromaticAberrationCorrectionAlreadyApplied | True |
Lens | NIKKOR Z 70-200mm f/2.8 VR S |
LensInfo | 70-200mm f/2.8 |
LensMake | NIKON |
LensManualDistortionAmount | 0 |
LensModel | NIKKOR Z 70-200mm f/2.8 VR S |
LensProfileDistortionScale | 100 |
LensProfileEnable | 1 |
LensProfileIsEmbedded | True |
LensProfileName | Camera Settings |
LensProfileSetup | LensDefaults |
LensProfileVignettingScale | 100 |
LensSerialNumber | 20099558 |
LightSource | Unknown |
LightValue | 11.6 |
LuminanceAdjustmentAqua | 0 |
LuminanceAdjustmentBlue | 0 |
LuminanceAdjustmentGreen | 0 |
LuminanceAdjustmentMagenta | 0 |
LuminanceAdjustmentOrange | 0 |
LuminanceAdjustmentPurple | 0 |
LuminanceAdjustmentRed | 0 |
LuminanceAdjustmentYellow | 0 |
LuminanceNoiseReductionContrast | 0 |
LuminanceNoiseReductionDetail | 75 |
LuminanceSmoothing | 66 |
Make | NIKON CORPORATION |
Megapixels | 3.2 |
MeteringMode | Other |
Model | NIKON Z 8 |
ModifyDate (1) | 2024:03:24 22:21:41+01:00 |
ModifyDate | 2024:03:24 22:21:41 |
OverrideLookVignette | False |
ParametricDarks | 0 |
ParametricHighlights | 0 |
ParametricHighlightSplit | 75 |
ParametricLights | 0 |
ParametricMidtoneSplit | 50 |
ParametricShadows | 0 |
ParametricShadowSplit | 25 |
PerspectiveAspect | 0 |
PerspectiveHorizontal | 0 |
PerspectiveRotate | 0.0 |
PerspectiveScale | 100 |
PerspectiveUpright | 0 |
PerspectiveVertical | 0 |
PerspectiveX | 0.00 |
PerspectiveY | 0.00 |
Pick | 0 |
PointColors | -1.000000, -1.000000, -1.000000, -1.000000, -1.000000, -1.000000, -1.000000, -1.000000, -1.000000, -1.000000, -1.000000, -1.000000, -1.000000, -1.000000, -1.000000, -1.000000, -1.000000, -1.000000, -1.000000 |
PostCropVignetteAmount | 0 |
PreservedFileName | GOB_4820.NEF |
ProcessVersion | 15.4 |
ProfileDescription | sRGB IEC61966-2.1 |
Province-State | Vaud |
RawFileName | GOB_4820.NEF |
RecommendedExposureIndex | 400 |
RedHue | 0 |
RedSaturation | 0 |
Rights | GEIR BRAATHEN |
Saturation (1) | 0 |
Saturation | Normal |
SaturationAdjustmentAqua | 0 |
SaturationAdjustmentBlue | 0 |
SaturationAdjustmentGreen | 0 |
SaturationAdjustmentMagenta | 0 |
SaturationAdjustmentOrange | 0 |
SaturationAdjustmentPurple | 0 |
SaturationAdjustmentRed | 0 |
SaturationAdjustmentYellow | 0 |
ScaleFactor35efl | 1.0 |
SceneCaptureType | Portrait |
SceneType | Directly photographed |
SensingMethod | One-chip color area |
SensitivityType | Recommended Exposure Index |
SerialNumber | 6020619 |
Shadows2012 | +36 |
ShadowTint | 0 |
SharpenDetail | 25 |
SharpenEdgeMasking | 0 |
SharpenRadius | +2.0 |
Sharpness (1) | 24 |
Sharpness | Normal |
ShutterSpeed | 1/1600 |
ShutterSpeedValue | 1/1600 |
Software | Adobe Photoshop Lightroom Classic 13.2 (Macintosh) |
SplitToningBalance | 0 |
SplitToningHighlightHue | 0 |
SplitToningHighlightSaturation | 0 |
SplitToningShadowHue | 0 |
SplitToningShadowSaturation | 0 |
State | Vaud |
SubjectDistanceRange | Unknown |
Texture | +21 |
Tint | +25 |
ToneCurveName2012 | Linear |
ToneCurvePV2012 | 0, 0, 255, 255 |
ToneCurvePV2012Blue | 0, 0, 255, 255 |
ToneCurvePV2012Green | 0, 0, 255, 255 |
ToneCurvePV2012Red | 0, 0, 255, 255 |
Version | 16.2 |
Vibrance | 0 |
VignetteAmount | 0 |
VignetteCorrectionAlreadyApplied | True |
WhiteBalance (1) | Custom |
WhiteBalance | Auto |
Whites2012 | -80 |