Felt | Verdi |
AlreadyApplied | True |
Aperture | 9.0 |
ApertureValue | 9.0 |
ApproximateFocusDistance | 7.67 |
AutoLateralCA | 1 |
BitsPerSample | 8 |
Blacks2012 | -16 |
BlueHue | 0 |
BlueSaturation | 0 |
CameraProfile | Adobe Standard |
CircleOfConfusion | 0.026 mm |
Clarity2012 | 0 |
ColorComponents | 3 |
ColorGradeBlending | 50 |
ColorGradeGlobalHue | 0 |
ColorGradeGlobalLum | 0 |
ColorGradeGlobalSat | 0 |
ColorGradeHighlightLum | 0 |
ColorGradeMidtoneHue | 0 |
ColorGradeMidtoneLum | 0 |
ColorGradeMidtoneSat | 0 |
ColorGradeShadowLum | 0 |
ColorMode | RGB |
ColorNoiseReduction | 25 |
ColorNoiseReductionDetail | 50 |
ColorNoiseReductionSmoothness | 50 |
ColorSpace | Uncalibrated |
ColorTemperature | 5100 |
ColorTransform | YCbCr |
CompatibleVersion | 234881024 |
Contrast2012 | +7 |
CreateDate | 2024:07:29 15:52:27 |
CropAngle | 0 |
CropBottom | 0.940393 |
CropConstrainToWarp | 0 |
CropLeft | 0.057914 |
CropRight | 0.898723 |
CropTop | 0.0491 |
CustomRendered | Normal |
DateCreated (1) | 2024:07:29 |
DateCreated | 2024:07:29 15:52:27.039 |
DateTimeOriginal | 2024:07:29 15:52:27 |
DefringeGreenAmount | 0 |
DefringeGreenHueHi | 60 |
DefringeGreenHueLo | 40 |
DefringePurpleAmount | 0 |
DefringePurpleHueHi | 70 |
DefringePurpleHueLo | 30 |
Dehaze | 0 |
DistortionCorrectionAlreadyApplied | True |
DOF | inf (2.35 m - inf) |
ExifImageHeight | 5267 |
ExifImageWidth | 3728 |
Exposure2012 | +0.72 |
ExposureCompensation | 0 |
ExposureMode | Manual |
ExposureProgram | Manual |
ExposureTime | 1/200 |
Firmware | 1.0.4 |
Flash | Off, Did not fire |
FlashCompensation | 0 |
FNumber | 9.0 |
FocalLength | 28.0 mm |
FocalLength35efl | 28.0 mm (35 mm equivalent: 32.6 mm) |
Format | image/jpeg |
FOV | 57.8 deg |
GrainAmount | 0 |
GreenHue | 0 |
GreenSaturation | 0 |
HasCrop | True |
HasSettings | True |
HDREditMode | 0 |
Highlights2012 | -76 |
HueAdjustmentAqua | -11 |
HueAdjustmentBlue | 0 |
HueAdjustmentGreen | -13 |
HueAdjustmentMagenta | 0 |
HueAdjustmentOrange | 0 |
HueAdjustmentPurple | 0 |
HueAdjustmentRed | 0 |
HueAdjustmentYellow | +4 |
HyperfocalDistance | 3.38 m |
ICCProfileName | Display P3 |
ImageHeight | 5267 |
ImageNumber | 0 |
ImageSize | 3728x5267 |
ImageWidth | 3728 |
ISO | 125 |
LateralChromaticAberrationCorrectionAlreadyApplied | True |
Lens | TAMRON 17-35mm F/2.8-4 Di OSD A037 |
LensID (1) | 502 |
LensID | TAMRON 17-35mm F/2.8-4 Di OSD A037 |
LensInfo | 17-35mm f/? |
LensManualDistortionAmount | 0 |
LensModel | TAMRON 17-35mm F/2.8-4 Di OSD A037 |
LensProfileDistortionScale | 100 |
LensProfileEnable | 1 |
LensProfileFilename | Canon (TAMRON 17-35mm F2.8-4 Di OSD A037E) - RAW.lcp |
LensProfileIsEmbedded | False |
LensProfileName | Adobe (TAMRON 17-35mm F2.8-4 Di OSD A037E, Canon) |
LensProfileSetup | LensDefaults |
LensProfileVignettingScale | 100 |
LensSerialNumber | 0000000000 |
LightValue | 13.7 |
LookAmount | 1 |
LookCopyright | © 2018 Adobe Systems, Inc. |
LookGroup | Profiles |
LookName | Adobe Color |
LookParametersCameraProfile | Adobe Standard |
LookParametersConvertToGrayscale | False |
LookParametersLookTable | E1095149FDB39D7A057BAB208837E2E1 |
LookParametersProcessVersion | 15.4 |
LookParametersToneCurvePV2012 | 0, 0, 22, 16, 40, 35, 127, 127, 224, 230, 240, 246, 255, 255 |
LookParametersToneCurvePV2012Blue | 0, 0, 255, 255 |
LookParametersToneCurvePV2012Green | 0, 0, 255, 255 |
LookParametersToneCurvePV2012Red | 0, 0, 255, 255 |
LookParametersVersion | 16.0 |
LookSupportsAmount | false |
LookSupportsMonochrome | false |
LookSupportsOutputReferred | false |
LuminanceAdjustmentAqua | 0 |
LuminanceAdjustmentBlue | 0 |
LuminanceAdjustmentGreen | 0 |
LuminanceAdjustmentMagenta | 0 |
LuminanceAdjustmentOrange | 0 |
LuminanceAdjustmentPurple | 0 |
LuminanceAdjustmentRed | 0 |
LuminanceAdjustmentYellow | 0 |
LuminanceSmoothing | 0 |
Make | Canon |
MaxApertureValue | 3.7 |
Megapixels | 19.6 |
MeteringMode | Multi-segment |
Model | Canon EOS 6D Mark II |
ModifyDate (1) | 2024:07:31 16:44:27+02:00 |
ModifyDate | 2024:07:31 16:44:27 |
Orientation | Horizontal (normal) |
OverrideLookVignette | False |
ParametricDarks | 0 |
ParametricHighlights | 0 |
ParametricHighlightSplit | 75 |
ParametricLights | 0 |
ParametricMidtoneSplit | 50 |
ParametricShadows | 0 |
ParametricShadowSplit | 25 |
PerspectiveAspect | 0 |
PerspectiveHorizontal | 0 |
PerspectiveRotate | 0.0 |
PerspectiveScale | 100 |
PerspectiveUpright | 1 |
PerspectiveVertical | 0 |
PerspectiveX | 0.00 |
PerspectiveY | 0.00 |
PostCropVignetteAmount | 0 |
ProcessVersion | 15.4 |
ProfileDescription | Display P3 |
Rating | 0 |
RecommendedExposureIndex | 125 |
RedHue | 0 |
RedSaturation | 0 |
Saturation | +1 |
SaturationAdjustmentAqua | -24 |
SaturationAdjustmentBlue | 0 |
SaturationAdjustmentGreen | -22 |
SaturationAdjustmentMagenta | 0 |
SaturationAdjustmentOrange | -8 |
SaturationAdjustmentPurple | 0 |
SaturationAdjustmentRed | 0 |
SaturationAdjustmentYellow | -3 |
ScaleFactor35efl | 1.2 |
SceneCaptureType | Standard |
SensitivityType | Recommended Exposure Index |
SerialNumber | 302052002458 |
Shadows2012 | +68 |
ShadowTint | 0 |
SharpenDetail | 50 |
SharpenEdgeMasking | 50 |
SharpenRadius | +1.5 |
Sharpness | 20 |
ShutterSpeed | 1/200 |
ShutterSpeedValue | 1/200 |
Software | Adobe Photoshop 21.0 (Windows) |
SplitToningBalance | 0 |
SplitToningHighlightHue | 246 |
SplitToningHighlightSaturation | 10 |
SplitToningShadowHue | 63 |
SplitToningShadowSaturation | 12 |
Texture | 0 |
Tint | +9 |
ToneCurveName2012 | Linear |
ToneCurvePV2012 | 0, 0, 255, 255 |
ToneCurvePV2012Blue | 0, 0, 255, 255 |
ToneCurvePV2012Green | 0, 0, 255, 255 |
ToneCurvePV2012Red | 0, 0, 255, 255 |
URL_List | |
Version | 16.0 |
Vibrance | +15 |
VignetteAmount | 0 |
VignetteCorrectionAlreadyApplied | True |
WhiteBalance (1) | Custom |
WhiteBalance | Manual |
Whites2012 | -15 |