Felt | Verdi |
AlreadyApplied | True |
Aperture | 16.0 |
ApertureValue | 16.0 |
BitsPerSample | 8 |
BlackClip | 0.000000 |
BlueHue | 0 |
BlueSaturation | 0 |
Brightness | -82 |
By-line | Jan Erik Arud |
CameraProfile | ACR 2.4 |
ChromaticAberrationB | 0 |
ChromaticAberrationR | 0 |
Clarity | 0 |
ColorComponents | 3 |
ColorNoiseReduction | 61 |
ColorSaturation | 46 |
ColorTemperature | 0 |
Contrast | +4 |
ConvertToGrayscale | True |
Copyright | Jan Erik Arud |
CopyrightNotice | Jan Erik Arud |
Creator | Jan Erik Arud |
CreatorTool | Adobe Photoshop Lightroom |
CreatorWorkEmail | arud@vision3.no |
CreatorWorkURL | www.vision3.no |
CropAngle | 0.102223 |
CropBottom | 0.860524 |
CropHeight | 666 |
CropLeft | 0.111999 |
CropRight | 0.991022 |
CropTop | 0.00023 |
CropUnit | pixels |
CropWidth | 1024 |
DateTimeOriginal (1) | 2008:05:11 19:28:04+02:00 |
DateTimeOriginal | 2008:05:11 19:28:04 |
Defringe | 1 |
Exposure | -0.29 |
ExposureTime | 1/25 |
FillLight | 0 |
FNumber | 16.0 |
FocalLength | 17.0 mm |
FocalLength35efl | 17.0 mm |
Gamma | 1.000000 |
GrayMixerAqua | -10 |
GrayMixerBlue | +20 |
GrayMixerGreen | -19 |
GrayMixerMagenta | +28 |
GrayMixerOrange | +4 |
GrayMixerPurple | +25 |
GrayMixerRed | +29 |
GrayMixerYellow | -13 |
GreenHue | 0 |
GreenSaturation | 0 |
HasCrop | True |
HasSettings | True |
HighlightRecovery | 100 |
HighlightsSmoothing | 0 |
ImageHeight | 666 |
ImageSize | 1024x666 |
ImageWidth | 1024 |
IncrementalTemperature | +2 |
IncrementalTint | -40 |
ISO | 200 |
Label | Red |
LightValue | 11.6 |
LuminanceSmoothing | 57 |
Luminosity | 0 |
Marked | True |
Megapixels | 0.682 |
Method | Details Enhancer |
Microcontrast | 0 |
Microsmoothing | 2 |
Model | Canon EOS-1D Mark III |
ModifyDate (1) | 2008:05:14 05:39:48+02:00 |
ModifyDate | 2008:05:14 05:39:48 |
ParametricDarks | -17 |
ParametricHighlights | -100 |
ParametricHighlightSplit | 75 |
ParametricLights | +100 |
ParametricMidtoneSplit | 50 |
ParametricShadows | +39 |
ParametricShadowSplit | 25 |
PostCropVignetteAmount | 0 |
ProfileDescription | sRGB IEC61966-2.1 |
Rating | 1 |
RedHue | 0 |
RedSaturation | 0 |
Rights | Jan Erik Arud |
SaturationHighlights | 0 |
SaturationShadows | 0 |
Shadows | 26 |
ShadowsClipping | 0 |
ShadowsSmoothing | 0 |
ShadowTint | 0 |
SharpenDetail | 45 |
SharpenEdgeMasking | 0 |
SharpenRadius | +1.0 |
Sharpness | 73 |
ShutterSpeed | 1/25 |
ShutterSpeedValue | 1/25 |
Smoothing | Very High |
SplitToningBalance | -19 |
SplitToningHighlightHue | 13 |
SplitToningHighlightSaturation | 100 |
SplitToningShadowHue | 249 |
SplitToningShadowSaturation | 8 |
Strength | 70 |
ToneCurve | 0, 0, 32, 22, 64, 56, 128, 128, 192, 196, 255, 255 |
ToneCurveName | Medium Contrast |
Version (1) | 2.5 |
Version | 5.0 |
VignetteAmount | 0 |
WhiteBalance | Custom |
WhiteClip | 0.248600 |