Felt | Verdi |
AlreadyApplied | True |
Artist | Bjørn Joachimsen |
AuthorsPosition | Photographer |
BitsPerSample (1) | 8, 8, 8 |
BitsPerSample | 8 |
BlueHue | 0 |
BlueSaturation | 0 |
Brightness | 0 |
By-line | Bj¿rn Joachimsen |
By-lineTitle | Photographer |
CameraProfile | Embedded |
CaptionWriter | Bjørn Joachimsen |
ChromaticAberrationB | 0 |
ChromaticAberrationR | 0 |
Clarity | 25 |
ColorComponents | 1 |
ColorMode | RGB |
ColorNoiseReduction | 0 |
ColorSpace | sRGB |
Contrast | +14 |
ConvertToGrayscale | False |
Copyright | Bjørn Joachimsen- all rights reserved |
CopyrightFlag | False |
CopyrightNotice | Bj¿rn Joachimsen- all rights reserved |
CreateDate | 2008:08:09 20:17:56+02:00 |
Creator | Bjørn Joachimsen |
CreatorCity | TOMASJORD |
CreatorCountry | NORWAY |
CreatorPostalCode | 9024 |
CreatorTool | Adobe Photoshop CS3 Macintosh |
CreatorWorkEmail | bjoern@fotonord.no |
CreatorWorkURL | www.fotonord.no |
CropAngle | 0 |
CropBottom | 0.983029 |
CropHeight | 1 |
CropLeft | 0.011749 |
CropRight | 0.976501 |
CropTop | 0.018277 |
CropUnit | Unknown (3) |
CropWidth | 1 |
Defringe | 0 |
ExifImageHeight | 768 |
ExifImageWidth | 768 |
Exposure | -0.65 |
FillLight | 0 |
Format | image/jpeg |
GreenHue | 0 |
GreenSaturation | 0 |
HasCrop | True |
HasSettings | True |
HighlightRecovery | 20 |
HueAdjustmentAqua | 0 |
HueAdjustmentBlue | 0 |
HueAdjustmentGreen | 0 |
HueAdjustmentMagenta | 0 |
HueAdjustmentOrange | 0 |
HueAdjustmentPurple | 0 |
HueAdjustmentRed | 0 |
HueAdjustmentYellow | 0 |
ICCProfileName | sRGB IEC61966-2.1 |
ImageHeight (1) | 1024 |
ImageHeight | 768 |
ImageSize | 768x768 |
ImageWidth (1) | 1024 |
ImageWidth | 768 |
IncrementalTemperature | 0 |
IncrementalTint | 0 |
Keywords | Mamiya 6MF, Mamiya, rangefinder, Sekor, medium format, Monochrome, mono, grayscale, black and white, bw, b&w, black & white, film, analog, KŒfjorddalen, KŒfjord, Troms, Norway, Norge |
LuminanceAdjustmentAqua | 0 |
LuminanceAdjustmentBlue | 0 |
LuminanceAdjustmentGreen | 0 |
LuminanceAdjustmentMagenta | 0 |
LuminanceAdjustmentOrange | 0 |
LuminanceAdjustmentPurple | 0 |
LuminanceAdjustmentRed | 0 |
LuminanceAdjustmentYellow | 0 |
LuminanceSmoothing | 0 |
Make | Nikon |
Megapixels | 0.590 |
Model | Nikon SUPER COOLSCAN 9000 ED |
ModifyDate (1) | 2008:08:09 20:17:56+02:00 |
ModifyDate | 2008:08:09 20:17:56 |
Orientation | Horizontal (normal) |
ParametricDarks | 0 |
ParametricHighlights | 0 |
ParametricHighlightSplit | 75 |
ParametricLights | 0 |
ParametricMidtoneSplit | 50 |
ParametricShadows | 0 |
ParametricShadowSplit | 25 |
PhotometricInterpretation | RGB |
ProfileDescription | sRGB IEC61966-2.1 |
Rating | 0 |
RawFileName | Nordtroms39.tif |
RedHue | 0 |
RedSaturation | 0 |
Rights | Bjørn Joachimsen- all rights reserved |
SamplesPerPixel | 3 |
Saturation | -100 |
SaturationAdjustmentAqua | 0 |
SaturationAdjustmentBlue | 0 |
SaturationAdjustmentGreen | 0 |
SaturationAdjustmentMagenta | 0 |
SaturationAdjustmentOrange | 0 |
SaturationAdjustmentPurple | 0 |
SaturationAdjustmentRed | 0 |
SaturationAdjustmentYellow | 0 |
Shadows | 3 |
ShadowTint | 0 |
SharpenDetail | 25 |
SharpenEdgeMasking | 0 |
SharpenRadius | +1.0 |
Sharpness | 0 |
Software | Adobe Photoshop CS3 Macintosh |
SplitToningBalance | 0 |
SplitToningHighlightHue | 0 |
SplitToningHighlightSaturation | 0 |
SplitToningShadowHue | 0 |
SplitToningShadowSaturation | 0 |
Subject | Mamiya 6MF, Mamiya, rangefinder, Sekor, medium format, Monochrome, mono, grayscale, black and white, bw, b&w, black & white, film, analog, Kåfjorddalen, Kåfjord, Troms, Norway, Norge |
ToneCurve | 0, 0, 255, 255 |
ToneCurveName | Linear |
URL_List | |
Version | 4.4.1 |
Vibrance | 0 |
VignetteAmount | 0 |
WhiteBalance | As Shot |
Writer-Editor | Bj¿rn Joachimsen |