Felt | Verdi |
AlreadyApplied | True |
Aperture | 22.0 |
ApertureValue | 22.0 |
Artist | unknown |
BitsPerSample | 8 |
BlueHue | 0 |
BlueSaturation | 0 |
Brightness | +50 |
By-line | Tor Håkon Haugen |
CameraProfile | ACR 4.4 |
Caption-Abstract | Cameras white balance was set to automatic, and I've decided to keep it when I saw how good it came out. |
ChromaticAberrationB | 0 |
ChromaticAberrationR | 0 |
CircleOfConfusion | 0.019 mm |
Clarity | 0 |
ColorComponents | 3 |
ColorNoiseReduction | 25 |
ColorTemperature | 7000 |
Contrast | +25 |
ConvertToGrayscale | False |
Copyright | Copyright - Tor Hakon Haugen |
CopyrightNotice | Copyright - Tor Håkon Haugen |
CreateDate (1) | 2008:09:08 20:16:56+02:00 |
CreateDate | 2008:09:08 20:16:56 |
Creator | Tor Håkon Haugen |
CreatorAddress | Asparsletta 52 |
CreatorCountry | Førresfjorden |
CreatorPostalCode | 5563 |
CreatorTool | Adobe Photoshop Lightroom |
CreatorWorkEmail | tor.hakon.haugen@gmail.com |
CustomRendered | Normal |
DateTimeDigitized | 2008:09:08 20:16:56+02:00 |
DateTimeOriginal (1) | 2008:09:08 20:16:56+02:00 |
DateTimeOriginal | 2008:09:08 20:16:56 |
Defringe | 0 |
Description | Cameras white balance was set to automatic, and I've decided to keep it when I saw how good it came out. |
ExifImageHeight | 900 |
ExifImageWidth | 600 |
Exposure | 0.00 |
ExposureCompensation | 0 |
ExposureMode | Manual |
ExposureProgram | Manual |
ExposureTime | 0.5 |
FillLight | 0 |
Firmware | 1.0.3 |
Flash | Off, Did not fire |
FlashCompensation | -0.666666666666667 |
FlashFired | False |
FlashFunction | False |
FlashMode | Off |
FlashRedEyeMode | False |
FlashReturn | No return detection |
FNumber | 22.0 |
FocalLength | 19.0 mm |
FocalLength35efl | 19.0 mm (35 mm equivalent: 30.8 mm) |
FOV | 60.6 deg |
GreenHue | 0 |
GreenSaturation | 0 |
HasCrop | False |
HasSettings | True |
HighlightRecovery | 0 |
HueAdjustmentAqua | 0 |
HueAdjustmentBlue | 0 |
HueAdjustmentGreen | 0 |
HueAdjustmentMagenta | 0 |
HueAdjustmentOrange | 0 |
HueAdjustmentPurple | 0 |
HueAdjustmentRed | 0 |
HueAdjustmentYellow | 0 |
HyperfocalDistance | 0.89 m |
ImageDescription | Cameras white balance was set to automatic, and I've decided to keep it when I saw how good it came out. |
ImageHeight | 900 |
ImageNumber | 131 |
ImageSize | 600x900 |
ImageWidth | 600 |
ISO | 400 |
Keywords | Hodnafjell, Lines, Nature, Power, Power Lines, Sky |
Label | Green |
Lens | 17.0-40.0 mm |
LensInfo | 17-40mm f/? |
LightValue | 7.9 |
LuminanceAdjustmentAqua | 0 |
LuminanceAdjustmentBlue | 0 |
LuminanceAdjustmentGreen | 0 |
LuminanceAdjustmentMagenta | 0 |
LuminanceAdjustmentOrange | 0 |
LuminanceAdjustmentPurple | 0 |
LuminanceAdjustmentRed | 0 |
LuminanceAdjustmentYellow | 0 |
LuminanceSmoothing | 0 |
Make | Canon |
Marked | True |
MaxApertureValue | 4.0 |
Megapixels | 0.540 |
MeteringMode | Multi-segment |
Model | Canon EOS 350D DIGITAL |
ModifyDate (1) | 2008:09:08 22:12:19+02:00 |
ModifyDate | 2008:09:08 22:12:19 |
ObjectName | Grant Me Power |
OwnerName | unknown |
ParametricDarks | 0 |
ParametricHighlights | +35 |
ParametricHighlightSplit | 75 |
ParametricLights | 0 |
ParametricMidtoneSplit | 50 |
ParametricShadows | -14 |
ParametricShadowSplit | 25 |
PostCropVignetteAmount | 0 |
ProfileDescription | sRGB IEC61966-2.1 |
Rating | 5 |
RedHue | 0 |
RedSaturation | 0 |
Rights | Copyright - Tor Håkon Haugen |
Saturation | 0 |
SaturationAdjustmentAqua | 0 |
SaturationAdjustmentBlue | 0 |
SaturationAdjustmentGreen | 0 |
SaturationAdjustmentMagenta | 0 |
SaturationAdjustmentOrange | 0 |
SaturationAdjustmentPurple | 0 |
SaturationAdjustmentRed | 0 |
SaturationAdjustmentYellow | 0 |
ScaleFactor35efl | 1.6 |
SceneCaptureType | Standard |
SerialNumber | 1830703648 |
Shadows | 5 |
ShadowTint | 0 |
SharpenDetail | 25 |
SharpenEdgeMasking | 0 |
SharpenRadius | +1.0 |
Sharpness | 25 |
ShutterSpeed | 0.5 |
ShutterSpeedValue | 0.5 |
SplitToningBalance | 0 |
SplitToningHighlightHue | 0 |
SplitToningHighlightSaturation | 0 |
SplitToningShadowHue | 0 |
SplitToningShadowSaturation | 0 |
Subject | Hodnafjell, Lines, Nature, Power, Power Lines, Sky |
Tint | +2 |
Title | Grant Me Power |
ToneCurve | 0, 0, 32, 22, 64, 56, 128, 128, 192, 196, 255, 255 |
ToneCurveName | Medium Contrast |
Version | 4.5 |
Vibrance | 0 |
VignetteAmount | -40 |
VignetteMidpoint | 50 |
WhiteBalance (2) | As Shot |
WhiteBalance | Auto |