Felt | Verdi |
AlreadyApplied | True |
Aperture | 5.0 |
ApertureValue | 5.0 |
Artist | Geir A Granviken |
BitsPerSample | 8 |
BlueHue | 0 |
BlueSaturation | 0 |
Brightness | +18 |
By-line | Geir A Granviken |
CameraProfile | ACR 4.4 |
Caption-Abstract | CargoNet GT 25255 m/ Di8.702 & Di8.707 passerer over Kylling bro på Raumabanen, mot Åndalsn. |
ChromaticAberrationB | 0 |
ChromaticAberrationR | 0 |
CircleOfConfusion | 0.019 mm |
Clarity | +18 |
ColorComponents | 3 |
ColorMode | RGB |
ColorNoiseReduction | 25 |
ColorSpace | sRGB |
ColorTemperature | 4750 |
Contrast | +16 |
ConvertToGrayscale | False |
Copyright | 2008 Geir A Granviken |
CopyrightFlag | False |
CopyrightNotice | 2008 Geir A Granviken |
CreateDate (1) | 2008:10:22 22:49:42+02:00 |
CreateDate | 2008:08:20 17:34:09 |
Creator | Geir A Granviken |
CreatorTool | Adobe Photoshop CS3 Windows |
CropAngle | 0 |
CropBottom | 1 |
CropLeft | 0 |
CropRight | 0.959189 |
CropTop | 0.048049 |
CustomRendered | Normal |
DateTimeDigitized | 2008:08:20 17:34:09.8+1:00 |
DateTimeOriginal (1) | 2008:08:20 17:34:09.8+1:00 |
DateTimeOriginal | 2008:08:20 17:34:09 |
Defringe | 0 |
DerivedFrom | |
Description | CargoNet GT 25255 m/ Di8.702 & Di8.707 passerer over Kylling bro på Raumabanen, mot Åndalsn. |
ExifImageHeight | 593 |
ExifImageWidth | 896 |
Exposure | 0.00 |
ExposureCompensation | 0 |
ExposureMode | Auto |
ExposureProgram | Aperture-priority AE |
ExposureTime | 1/250 |
FillLight | 13 |
Firmware | 1.0.4 |
Flash | Off, Did not fire |
FlashCompensation | 0 |
FlashFired | False |
FlashFunction | False |
FlashMode | Off |
FlashRedEyeMode | False |
FlashReturn | No return detection |
FNumber | 5.0 |
FocalLength | 24.0 mm |
FocalLength35efl | 24.0 mm (35 mm equivalent: 38.8 mm) |
Format | image/jpeg |
FOV | 49.8 deg |
GreenHue | 0 |
GreenSaturation | 0 |
HasCrop | True |
HasSettings | True |
HierarchicalSubject | Portf_Tog, TogInfraBro, TogRmLokDi, TogRmTog |
HighlightRecovery | 17 |
HueAdjustmentAqua | 0 |
HueAdjustmentBlue | 0 |
HueAdjustmentGreen | 0 |
HueAdjustmentMagenta | 0 |
HueAdjustmentOrange | 0 |
HueAdjustmentPurple | 0 |
HueAdjustmentRed | 0 |
HueAdjustmentYellow | 0 |
HyperfocalDistance | 6.19 m |
ICCProfileName | sRGB IEC61966-2.1 |
ImageDescription | CargoNet GT 25255 m/ Di8.702 & Di8.707 passerer over Kylling bro på Raumabanen, mot Åndalsn. |
ImageHeight | 593 |
ImageNumber | 0 |
ImageSize | 896x593 |
ImageWidth | 896 |
ISO | 200 |
Keywords | Portf_Tog, TogInfraBro, TogRmLokDi, TogRmTog |
Lens | EF24-105mm f/4L IS USM |
LensInfo | 24-105mm f/? |
LightValue | 11.6 |
LuminanceAdjustmentAqua | 0 |
LuminanceAdjustmentBlue | 0 |
LuminanceAdjustmentGreen | 0 |
LuminanceAdjustmentMagenta | 0 |
LuminanceAdjustmentOrange | 0 |
LuminanceAdjustmentPurple | 0 |
LuminanceAdjustmentRed | 0 |
LuminanceAdjustmentYellow | 0 |
LuminanceSmoothing | 0 |
Make | Canon |
MaxApertureValue | 4.0 |
Megapixels | 0.531 |
MeteringMode | Multi-segment |
Model | Canon EOS 450D |
ModifyDate (1) | 2008:10:22 22:49:42+02:00 |
ModifyDate | 2008:10:22 22:49:42 |
ObjectName | |
Orientation | Horizontal (normal) |
OwnerName | Geir A Granviken |
ParametricDarks | 0 |
ParametricHighlights | 0 |
ParametricHighlightSplit | 75 |
ParametricLights | 0 |
ParametricMidtoneSplit | 50 |
ParametricShadows | -10 |
ParametricShadowSplit | 25 |
PostCropVignetteAmount | 0 |
ProfileDescription | sRGB IEC61966-2.1 |
Rating | 0 |
RawFileName | e146_0143.cr2 |
RedHue | 0 |
RedSaturation | 0 |
Rights | 2008 Geir A Granviken |
Saturation | 0 |
SaturationAdjustmentAqua | 0 |
SaturationAdjustmentBlue | 0 |
SaturationAdjustmentGreen | 0 |
SaturationAdjustmentMagenta | 0 |
SaturationAdjustmentOrange | 0 |
SaturationAdjustmentPurple | 0 |
SaturationAdjustmentRed | 0 |
SaturationAdjustmentYellow | 0 |
ScaleFactor35efl | 1.6 |
SceneCaptureType | Standard |
SerialNumber | 680266845 |
Shadows | 10 |
ShadowTint | 0 |
SharpenDetail | 25 |
SharpenEdgeMasking | 0 |
SharpenRadius | +1.0 |
Sharpness | 25 |
ShutterSpeed | 1/250 |
ShutterSpeedValue | 1/250 |
SidecarForExtension | CR2 |
Software | Adobe Photoshop CS3 Windows |
SplitToningBalance | 0 |
SplitToningHighlightHue | 0 |
SplitToningHighlightSaturation | 0 |
SplitToningShadowHue | 0 |
SplitToningShadowSaturation | 0 |
Subject | Portf_Tog, TogInfraBro, TogRmLokDi, TogRmTog |
Tint | +13 |
Title | |
ToneCurve | 0, 0, 32, 22, 64, 56, 128, 128, 192, 196, 255, 255 |
ToneCurveName | Medium Contrast |
Urgency | 4 |
URL_List | |
Version | 4.5 |
Vibrance | +24 |
VignetteAmount | 0 |
WhiteBalance (2) | As Shot |
WhiteBalance | Auto |