Felt | Verdi |
AlreadyApplied | True |
Aperture | 2.8 |
Aperture: 2
ApertureValue | 2.8 |
BitsPerSample | 8 |
BlueHue | 0 |
BlueSaturation | 0 |
Brightness | 0 |
By-line | KRISTER SØRBØ |
CameraProfile | Adobe Standard |
Caption-Abstract | 20090405 Fornebu
ChromaticAberrationB | 0 |
ChromaticAberrationR | 0 |
CircleOfConfusion | 0.023 mm |
Clarity | 0 |
ColorComponents | 3 |
ColorMode | RGB |
ColorNoiseReduction | 25 |
ColorSpace | Uncalibrated |
ColorSpace: 65535
ColorTemperature | 5750 |
Contrast | 0 |
ConvertToGrayscale | False |
CreateDate (1) | 2009:04:05 18:42:48.14+02:00 |
CreateDate | 2009:04:05 18:42:48 |
Credit | VG |
CropAngle | 1.570789 |
CropBottom | 0.910827 |
CropLeft | 0.107132 |
CropRight | 0.903907 |
CropTop | 0.065831 |
CustomRendered | Normal |
Date and Time: 2009:04:05 18:42:48
DateCreated | 2009:04:05 |
DateTimeDigitized | 2009:04:05 18:42:48.14+02:00 |
DateTimeOriginal (1) | 2009:04:05 18:42:48.14+02:00 |
DateTimeOriginal | 2009:04:05 18:42:48 |
Defringe | 0 |
ExifCameraInfo | Model: Canon EOS-1D Mark III
ExifImageHeight | 700 |
ExifImageWidth | 908 |
Exposure Bias: 0.000
Exposure Program: Manual
Exposure Time: 1/1600 Sec
Exposure | 0.00 |
ExposureCompensation | 0 |
ExposureMode | Manual |
ExposureProgram | Manual |
ExposureTime | 1/1600 |
F Number: 2.8
FillLight | 22 |
Firmware | 1.1.3 |
Flash | No Flash |
Flash: No
FlashCompensation | 0 |
FlashFired | False |
FlashFunction | False |
FlashMode | Unknown |
FlashRedEyeMode | False |
FlashReturn | No return detection |
FNumber | 2.8 |
FocalLength | 400.0 mm |
FocalLength35efl | 400.0 mm (35 mm equivalent: 512.6 mm) |
Format | image/jpeg |
FOTO: KRISTER SØRBØ
FOV | 4.0 deg |
GreenHue | 0 |
GreenSaturation | 0 |
HasCrop | True |
HasSettings | True |
HighlightRecovery | 50 |
HueAdjustmentAqua | 0 |
HueAdjustmentBlue | 0 |
HueAdjustmentGreen | 0 |
HueAdjustmentMagenta | 0 |
HueAdjustmentOrange | 0 |
HueAdjustmentPurple | 0 |
HueAdjustmentRed | 0 |
HueAdjustmentYellow | 0 |
HyperfocalDistance | 2436.99 m |
ICCProfileName | Adobe RGB (1998) |
ImageHeight | 700 |
ImageNumber | 0 |
ImageSize | 908x700 |
ImageWidth | 908 |
ISO Speed: 2000
ISO | 2000 |
Lens | EF400mm f/2.8L IS USM |
LensInfo | 400mm f/? |
LightValue | 9.3 |
LuminanceAdjustmentAqua | 0 |
LuminanceAdjustmentBlue | 0 |
LuminanceAdjustmentGreen | 0 |
LuminanceAdjustmentMagenta | 0 |
LuminanceAdjustmentOrange | 0 |
LuminanceAdjustmentPurple | 0 |
LuminanceAdjustmentRed | 0 |
LuminanceAdjustmentYellow | 0 |
LuminanceSmoothing | 0 |
Make | Canon |
MaxApertureValue | 2.8 |
Megapixels | 0.636 |
Metering Mode: Pattern
MeteringMode | Multi-segment |
Model | Canon EOS-1D Mark III |
ModifyDate (1) | 2009:04:06 12:41:33+02:00 |
ModifyDate | 2009:04:06 12:41:33 |
Orientation | Horizontal (normal) |
Orientation: 0
ParametricDarks | 0 |
ParametricHighlights | 0 |
ParametricHighlightSplit | 75 |
ParametricLights | 0 |
ParametricMidtoneSplit | 50 |
ParametricShadows | 0 |
ParametricShadowSplit | 25 |
PostCropVignetteAmount | 0 |
ProfileDescription | Adobe RGB (1998) |
Rating | 0 |
RawFileName | StabakOdd009.CR2 |
RedHue | 0 |
RedSaturation | 0 |
Resolution: 180.000
Saturation | 0 |
SaturationAdjustmentAqua | 0 |
SaturationAdjustmentBlue | 0 |
SaturationAdjustmentGreen | 0 |
SaturationAdjustmentMagenta | 0 |
SaturationAdjustmentOrange | 0 |
SaturationAdjustmentPurple | 0 |
SaturationAdjustmentRed | 0 |
SaturationAdjustmentYellow | 0 |
ScaleFactor35efl | 1.3 |
SceneCaptureType | Standard |
SerialNumber | 533065 |
Shadows | 0 |
ShadowTint | 0 |
SharpenDetail | 25 |
SharpenEdgeMasking | 0 |
SharpenRadius | +1.0 |
Sharpness | 25 |
Shutter Speed: 1/1000 Sec
ShutterSpeed | 1/1600 |
ShutterSpeedValue | 1/1600 |
Software | Adobe Photoshop CS4 Macintosh |
Software: Adobe Photoshop CS4 Macintosh
SplitToningBalance | 0 |
SplitToningHighlightHue | 0 |
SplitToningHighlightSaturation | 0 |
SplitToningShadowHue | 0 |
SplitToningShadowSaturation | 0 |
Stabæk - Odd 3 - 3
Tint | +49 |
ToneCurve | 45, 0, 92, 111, 255, 255 |
ToneCurveName | Custom |
URL_List | |
Version | 5.2 |
Vibrance | 0 |
VignetteAmount | -50 |
VignetteMidpoint | 25 |
WhiteBalance (2) | As Shot |
WhiteBalance | Auto |
Zoom Length: 400 mm