Felt | Verdi |
AlreadyApplied | True |
Aperture | 5.6 |
ApertureValue | 5.6 |
Artist | Henrik Eidem Kurka |
BitsPerSample | 8 |
BlueHue | 0 |
BlueSaturation | 0 |
Brightness | +50 |
By-line | Henrik Eidem Kurka |
CameraProfile | ACR 2.4 |
ChromaticAberrationB | 0 |
ChromaticAberrationR | 0 |
CircleOfConfusion | 0.024 mm |
City | Hemsedal |
Clarity | +24 |
ColorComponents | 3 |
ColorNoiseReduction | 25 |
ColorTemperature | 5100 |
Contrast | +61 |
ConvertToGrayscale | False |
Country | Norge |
Country-PrimaryLocationName | Norge |
CreateDate (1) | 2007:04:07 17:51:05+02:00 |
CreateDate | 2007:04:07 17:51:05 |
Creator | Henrik Eidem Kurka |
CreatorTool | Adobe Photoshop Lightroom |
CropAngle | 0 |
CropBottom | 0.977211 |
CropHeight | 2102 |
CropLeft | 0 |
CropRight | 1 |
CropTop | 0.077211 |
CropUnit | pixels |
CropWidth | 3504 |
CustomRendered | Normal |
DateTimeDigitized | 2007:04:07 17:51:05+02:00 |
DateTimeOriginal (1) | 2007:04:07 17:51:05+02:00 |
DateTimeOriginal | 2007:04:07 17:51:05 |
Defringe | 0 |
ExifImageHeight | 2102 |
ExifImageWidth | 3504 |
Exposure | 0.00 |
ExposureCompensation | 0 |
ExposureMode | Auto |
ExposureProgram | Program AE |
ExposureTime | 1/800 |
FillLight | 0 |
Firmware | 1.2.4 |
Flash | Off, Did not fire |
FlashCompensation | 0 |
FlashFired | False |
FlashFunction | False |
FlashMode | Off |
FlashRedEyeMode | False |
FlashReturn | No return detection |
FNumber | 5.6 |
FocalLength | 200.0 mm |
FocalLength35efl | 200.0 mm (35 mm equivalent: 249.7 mm) |
FOV | 8.2 deg |
GPSAltitude (2) | 974.5 m |
GPSAltitude | 974.5 m Above Sea Level |
GPSAltitudeRef | Above Sea Level |
GPSDateStamp | 2007:04:07 |
GPSDateTime | 2007:04:07 14:51:05Z |
GPSLatitude (1) | 60 deg 53' 54.70" N |
GPSLatitude | |
GPSLatitudeRef | North |
GPSLongitude (1) | 8 deg 17' 24.08" E |
GPSLongitude | |
GPSLongitudeRef | East |
GPSTimeStamp | 14:51:05 |
GreenHue | 0 |
GreenSaturation | 0 |
HasCrop | True |
HasSettings | True |
Headline (1) | PŒske 2007 - Hemsedal |
Headline | Påske 2007 - Hemsedal |
HighlightRecovery | 0 |
HueAdjustmentAqua | 0 |
HueAdjustmentBlue | 0 |
HueAdjustmentGreen | 0 |
HueAdjustmentMagenta | 0 |
HueAdjustmentOrange | 0 |
HueAdjustmentPurple | 0 |
HueAdjustmentRed | 0 |
HueAdjustmentYellow | 0 |
HyperfocalDistance | 296.76 m |
ImageHeight | 2102 |
ImageNumber | 21041 |
ImageSize | 3504x2102 |
ImageWidth | 3504 |
ISO | 100 |
Keywords | Fjell, sn¿, vind |
Lens | 200.0 mm |
LensInfo | 200mm f/? |
LightValue | 14.6 |
LuminanceAdjustmentAqua | 0 |
LuminanceAdjustmentBlue | 0 |
LuminanceAdjustmentGreen | 0 |
LuminanceAdjustmentMagenta | 0 |
LuminanceAdjustmentOrange | 0 |
LuminanceAdjustmentPurple | 0 |
LuminanceAdjustmentRed | 0 |
LuminanceAdjustmentYellow | 0 |
LuminanceSmoothing | 0 |
Make | Canon |
MaxApertureValue | 2.8 |
Megapixels | 7.4 |
MeteringMode | Spot |
Model | Canon EOS-1D Mark II |
ModifyDate (1) | 2009:04:13 22:22:44+02:00 |
ModifyDate | 2009:04:13 22:22:44 |
OwnerName | Henrik Eidem Kurka |
ParametricDarks | 0 |
ParametricHighlights | 0 |
ParametricHighlightSplit | 75 |
ParametricLights | +58 |
ParametricMidtoneSplit | 50 |
ParametricShadows | 0 |
ParametricShadowSplit | 25 |
PostCropVignetteAmount | 0 |
ProfileDescription | sRGB IEC61966-2.1 |
Province-State | Buskerud |
Rating | 4 |
RedHue | 0 |
RedSaturation | 0 |
Saturation | -60 |
SaturationAdjustmentAqua | 0 |
SaturationAdjustmentBlue | 0 |
SaturationAdjustmentGreen | 0 |
SaturationAdjustmentMagenta | 0 |
SaturationAdjustmentOrange | 0 |
SaturationAdjustmentPurple | 0 |
SaturationAdjustmentRed | 0 |
SaturationAdjustmentYellow | 0 |
ScaleFactor35efl | 1.2 |
SceneCaptureType | Standard |
SerialNumber | 253766 |
Shadows | 21 |
ShadowTint | 0 |
SharpenDetail | 25 |
SharpenEdgeMasking | 0 |
SharpenRadius | +1.0 |
Sharpness | 25 |
ShutterSpeed | 1/800 |
ShutterSpeedValue | 1/800 |
SplitToningBalance | 0 |
SplitToningHighlightHue | 0 |
SplitToningHighlightSaturation | 0 |
SplitToningShadowHue | 0 |
SplitToningShadowSaturation | 0 |
State | Buskerud |
Subject | Fjell, snø, vind |
Tint | -2 |
ToneCurve | 0, 0, 32, 22, 64, 56, 128, 128, 192, 196, 255, 255 |
ToneCurveName | Medium Contrast |
Version | 5.3 |
Vibrance | 0 |
VignetteAmount | 0 |
WhiteBalance (2) | As Shot |
WhiteBalance | Manual |