Felt | Verdi |
AlreadyApplied | True |
Aperture | 32.0 |
ApertureValue | 32.0 |
Artist | Svein Johan Lindstad |
BitsPerSample | 8 |
BlueHue | 0 |
BlueSaturation | 0 |
Brightness | +50 |
By-line | Svein Johan Lindstad |
CameraProfile | ACR 4.4 |
ChromaticAberrationB | 0 |
ChromaticAberrationR | 0 |
CircleOfConfusion | 0.019 mm |
Clarity | +62 |
ColorComponents | 3 |
ColorMode | RGB |
ColorNoiseReduction | 25 |
ColorSpace | sRGB |
ColorTemperature | 6550 |
Contrast | +58 |
ConvertToGrayscale | False |
Copyright | Svein Johan Lindstad |
CopyrightFlag | False |
CopyrightNotice | Svein Johan Lindstad |
CreateDate (1) | 2009:09:20 11:13:02+02:00 |
CreateDate | 2009:09:19 15:58:39 |
Creator | Svein Johan Lindstad |
CreatorTool | Adobe Photoshop Elements 7.0 Windows |
CustomRendered | Normal |
DateTimeDigitized | 2009:09:19 15:58:39.21+02:00 |
DateTimeOriginal (1) | 2009:09:19 13:58:39Z |
DateTimeOriginal | 2009:09:19 13:58:39 |
Defringe | 0 |
ExifImageHeight | 1534 |
ExifImageWidth | 1078 |
Exposure | 0.00 |
ExposureCompensation | 0 |
ExposureMode | Manual |
ExposureProgram | Manual |
ExposureTime | 8 |
FillLight | 0 |
Firmware | 1.0.5 |
Flash | On, Fired |
FlashCompensation | 0 |
FlashFired | True |
FlashFunction | False |
FlashMode | On |
FlashRedEyeMode | False |
FlashReturn | No return detection |
FNumber | 32.0 |
FocalLength | 63.0 mm |
FocalLength35efl | 63.0 mm (35 mm equivalent: 102.0 mm) |
Format | image/jpeg |
FOV | 20.0 deg |
GreenHue | 0 |
GreenSaturation | 0 |
HasCrop | False |
HasSettings | True |
HighlightRecovery | 0 |
HueAdjustmentAqua | 0 |
HueAdjustmentBlue | 0 |
HueAdjustmentGreen | 0 |
HueAdjustmentMagenta | 0 |
HueAdjustmentOrange | 0 |
HueAdjustmentPurple | 0 |
HueAdjustmentRed | 0 |
HueAdjustmentYellow | 0 |
HyperfocalDistance | 6.68 m |
ICCProfileName | sRGB IEC61966-2.1 |
ImageHeight | 1534 |
ImageNumber | 0 |
ImageSize | 1078x1534 |
ImageWidth | 1078 |
ISO | 100 |
Keywords | Lars |
Lens | 18-200mm |
LensInfo | 18-200mm f/? |
LightValue | 7.0 |
LuminanceAdjustmentAqua | 0 |
LuminanceAdjustmentBlue | 0 |
LuminanceAdjustmentGreen | 0 |
LuminanceAdjustmentMagenta | 0 |
LuminanceAdjustmentOrange | 0 |
LuminanceAdjustmentPurple | 0 |
LuminanceAdjustmentRed | 0 |
LuminanceAdjustmentYellow | 0 |
LuminanceSmoothing | 0 |
Make | Canon |
MaxApertureValue | 5.2 |
Megapixels | 1.7 |
MeteringMode | Multi-segment |
Model | Canon EOS 40D |
ModifyDate (1) | 2009:09:20 11:13:02+02:00 |
ModifyDate | 2009:09:20 11:13:02 |
Orientation | Horizontal (normal) |
ParametricDarks | 0 |
ParametricHighlights | 0 |
ParametricHighlightSplit | 75 |
ParametricLights | 0 |
ParametricMidtoneSplit | 50 |
ParametricShadows | 0 |
ParametricShadowSplit | 25 |
PostCropVignetteAmount | 0 |
PreservedFileName | IMG_1100.CR2 |
ProfileDescription | sRGB IEC61966-2.1 |
Rating | 0 |
RawFileName | 2009 09 19_4011.CR2 |
RedHue | 0 |
RedSaturation | 0 |
Rights | Svein Johan Lindstad |
Saturation | +22 |
SaturationAdjustmentAqua | 0 |
SaturationAdjustmentBlue | 0 |
SaturationAdjustmentGreen | 0 |
SaturationAdjustmentMagenta | 0 |
SaturationAdjustmentOrange | 0 |
SaturationAdjustmentPurple | 0 |
SaturationAdjustmentRed | 0 |
SaturationAdjustmentYellow | 0 |
ScaleFactor35efl | 1.6 |
SceneCaptureType | Standard |
SerialNumber | 1130506892 |
Shadows | 24 |
ShadowTint | 0 |
SharpenDetail | 25 |
SharpenEdgeMasking | 0 |
SharpenRadius | +1.0 |
Sharpness | 25 |
ShutterSpeed | 8 |
ShutterSpeedValue | 8 |
SidecarForExtension | CR2 |
Software | Adobe Photoshop Elements 7.0 Windows |
SplitToningBalance | 0 |
SplitToningHighlightHue | 0 |
SplitToningHighlightSaturation | 0 |
SplitToningShadowHue | 0 |
SplitToningShadowSaturation | 0 |
Subject | Lars |
Tint | -6 |
ToneCurve | 0, 0, 32, 22, 64, 56, 128, 128, 192, 196, 255, 255 |
ToneCurveName | Medium Contrast |
URL_List | |
Version | 4.5 |
Vibrance | +22 |
VignetteAmount | 0 |
WhiteBalance (2) | As Shot |
WhiteBalance | Auto |