Felt | Verdi |
AlreadyApplied | True |
Aperture | 20.0 |
ApertureValue | 20.0 |
Artist | unknown |
BitsPerSample | 8 |
BlueHue | 0 |
BlueSaturation | 0 |
Brightness | +53 |
By-line | unknown |
CameraProfile | ACR 4.4 |
ChromaticAberrationB | 0 |
ChromaticAberrationR | 0 |
CircleOfConfusion | 0.019 mm |
Clarity | 0 |
ColorComponents | 3 |
ColorNoiseReduction | 25 |
ColorTemperature | 5500 |
Contrast | +81 |
ConvertToGrayscale | False |
Copyright | Ole-Petter Hoel |
CopyrightFlag | True |
CopyrightNotice | Ole-Petter Hoel |
CreateDate (1) | 2009:04:05 16:57:34+02:00 |
CreateDate | 2009:04:05 16:57:34 |
Creator | unknown |
CreatorTool | Adobe Photoshop Lightroom |
CustomRendered | Normal |
DateTimeDigitized | 2009:04:05 16:57:34+02:00 |
DateTimeOriginal (1) | 2009:04:05 16:57:34+02:00 |
DateTimeOriginal | 2009:04:05 16:57:34 |
Defringe | 0 |
ExifImageHeight | 667 |
ExifImageWidth | 1000 |
Exposure | +0.33 |
ExposureCompensation | 0 |
ExposureMode | Auto |
ExposureProgram | Shutter speed priority AE |
ExposureTime | 1/20 |
FillLight | 67 |
Firmware | 2.0.0 |
Flash | Off, Did not fire |
FlashCompensation | -0.333333333333333 |
FlashFired | False |
FlashFunction | False |
FlashMode | Off |
FlashRedEyeMode | False |
FlashReturn | No return detection |
FNumber | 20.0 |
FocalLength | 17.0 mm |
FocalLength35efl | 17.0 mm (35 mm equivalent: 27.2 mm) |
FOV | 66.9 deg |
GreenHue | 0 |
GreenSaturation | 0 |
HasCrop | False |
HasSettings | True |
HighlightRecovery | 20 |
HueAdjustmentAqua | 0 |
HueAdjustmentBlue | 0 |
HueAdjustmentGreen | 0 |
HueAdjustmentMagenta | 0 |
HueAdjustmentOrange | 0 |
HueAdjustmentPurple | 0 |
HueAdjustmentRed | 0 |
HueAdjustmentYellow | 0 |
HyperfocalDistance | 0.77 m |
ImageHeight | 667 |
ImageNumber | 5 |
ImageSize | 1000x667 |
ImageWidth | 1000 |
ISO | 100 |
Keywords | Romsdalen, Topptur |
Label | Blue |
Lens | 17.0-40.0 mm |
LensInfo | 17-40mm f/? |
LightValue | 13.0 |
LuminanceAdjustmentAqua | 0 |
LuminanceAdjustmentBlue | 0 |
LuminanceAdjustmentGreen | 0 |
LuminanceAdjustmentMagenta | 0 |
LuminanceAdjustmentOrange | 0 |
LuminanceAdjustmentPurple | 0 |
LuminanceAdjustmentRed | 0 |
LuminanceAdjustmentYellow | 0 |
LuminanceSmoothing | 0 |
Make | Canon |
Marked | True |
MaxApertureValue | 4.0 |
Megapixels | 0.667 |
MeteringMode | Multi-segment |
Model | Canon EOS 20D |
ModifyDate (1) | 2009:11:11 20:29:46+01:00 |
ModifyDate | 2009:11:11 20:29:46 |
OwnerName | unknown |
PaintCorrectionActive | true |
PaintCorrectionAmount | 1.000000 |
PaintCorrectionBrightness | 0.000000 |
PaintCorrectionClarity (1) | 1.000000 |
PaintCorrectionClarity | 0.000000 |
PaintCorrectionContrast | 0.000000 |
PaintCorrectionExposure (1) | 0.000000 |
PaintCorrectionExposure (2) | 0.333333 |
PaintCorrectionExposure (3) | -0.123793 |
PaintCorrectionExposure | 0.343333 |
PaintCorrectionHue | 231.000000 |
PaintCorrectionMaskCenterWeight (5) | 0.000000 |
PaintCorrectionMaskCenterWeight | 0.077122 |
PaintCorrectionMaskFlow (5) | 1.000000 |
PaintCorrectionMaskFlow | 0.601724 |
PaintCorrectionMaskRadius (5) | 0.072925 |
PaintCorrectionMaskRadius | 0.065888 |
PaintCorrectionMaskValue (1) | 0.333333 |
PaintCorrectionMaskValue (5) | 0.000000 |
PaintCorrectionMaskValue | 0.517241 |
PaintCorrectionMaskWhat | Mask/Paint |
PaintCorrectionSaturation | 0.000000 |
PaintCorrectionSharpness | 0.000000 |
PaintCorrectionWhat | Correction |
ParametricDarks | -2 |
ParametricHighlights | 0 |
ParametricHighlightSplit | 75 |
ParametricLights | +2 |
ParametricMidtoneSplit | 50 |
ParametricShadows | +8 |
ParametricShadowSplit | 14 |
PostCropVignetteAmount | 0 |
ProfileDescription | sRGB IEC61966-2.1 |
Rating | 1 |
RedHue | 0 |
RedSaturation | 0 |
Rights | Ole-Petter Hoel |
Saturation | -70 |
SaturationAdjustmentAqua | 0 |
SaturationAdjustmentBlue | 0 |
SaturationAdjustmentGreen | 0 |
SaturationAdjustmentMagenta | 0 |
SaturationAdjustmentOrange | 0 |
SaturationAdjustmentPurple | 0 |
SaturationAdjustmentRed | 0 |
SaturationAdjustmentYellow | 0 |
ScaleFactor35efl | 1.6 |
SceneCaptureType | Standard |
SerialNumber | 1230607349 |
Shadows | 50 |
ShadowTint | 0 |
SharpenDetail | 25 |
SharpenEdgeMasking | 0 |
SharpenRadius | +1.0 |
Sharpness | 25 |
ShutterSpeed | 1/20 |
ShutterSpeedValue | 1/20 |
SplitToningBalance | +53 |
SplitToningHighlightHue | 55 |
SplitToningHighlightSaturation | 31 |
SplitToningShadowHue | 55 |
SplitToningShadowSaturation | 0 |
Subject | Romsdalen, Topptur |
Tint | +12 |
ToneCurve | 0, 0, 32, 22, 64, 56, 128, 128, 192, 196, 255, 255 |
ToneCurveName | Medium Contrast |
Version | 5.5 |
Vibrance | +40 |
VignetteAmount | -44 |
VignetteMidpoint | 20 |
WhiteBalance (2) | As Shot |
WhiteBalance | Auto |