Felt | Verdi |
AlreadyApplied | True |
Aperture | 2.8 |
ApertureValue | 2.8 |
BitsPerSample | 8 |
BlueHue | 0 |
BlueSaturation | +35 |
Brightness | +50 |
CameraProfile | ACR 4.4 |
ChromaticAberrationB | 0 |
ChromaticAberrationR | 0 |
CircleOfConfusion | 0.023 mm |
Clarity | 0 |
ColorComponents | 3 |
ColorMode | RGB |
ColorNoiseReduction | 25 |
ColorSpace | Uncalibrated |
ColorTemperature | 4750 |
Contrast | +43 |
ConvertToGrayscale | False |
CreateDate (1) | 2009:07:07 22:22:34.00+02:00 |
CreateDate | 2009:07:07 22:22:34 |
CropAngle | 3.493372 |
CropBottom | 1 |
CropLeft | 0.060586 |
CropRight | 0.939414 |
CropTop | 0 |
CustomRendered | Normal |
DateTimeDigitized | 2009:07:07 22:22:34.00+02:00 |
DateTimeOriginal (1) | 2009:07:07 22:22:34.00+02:00 |
DateTimeOriginal | 2009:07:07 22:22:34 |
Defringe | 0 |
ExifImageHeight | 1419 |
ExifImageWidth | 2920 |
Exposure | -1.45 |
ExposureCompensation | +1 |
ExposureMode | Auto |
ExposureProgram | Aperture-priority AE |
ExposureTime | 1/2000 |
FillLight | 0 |
Firmware | 1.1.3 |
Flash | No Flash |
FlashCompensation | 0 |
FlashFired | False |
FlashFunction | False |
FlashMode | Unknown |
FlashRedEyeMode | False |
FlashReturn | No return detection |
FNumber | 2.8 |
FocalLength | 200.0 mm |
FocalLength35efl | 200.0 mm (35 mm equivalent: 256.3 mm) |
Format | image/jpeg |
FOV | 8.0 deg |
GreenHue | 0 |
GreenSaturation | +48 |
HasCrop | True |
HasSettings | True |
HighlightRecovery | 0 |
HueAdjustmentAqua | 0 |
HueAdjustmentBlue | 0 |
HueAdjustmentGreen | 0 |
HueAdjustmentMagenta | 0 |
HueAdjustmentOrange | 0 |
HueAdjustmentPurple | 0 |
HueAdjustmentRed | 0 |
HueAdjustmentYellow | 0 |
HyperfocalDistance | 609.25 m |
ICCProfileName | Adobe RGB (1998) |
ImageHeight | 1419 |
ImageNumber | 0 |
ImageSize | 2920x1419 |
ImageWidth | 2920 |
ISO | 800 |
Lens | EF70-200mm f/2.8L IS USM |
LensInfo | 70-200mm f/? |
LightValue | 10.9 |
LuminanceAdjustmentAqua | 0 |
LuminanceAdjustmentBlue | 0 |
LuminanceAdjustmentGreen | 0 |
LuminanceAdjustmentMagenta | 0 |
LuminanceAdjustmentOrange | 0 |
LuminanceAdjustmentPurple | 0 |
LuminanceAdjustmentRed | 0 |
LuminanceAdjustmentYellow | 0 |
LuminanceSmoothing | 0 |
Make | Canon |
MaxApertureValue | 2.8 |
Megapixels | 4.1 |
MeteringMode | Multi-segment |
Model | Canon EOS-1D Mark III |
ModifyDate (1) | 2010:02:27 22:32:35+01:00 |
ModifyDate | 2010:02:27 22:32:35 |
Orientation | Horizontal (normal) |
ParametricDarks | -57 |
ParametricHighlights | +5 |
ParametricHighlightSplit | 75 |
ParametricLights | +36 |
ParametricMidtoneSplit | 50 |
ParametricShadows | +18 |
ParametricShadowSplit | 25 |
PostCropVignetteAmount | 0 |
ProfileDescription | Adobe RGB (1998) |
Rating | 0 |
RawFileName | 4Q7A9132.CR2 |
RedHue | 0 |
RedSaturation | +52 |
Saturation | 0 |
SaturationAdjustmentAqua | 0 |
SaturationAdjustmentBlue | 0 |
SaturationAdjustmentGreen | 0 |
SaturationAdjustmentMagenta | 0 |
SaturationAdjustmentOrange | 0 |
SaturationAdjustmentPurple | 0 |
SaturationAdjustmentRed | 0 |
SaturationAdjustmentYellow | 0 |
ScaleFactor35efl | 1.3 |
SceneCaptureType | Standard |
SerialNumber | 531947 |
Shadows | 32 |
ShadowTint | 0 |
SharpenDetail | 25 |
SharpenEdgeMasking | 0 |
SharpenRadius | +1.0 |
Sharpness | 25 |
ShutterSpeed | 1/2000 |
ShutterSpeedValue | 1/2000 |
SidecarForExtension | CR2 |
Software | Adobe Photoshop CS4 Macintosh |
SplitToningBalance | 0 |
SplitToningHighlightHue | 0 |
SplitToningHighlightSaturation | 0 |
SplitToningShadowHue | 0 |
SplitToningShadowSaturation | 0 |
Tint | +18 |
ToneCurve | 0, 0, 32, 22, 64, 56, 128, 128, 192, 196, 255, 255 |
ToneCurveName | Medium Contrast |
URL_List | |
Version | 5.0 |
Vibrance | 0 |
VignetteAmount | 0 |
WhiteBalance (2) | As Shot |
WhiteBalance | Auto |