Felt | Verdi |
AlreadyApplied | True |
Aperture | 9.0 |
ApertureValue | 9.0 |
BitsPerSample | 8 |
BlueHue | 0 |
BlueSaturation | 0 |
Brightness | +50 |
CameraProfile | Adobe Standard |
ChromaticAberrationB | 0 |
ChromaticAberrationR | 0 |
CircleOfConfusion | 0.031 mm |
Clarity | +19 |
ColorComponents | 1 |
ColorNoiseReduction | 25 |
ColorTemperature | 5400 |
Contrast | +59 |
ConvertToGrayscale | True |
CreateDate (1) | 2010:05:07 08:50:05.29+02:00 |
CreateDate | 2010:05:07 08:50:05 |
CreatorTool | Adobe Photoshop Lightroom |
CropAngle | 2.74368 |
CropBottom | 0.990954 |
CropHeight | 720 |
CropLeft | 0.044046 |
CropRight | 0.930836 |
CropTop | 0.009046 |
CropUnit | pixels |
CropWidth | 1080 |
CustomRendered | Normal |
DateTimeDigitized | 2010:05:07 08:50:05.29+02:00 |
DateTimeOriginal (1) | 2010:05:07 08:50:05.29+02:00 |
DateTimeOriginal | 2010:05:07 08:50:05 |
Defringe | 0 |
ExifImageHeight | 720 |
ExifImageWidth | 1080 |
Exposure | +0.26 |
ExposureCompensation | +2/3 |
ExposureMode | Auto |
ExposureProgram | Aperture-priority AE |
ExposureTime | 1/500 |
FillLight | 12 |
Firmware | 1.1.0 |
Flash | Off, Did not fire |
FlashCompensation | 0 |
FlashFired | False |
FlashFunction | False |
FlashMode | Off |
FlashRedEyeMode | False |
FlashReturn | No return detection |
FNumber | 9.0 |
FocalLength | 105.0 mm |
FocalLength35efl | 105.0 mm (35 mm equivalent: 102.5 mm) |
FOV | 19.9 deg |
GrayMixerAqua | -18 |
GrayMixerBlue | +9 |
GrayMixerGreen | -27 |
GrayMixerMagenta | +4 |
GrayMixerOrange | -19 |
GrayMixerPurple | +15 |
GrayMixerRed | -10 |
GrayMixerYellow | -23 |
GreenHue | 0 |
GreenSaturation | 0 |
HasCrop | True |
HasSettings | True |
HighlightRecovery | 0 |
HyperfocalDistance | 39.79 m |
ImageHeight | 720 |
ImageNumber | 0 |
ImageSize | 1080x720 |
ImageWidth | 1080 |
ISO | 100 |
Keywords | Alpene, Haute Route, Ski |
Lens | EF24-105mm f/4L IS USM |
LensInfo | 24-105mm f/? |
LightValue | 15.3 |
LuminanceSmoothing | 0 |
Make | Canon |
MaxApertureValue | 4.0 |
Megapixels | 0.778 |
MeteringMode | Multi-segment |
Model | Canon EOS 5D Mark II |
ModifyDate (1) | 2010:05:13 19:40:51+02:00 |
ModifyDate | 2010:05:13 19:40:51 |
ParametricDarks | +8 |
ParametricHighlights | +11 |
ParametricHighlightSplit | 75 |
ParametricLights | -17 |
ParametricMidtoneSplit | 50 |
ParametricShadows | 0 |
ParametricShadowSplit | 25 |
PostCropVignetteAmount | 0 |
ProfileDescription | sRGB IEC61966-2.1 |
Rating | 4 |
RedHue | 0 |
RedSaturation | 0 |
ScaleFactor35efl | 1.0 |
SceneCaptureType | Standard |
SerialNumber | 1430911017 |
Shadows | 5 |
ShadowTint | 0 |
SharpenDetail | 25 |
SharpenEdgeMasking | 0 |
SharpenRadius | +1.0 |
Sharpness | 41 |
ShutterSpeed | 1/500 |
ShutterSpeedValue | 1/500 |
SplitToningBalance | 0 |
SplitToningHighlightHue | 0 |
SplitToningHighlightSaturation | 0 |
SplitToningShadowHue | 0 |
SplitToningShadowSaturation | 0 |
Subject | Alpene, Haute Route, Ski |
Tint | +7 |
ToneCurve | 0, 0, 32, 22, 64, 56, 128, 128, 192, 196, 255, 255 |
ToneCurveName | Medium Contrast |
Version | 5.5 |
VignetteAmount | 0 |
WhiteBalance (2) | As Shot |
WhiteBalance | Auto |