Felt | Verdi |
AlreadyApplied | True |
Aperture | 11.0 |
ApertureValue | 11.0 |
Artist | KENNETH SOLFJELD |
BitsPerSample | 8 |
BlueHue | 0 |
BlueSaturation | 0 |
Brightness | +50 |
By-line | KENNETH SOLFJELD |
CameraProfile | Adobe Standard |
CFAPattern | [Red,Green][Green,Blue] |
ChromaticAberrationB | 0 |
ChromaticAberrationR | 0 |
CircleOfConfusion | 0.020 mm |
Clarity | +20 |
ColorComponents | 3 |
ColorMode | RGB |
ColorNoiseReduction | 25 |
ColorNoiseReductionDetail | 50 |
ColorSpace | sRGB |
ColorTemperature | 4050 |
Contrast (1) | +35 |
Contrast | Normal |
ConvertToGrayscale | False |
Copyright | KENNETH SOLFJELD |
CopyrightNotice | KENNETH SOLFJELD |
CreateDate (1) | 2010:05:15 22:30:18.15+02:00 |
CreateDate | 2010:05:15 22:30:18 |
Creator | KENNETH SOLFJELD |
CreatorTool | Adobe Photoshop CS5 Windows |
CustomRendered | Normal |
DateCreated (1) | 2010:05:15 |
DateCreated | 2010:05:15 22:30:18.015 |
DateTimeOriginal | 2010:05:15 22:30:18 |
Defringe | 0 |
DigitalZoomRatio | 1 |
DOF | inf (0.65 m - inf) |
ExifImageHeight | 651 |
ExifImageWidth | 1024 |
Exposure | -0.45 |
ExposureCompensation | 0 |
ExposureMode | Manual |
ExposureProgram | Manual |
ExposureTime | 2 |
FillLight | 13 |
Flash | No Flash |
FNumber | 11.0 |
FocalLength | 12.0 mm |
FocalLength35efl | 12.0 mm (35 mm equivalent: 18.0 mm) |
FocalLengthIn35mmFormat | 18 mm |
Format | image/jpeg |
FOV | 90.0 deg |
GainControl | None |
GrainAmount | 0 |
GreenHue | 0 |
GreenSaturation | 0 |
HasCrop | False |
HasSettings | True |
HighlightRecovery | 0 |
HueAdjustmentAqua | 0 |
HueAdjustmentBlue | 0 |
HueAdjustmentGreen | 0 |
HueAdjustmentMagenta | 0 |
HueAdjustmentOrange | 0 |
HueAdjustmentPurple | 0 |
HueAdjustmentRed | 0 |
HueAdjustmentYellow | 0 |
HyperfocalDistance | 0.65 m |
ICCProfileName | sRGB IEC61966-2.1 |
ImageHeight | 651 |
ImageNumber | 26349 |
ImageSize | 1024x651 |
ImageWidth | 1024 |
ISO | 100 |
Lens | 10.0-20.0 mm f/4.0-5.6 |
LensID (1) | 249 |
LensID | Sigma 10-20mm F4-5.6 EX DC HSM |
LensInfo | 10-20mm f/4-5.6 |
LightSource | Unknown |
LightValue | 5.9 |
LuminanceAdjustmentAqua | 0 |
LuminanceAdjustmentBlue | 0 |
LuminanceAdjustmentGreen | 0 |
LuminanceAdjustmentMagenta | 0 |
LuminanceAdjustmentOrange | 0 |
LuminanceAdjustmentPurple | 0 |
LuminanceAdjustmentRed | 0 |
LuminanceAdjustmentYellow | 0 |
LuminanceSmoothing | 0 |
Make | NIKON CORPORATION |
MaxApertureValue | 4.4 |
Megapixels | 0.667 |
MeteringMode | Spot |
Model | NIKON D300 |
ModifyDate (1) | 2010:05:18 02:18:31+02:00 |
ModifyDate | 2010:05:18 02:18:31 |
Orientation | Horizontal (normal) |
ParametricDarks | 0 |
ParametricHighlights | 0 |
ParametricHighlightSplit | 75 |
ParametricLights | 0 |
ParametricMidtoneSplit | 50 |
ParametricShadows | 0 |
ParametricShadowSplit | 25 |
PostCropVignetteAmount | 0 |
ProcessVersion | 5.7 |
ProfileDescription | sRGB IEC61966-2.1 |
Rating | 0 |
RatingPercent | 0 |
RawFileName | _DSC6046.NEF |
RedHue | 0 |
RedSaturation | 0 |
Rights | KENNETH SOLFJELD |
Saturation (1) | +14 |
Saturation | Normal |
SaturationAdjustmentAqua | 0 |
SaturationAdjustmentBlue | 0 |
SaturationAdjustmentGreen | 0 |
SaturationAdjustmentMagenta | 0 |
SaturationAdjustmentOrange | +20 |
SaturationAdjustmentPurple | 0 |
SaturationAdjustmentRed | +20 |
SaturationAdjustmentYellow | +18 |
ScaleFactor35efl | 1.5 |
SceneCaptureType | Standard |
SceneType | Directly photographed |
SensingMethod | One-chip color area |
SerialNumber | 4056106 |
Shadows | 5 |
ShadowTint | 0 |
SharpenDetail | 0 |
SharpenEdgeMasking | 0 |
SharpenRadius | +0.5 |
Sharpness (1) | 1 |
Sharpness | Soft |
ShutterSpeed | 2 |
ShutterSpeedValue | 2 |
SidecarForExtension | NEF |
Software | Adobe Photoshop CS5 Windows |
SplitToningBalance | 0 |
SplitToningHighlightHue | 0 |
SplitToningHighlightSaturation | 0 |
SplitToningShadowHue | 0 |
SplitToningShadowSaturation | 0 |
SubjectDistance | 4294967295 m |
SubjectDistanceRange | Unknown |
Tint | -22 |
ToneCurve | 0, 0, 32, 22, 64, 56, 128, 133, 190, 198, 255, 255 |
ToneCurveName | Custom |
URL_List | |
Version | 6.0 |
Vibrance | +8 |
VignetteAmount | 0 |
WhiteBalance (1) | Custom |
WhiteBalance | Auto |